BEGIN:VCALENDAR
PRODID:http://www.kufer.de/kuferweb / DE
VERSION:2.0
METHOD:PUBLISH
CALSCALE:GREGORIAN
X-WR-TIMEZONE:Europe/Berlin
BEGIN:VTIMEZONE
TZID:Europe/Berlin
X-LIC-LOCATION:Europe/Berlin
BEGIN:DAYLIGHT
TZOFFSETFROM:+0100
TZOFFSETTO:+0200
TZNAME:CEST
DTSTART;TZID=Europe/Berlin:19700329T020000
RRULE:FREQ=YEARLY;INTERVAL=1;BYDAY=-1SU;BYMONTH=3
END:DAYLIGHT
BEGIN:STANDARD
TZOFFSETFROM:+0200
TZOFFSETTO:+0100
TZNAME:CET
DTSTART;TZID=Europe/Berlin:19701025T030000
RRULE:FREQ=YEARLY;INTERVAL=1;BYDAY=-1SU;BYMONTH=10
END:STANDARD
END:VTIMEZONE
BEGIN:VEVENT
DTSTAMP:20260422T003020
DTSTART;TZID=Europe/Berlin:20260202T103000
DTEND;TZID=Europe/Berlin:20260202T120000
UID:261MZ7506-20260202T103000@VHSDUISBURG
SUMMARY:Englisch - B1 - Conversation (261MZ7506) 
LOCATION:VHS im Stadtfenster;Raum415, Steinsche Gasse 26, 47051 Duisburg
END:VEVENT
BEGIN:VEVENT
DTSTAMP:20260422T003020
DTSTART;TZID=Europe/Berlin:20260209T103000
DTEND;TZID=Europe/Berlin:20260209T120000
UID:261MZ7506-20260209T103000@VHSDUISBURG
SUMMARY:Englisch - B1 - Conversation (261MZ7506) 
LOCATION:VHS im Stadtfenster;Raum413, Steinsche Gasse 26, 47051 Duisburg
END:VEVENT
BEGIN:VEVENT
DTSTAMP:20260422T003020
DTSTART;TZID=Europe/Berlin:20260223T103000
DTEND;TZID=Europe/Berlin:20260223T120000
UID:261MZ7506-20260223T103000@VHSDUISBURG
SUMMARY:Englisch - B1 - Conversation (261MZ7506) 
LOCATION:VHS im Stadtfenster;Raum413, Steinsche Gasse 26, 47051 Duisburg
END:VEVENT
BEGIN:VEVENT
DTSTAMP:20260422T003020
DTSTART;TZID=Europe/Berlin:20260302T103000
DTEND;TZID=Europe/Berlin:20260302T120000
UID:261MZ7506-20260302T103000@VHSDUISBURG
SUMMARY:Englisch - B1 - Conversation (261MZ7506) 
LOCATION:VHS im Stadtfenster;Raum413, Steinsche Gasse 26, 47051 Duisburg
END:VEVENT
BEGIN:VEVENT
DTSTAMP:20260422T003020
DTSTART;TZID=Europe/Berlin:20260309T103000
DTEND;TZID=Europe/Berlin:20260309T120000
UID:261MZ7506-20260309T103000@VHSDUISBURG
SUMMARY:Englisch - B1 - Conversation (261MZ7506) 
LOCATION:VHS im Stadtfenster;Raum413, Steinsche Gasse 26, 47051 Duisburg
END:VEVENT
BEGIN:VEVENT
DTSTAMP:20260422T003020
DTSTART;TZID=Europe/Berlin:20260316T103000
DTEND;TZID=Europe/Berlin:20260316T120000
UID:261MZ7506-20260316T103000@VHSDUISBURG
SUMMARY:Englisch - B1 - Conversation (261MZ7506) 
LOCATION:VHS im Stadtfenster;Raum413, Steinsche Gasse 26, 47051 Duisburg
END:VEVENT
BEGIN:VEVENT
DTSTAMP:20260422T003020
DTSTART;TZID=Europe/Berlin:20260323T103000
DTEND;TZID=Europe/Berlin:20260323T120000
UID:261MZ7506-20260323T103000@VHSDUISBURG
SUMMARY:Englisch - B1 - Conversation (261MZ7506) 
LOCATION:VHS im Stadtfenster;Raum413, Steinsche Gasse 26, 47051 Duisburg
END:VEVENT
BEGIN:VEVENT
DTSTAMP:20260422T003020
DTSTART;TZID=Europe/Berlin:20260413T103000
DTEND;TZID=Europe/Berlin:20260413T120000
UID:261MZ7506-20260413T103000@VHSDUISBURG
SUMMARY:Englisch - B1 - Conversation (261MZ7506) 
LOCATION:VHS im Stadtfenster;Raum413, Steinsche Gasse 26, 47051 Duisburg
END:VEVENT
BEGIN:VEVENT
DTSTAMP:20260422T003020
DTSTART;TZID=Europe/Berlin:20260420T103000
DTEND;TZID=Europe/Berlin:20260420T120000
UID:261MZ7506-20260420T103000@VHSDUISBURG
SUMMARY:Englisch - B1 - Conversation (261MZ7506) 
LOCATION:VHS im Stadtfenster;Raum413, Steinsche Gasse 26, 47051 Duisburg
END:VEVENT
BEGIN:VEVENT
DTSTAMP:20260422T003020
DTSTART;TZID=Europe/Berlin:20260427T103000
DTEND;TZID=Europe/Berlin:20260427T120000
UID:261MZ7506-20260427T103000@VHSDUISBURG
SUMMARY:Englisch - B1 - Conversation (261MZ7506) 
LOCATION:VHS im Stadtfenster;Raum413, Steinsche Gasse 26, 47051 Duisburg
END:VEVENT
BEGIN:VEVENT
DTSTAMP:20260422T003020
DTSTART;TZID=Europe/Berlin:20260504T103000
DTEND;TZID=Europe/Berlin:20260504T120000
UID:261MZ7506-20260504T103000@VHSDUISBURG
SUMMARY:Englisch - B1 - Conversation (261MZ7506) 
LOCATION:VHS im Stadtfenster;Raum413, Steinsche Gasse 26, 47051 Duisburg
END:VEVENT
BEGIN:VEVENT
DTSTAMP:20260422T003020
DTSTART;TZID=Europe/Berlin:20260511T103000
DTEND;TZID=Europe/Berlin:20260511T120000
UID:261MZ7506-20260511T103000@VHSDUISBURG
SUMMARY:Englisch - B1 - Conversation (261MZ7506) 
LOCATION:VHS im Stadtfenster;Raum413, Steinsche Gasse 26, 47051 Duisburg
END:VEVENT
BEGIN:VEVENT
DTSTAMP:20260422T003020
DTSTART;TZID=Europe/Berlin:20260518T103000
DTEND;TZID=Europe/Berlin:20260518T120000
UID:261MZ7506-20260518T103000@VHSDUISBURG
SUMMARY:Englisch - B1 - Conversation (261MZ7506) 
LOCATION:VHS im Stadtfenster;Raum413, Steinsche Gasse 26, 47051 Duisburg
END:VEVENT
END:VCALENDAR