BEGIN:VCALENDAR
PRODID:http://www.kufer.de/kuferweb / DE
VERSION:2.0
METHOD:PUBLISH
CALSCALE:GREGORIAN
X-WR-TIMEZONE:Europe/Berlin
BEGIN:VTIMEZONE
TZID:Europe/Berlin
X-LIC-LOCATION:Europe/Berlin
BEGIN:DAYLIGHT
TZOFFSETFROM:+0100
TZOFFSETTO:+0200
TZNAME:CEST
DTSTART;TZID=Europe/Berlin:19700329T020000
RRULE:FREQ=YEARLY;INTERVAL=1;BYDAY=-1SU;BYMONTH=3
END:DAYLIGHT
BEGIN:STANDARD
TZOFFSETFROM:+0200
TZOFFSETTO:+0100
TZNAME:CET
DTSTART;TZID=Europe/Berlin:19701025T030000
RRULE:FREQ=YEARLY;INTERVAL=1;BYDAY=-1SU;BYMONTH=10
END:STANDARD
END:VTIMEZONE
BEGIN:VEVENT
DTSTAMP:20260421T095843
DTSTART;TZID=Europe/Berlin:20260202T180000
DTEND;TZID=Europe/Berlin:20260202T193000
UID:261MZ7132-20260202T180000@VHSDUISBURG
SUMMARY:Englisch - C1 - English Studies - 1. Semester ab Lektion 1 (261MZ7132) 
LOCATION:VHS im Stadtfenster;Raum412, Steinsche Gasse 26, 47051 Duisburg
END:VEVENT
BEGIN:VEVENT
DTSTAMP:20260421T095843
DTSTART;TZID=Europe/Berlin:20260204T180000
DTEND;TZID=Europe/Berlin:20260204T193000
UID:261MZ7132-20260204T180000@VHSDUISBURG
SUMMARY:Englisch - C1 - English Studies - 1. Semester ab Lektion 1 (261MZ7132) 
LOCATION:VHS im Stadtfenster;Raum412, Steinsche Gasse 26, 47051 Duisburg
END:VEVENT
BEGIN:VEVENT
DTSTAMP:20260421T095843
DTSTART;TZID=Europe/Berlin:20260209T180000
DTEND;TZID=Europe/Berlin:20260209T193000
UID:261MZ7132-20260209T180000@VHSDUISBURG
SUMMARY:Englisch - C1 - English Studies - 1. Semester ab Lektion 1 (261MZ7132) 
LOCATION:VHS im Stadtfenster;Raum412, Steinsche Gasse 26, 47051 Duisburg
END:VEVENT
BEGIN:VEVENT
DTSTAMP:20260421T095843
DTSTART;TZID=Europe/Berlin:20260211T180000
DTEND;TZID=Europe/Berlin:20260211T193000
UID:261MZ7132-20260211T180000@VHSDUISBURG
SUMMARY:Englisch - C1 - English Studies - 1. Semester ab Lektion 1 (261MZ7132) 
LOCATION:VHS im Stadtfenster;Raum412, Steinsche Gasse 26, 47051 Duisburg
END:VEVENT
BEGIN:VEVENT
DTSTAMP:20260421T095843
DTSTART;TZID=Europe/Berlin:20260218T180000
DTEND;TZID=Europe/Berlin:20260218T193000
UID:261MZ7132-20260218T180000@VHSDUISBURG
SUMMARY:Englisch - C1 - English Studies - 1. Semester ab Lektion 1 (261MZ7132) 
LOCATION:VHS im Stadtfenster;Raum412, Steinsche Gasse 26, 47051 Duisburg
END:VEVENT
BEGIN:VEVENT
DTSTAMP:20260421T095843
DTSTART;TZID=Europe/Berlin:20260223T180000
DTEND;TZID=Europe/Berlin:20260223T193000
UID:261MZ7132-20260223T180000@VHSDUISBURG
SUMMARY:Englisch - C1 - English Studies - 1. Semester ab Lektion 1 (261MZ7132) 
LOCATION:VHS im Stadtfenster;Raum412, Steinsche Gasse 26, 47051 Duisburg
END:VEVENT
BEGIN:VEVENT
DTSTAMP:20260421T095843
DTSTART;TZID=Europe/Berlin:20260225T180000
DTEND;TZID=Europe/Berlin:20260225T193000
UID:261MZ7132-20260225T180000@VHSDUISBURG
SUMMARY:Englisch - C1 - English Studies - 1. Semester ab Lektion 1 (261MZ7132) 
LOCATION:VHS im Stadtfenster;Raum412, Steinsche Gasse 26, 47051 Duisburg
END:VEVENT
BEGIN:VEVENT
DTSTAMP:20260421T095843
DTSTART;TZID=Europe/Berlin:20260302T180000
DTEND;TZID=Europe/Berlin:20260302T193000
UID:261MZ7132-20260302T180000@VHSDUISBURG
SUMMARY:Englisch - C1 - English Studies - 1. Semester ab Lektion 1 (261MZ7132) 
LOCATION:VHS im Stadtfenster;Raum412, Steinsche Gasse 26, 47051 Duisburg
END:VEVENT
BEGIN:VEVENT
DTSTAMP:20260421T095843
DTSTART;TZID=Europe/Berlin:20260304T180000
DTEND;TZID=Europe/Berlin:20260304T193000
UID:261MZ7132-20260304T180000@VHSDUISBURG
SUMMARY:Englisch - C1 - English Studies - 1. Semester ab Lektion 1 (261MZ7132) 
LOCATION:VHS im Stadtfenster;Raum412, Steinsche Gasse 26, 47051 Duisburg
END:VEVENT
BEGIN:VEVENT
DTSTAMP:20260421T095843
DTSTART;TZID=Europe/Berlin:20260309T180000
DTEND;TZID=Europe/Berlin:20260309T193000
UID:261MZ7132-20260309T180000@VHSDUISBURG
SUMMARY:Englisch - C1 - English Studies - 1. Semester ab Lektion 1 (261MZ7132) 
LOCATION:VHS im Stadtfenster;Raum412, Steinsche Gasse 26, 47051 Duisburg
END:VEVENT
BEGIN:VEVENT
DTSTAMP:20260421T095843
DTSTART;TZID=Europe/Berlin:20260311T180000
DTEND;TZID=Europe/Berlin:20260311T193000
UID:261MZ7132-20260311T180000@VHSDUISBURG
SUMMARY:Englisch - C1 - English Studies - 1. Semester ab Lektion 1 (261MZ7132) 
LOCATION:VHS im Stadtfenster;Raum412, Steinsche Gasse 26, 47051 Duisburg
END:VEVENT
BEGIN:VEVENT
DTSTAMP:20260421T095843
DTSTART;TZID=Europe/Berlin:20260316T180000
DTEND;TZID=Europe/Berlin:20260316T193000
UID:261MZ7132-20260316T180000@VHSDUISBURG
SUMMARY:Englisch - C1 - English Studies - 1. Semester ab Lektion 1 (261MZ7132) 
LOCATION:VHS im Stadtfenster;Raum412, Steinsche Gasse 26, 47051 Duisburg
END:VEVENT
BEGIN:VEVENT
DTSTAMP:20260421T095843
DTSTART;TZID=Europe/Berlin:20260318T180000
DTEND;TZID=Europe/Berlin:20260318T193000
UID:261MZ7132-20260318T180000@VHSDUISBURG
SUMMARY:Englisch - C1 - English Studies - 1. Semester ab Lektion 1 (261MZ7132) 
LOCATION:VHS im Stadtfenster;Raum412, Steinsche Gasse 26, 47051 Duisburg
END:VEVENT
BEGIN:VEVENT
DTSTAMP:20260421T095843
DTSTART;TZID=Europe/Berlin:20260323T180000
DTEND;TZID=Europe/Berlin:20260323T193000
UID:261MZ7132-20260323T180000@VHSDUISBURG
SUMMARY:Englisch - C1 - English Studies - 1. Semester ab Lektion 1 (261MZ7132) 
LOCATION:VHS im Stadtfenster;Raum412, Steinsche Gasse 26, 47051 Duisburg
END:VEVENT
BEGIN:VEVENT
DTSTAMP:20260421T095843
DTSTART;TZID=Europe/Berlin:20260325T180000
DTEND;TZID=Europe/Berlin:20260325T193000
UID:261MZ7132-20260325T180000@VHSDUISBURG
SUMMARY:Englisch - C1 - English Studies - 1. Semester ab Lektion 1 (261MZ7132) 
LOCATION:VHS im Stadtfenster;Raum412, Steinsche Gasse 26, 47051 Duisburg
END:VEVENT
BEGIN:VEVENT
DTSTAMP:20260421T095843
DTSTART;TZID=Europe/Berlin:20260413T180000
DTEND;TZID=Europe/Berlin:20260413T193000
UID:261MZ7132-20260413T180000@VHSDUISBURG
SUMMARY:Englisch - C1 - English Studies - 1. Semester ab Lektion 1 (261MZ7132) 
LOCATION:VHS im Stadtfenster;Raum412, Steinsche Gasse 26, 47051 Duisburg
END:VEVENT
BEGIN:VEVENT
DTSTAMP:20260421T095843
DTSTART;TZID=Europe/Berlin:20260415T180000
DTEND;TZID=Europe/Berlin:20260415T193000
UID:261MZ7132-20260415T180000@VHSDUISBURG
SUMMARY:Englisch - C1 - English Studies - 1. Semester ab Lektion 1 (261MZ7132) 
LOCATION:VHS im Stadtfenster;Raum412, Steinsche Gasse 26, 47051 Duisburg
END:VEVENT
BEGIN:VEVENT
DTSTAMP:20260421T095843
DTSTART;TZID=Europe/Berlin:20260420T180000
DTEND;TZID=Europe/Berlin:20260420T193000
UID:261MZ7132-20260420T180000@VHSDUISBURG
SUMMARY:Englisch - C1 - English Studies - 1. Semester ab Lektion 1 (261MZ7132) 
LOCATION:VHS im Stadtfenster;Raum412, Steinsche Gasse 26, 47051 Duisburg
END:VEVENT
BEGIN:VEVENT
DTSTAMP:20260421T095843
DTSTART;TZID=Europe/Berlin:20260422T180000
DTEND;TZID=Europe/Berlin:20260422T193000
UID:261MZ7132-20260422T180000@VHSDUISBURG
SUMMARY:Englisch - C1 - English Studies - 1. Semester ab Lektion 1 (261MZ7132) 
LOCATION:VHS im Stadtfenster;Raum412, Steinsche Gasse 26, 47051 Duisburg
END:VEVENT
BEGIN:VEVENT
DTSTAMP:20260421T095843
DTSTART;TZID=Europe/Berlin:20260427T180000
DTEND;TZID=Europe/Berlin:20260427T193000
UID:261MZ7132-20260427T180000@VHSDUISBURG
SUMMARY:Englisch - C1 - English Studies - 1. Semester ab Lektion 1 (261MZ7132) 
LOCATION:VHS im Stadtfenster;Raum412, Steinsche Gasse 26, 47051 Duisburg
END:VEVENT
BEGIN:VEVENT
DTSTAMP:20260421T095843
DTSTART;TZID=Europe/Berlin:20260429T180000
DTEND;TZID=Europe/Berlin:20260429T193000
UID:261MZ7132-20260429T180000@VHSDUISBURG
SUMMARY:Englisch - C1 - English Studies - 1. Semester ab Lektion 1 (261MZ7132) 
LOCATION:VHS im Stadtfenster;Raum412, Steinsche Gasse 26, 47051 Duisburg
END:VEVENT
BEGIN:VEVENT
DTSTAMP:20260421T095843
DTSTART;TZID=Europe/Berlin:20260504T180000
DTEND;TZID=Europe/Berlin:20260504T193000
UID:261MZ7132-20260504T180000@VHSDUISBURG
SUMMARY:Englisch - C1 - English Studies - 1. Semester ab Lektion 1 (261MZ7132) 
LOCATION:VHS im Stadtfenster;Raum412, Steinsche Gasse 26, 47051 Duisburg
END:VEVENT
BEGIN:VEVENT
DTSTAMP:20260421T095843
DTSTART;TZID=Europe/Berlin:20260506T180000
DTEND;TZID=Europe/Berlin:20260506T193000
UID:261MZ7132-20260506T180000@VHSDUISBURG
SUMMARY:Englisch - C1 - English Studies - 1. Semester ab Lektion 1 (261MZ7132) 
LOCATION:VHS im Stadtfenster;Raum412, Steinsche Gasse 26, 47051 Duisburg
END:VEVENT
BEGIN:VEVENT
DTSTAMP:20260421T095843
DTSTART;TZID=Europe/Berlin:20260511T180000
DTEND;TZID=Europe/Berlin:20260511T193000
UID:261MZ7132-20260511T180000@VHSDUISBURG
SUMMARY:Englisch - C1 - English Studies - 1. Semester ab Lektion 1 (261MZ7132) 
LOCATION:VHS im Stadtfenster;Raum412, Steinsche Gasse 26, 47051 Duisburg
END:VEVENT
BEGIN:VEVENT
DTSTAMP:20260421T095843
DTSTART;TZID=Europe/Berlin:20260513T180000
DTEND;TZID=Europe/Berlin:20260513T193000
UID:261MZ7132-20260513T180000@VHSDUISBURG
SUMMARY:Englisch - C1 - English Studies - 1. Semester ab Lektion 1 (261MZ7132) 
LOCATION:VHS im Stadtfenster;Raum412, Steinsche Gasse 26, 47051 Duisburg
END:VEVENT
BEGIN:VEVENT
DTSTAMP:20260421T095843
DTSTART;TZID=Europe/Berlin:20260518T180000
DTEND;TZID=Europe/Berlin:20260518T193000
UID:261MZ7132-20260518T180000@VHSDUISBURG
SUMMARY:Englisch - C1 - English Studies - 1. Semester ab Lektion 1 (261MZ7132) 
LOCATION:VHS im Stadtfenster;Raum412, Steinsche Gasse 26, 47051 Duisburg
END:VEVENT
END:VCALENDAR