BEGIN:VCALENDAR
PRODID:http://www.kufer.de/kuferweb / DE
VERSION:2.0
METHOD:PUBLISH
CALSCALE:GREGORIAN
X-WR-TIMEZONE:Europe/Berlin
BEGIN:VTIMEZONE
TZID:Europe/Berlin
X-LIC-LOCATION:Europe/Berlin
BEGIN:DAYLIGHT
TZOFFSETFROM:+0100
TZOFFSETTO:+0200
TZNAME:CEST
DTSTART;TZID=Europe/Berlin:19700329T020000
RRULE:FREQ=YEARLY;INTERVAL=1;BYDAY=-1SU;BYMONTH=3
END:DAYLIGHT
BEGIN:STANDARD
TZOFFSETFROM:+0200
TZOFFSETTO:+0100
TZNAME:CET
DTSTART;TZID=Europe/Berlin:19701025T030000
RRULE:FREQ=YEARLY;INTERVAL=1;BYDAY=-1SU;BYMONTH=10
END:STANDARD
END:VTIMEZONE
BEGIN:VEVENT
DTSTAMP:20260423T125629
DTSTART;TZID=Europe/Berlin:20260824T090000
DTEND;TZID=Europe/Berlin:20260824T153000
UID:261MZ7110-20260824T090000@VHSDUISBURG
SUMMARY:Englisch - A2/B1/B2/C1 - Intensivsprachkurs  für den schnellen Wiedereinstieg (261MZ7110) 
LOCATION:VHS im Stadtfenster;Raum413, Steinsche Gasse 26, 47051 Duisburg
END:VEVENT
BEGIN:VEVENT
DTSTAMP:20260423T125629
DTSTART;TZID=Europe/Berlin:20260825T090000
DTEND;TZID=Europe/Berlin:20260825T153000
UID:261MZ7110-20260825T090000@VHSDUISBURG
SUMMARY:Englisch - A2/B1/B2/C1 - Intensivsprachkurs  für den schnellen Wiedereinstieg (261MZ7110) 
LOCATION:VHS im Stadtfenster;Raum413, Steinsche Gasse 26, 47051 Duisburg
END:VEVENT
BEGIN:VEVENT
DTSTAMP:20260423T125629
DTSTART;TZID=Europe/Berlin:20260826T090000
DTEND;TZID=Europe/Berlin:20260826T153000
UID:261MZ7110-20260826T090000@VHSDUISBURG
SUMMARY:Englisch - A2/B1/B2/C1 - Intensivsprachkurs  für den schnellen Wiedereinstieg (261MZ7110) 
LOCATION:VHS im Stadtfenster;Raum413, Steinsche Gasse 26, 47051 Duisburg
END:VEVENT
BEGIN:VEVENT
DTSTAMP:20260423T125629
DTSTART;TZID=Europe/Berlin:20260827T090000
DTEND;TZID=Europe/Berlin:20260827T153000
UID:261MZ7110-20260827T090000@VHSDUISBURG
SUMMARY:Englisch - A2/B1/B2/C1 - Intensivsprachkurs  für den schnellen Wiedereinstieg (261MZ7110) 
LOCATION:VHS im Stadtfenster;Raum413, Steinsche Gasse 26, 47051 Duisburg
END:VEVENT
BEGIN:VEVENT
DTSTAMP:20260423T125629
DTSTART;TZID=Europe/Berlin:20260828T090000
DTEND;TZID=Europe/Berlin:20260828T153000
UID:261MZ7110-20260828T090000@VHSDUISBURG
SUMMARY:Englisch - A2/B1/B2/C1 - Intensivsprachkurs  für den schnellen Wiedereinstieg (261MZ7110) 
LOCATION:VHS im Stadtfenster;Raum413, Steinsche Gasse 26, 47051 Duisburg
END:VEVENT
END:VCALENDAR