BEGIN:VCALENDAR
PRODID:http://www.kufer.de/kuferweb / DE
VERSION:2.0
METHOD:PUBLISH
CALSCALE:GREGORIAN
X-WR-TIMEZONE:Europe/Berlin
BEGIN:VTIMEZONE
TZID:Europe/Berlin
X-LIC-LOCATION:Europe/Berlin
BEGIN:DAYLIGHT
TZOFFSETFROM:+0100
TZOFFSETTO:+0200
TZNAME:CEST
DTSTART;TZID=Europe/Berlin:19700329T020000
RRULE:FREQ=YEARLY;INTERVAL=1;BYDAY=-1SU;BYMONTH=3
END:DAYLIGHT
BEGIN:STANDARD
TZOFFSETFROM:+0200
TZOFFSETTO:+0100
TZNAME:CET
DTSTART;TZID=Europe/Berlin:19701025T030000
RRULE:FREQ=YEARLY;INTERVAL=1;BYDAY=-1SU;BYMONTH=10
END:STANDARD
END:VTIMEZONE
BEGIN:VEVENT
DTSTAMP:20260421T131258
DTSTART;TZID=Europe/Berlin:20260202T130000
DTEND;TZID=Europe/Berlin:20260202T143000
UID:261MZ6835-20260202T130000@VHSDUISBURG
SUMMARY:Fitness in der zweiten Lebenshälfte (261MZ6835) 
LOCATION:VHS im Stadtfenster;Raum126, Steinsche Gasse 26, 47051 Duisburg
END:VEVENT
BEGIN:VEVENT
DTSTAMP:20260421T131258
DTSTART;TZID=Europe/Berlin:20260209T130000
DTEND;TZID=Europe/Berlin:20260209T143000
UID:261MZ6835-20260209T130000@VHSDUISBURG
SUMMARY:Fitness in der zweiten Lebenshälfte (261MZ6835) 
LOCATION:VHS im Stadtfenster;Raum126, Steinsche Gasse 26, 47051 Duisburg
END:VEVENT
BEGIN:VEVENT
DTSTAMP:20260421T131258
DTSTART;TZID=Europe/Berlin:20260223T130000
DTEND;TZID=Europe/Berlin:20260223T143000
UID:261MZ6835-20260223T130000@VHSDUISBURG
SUMMARY:Fitness in der zweiten Lebenshälfte (261MZ6835) 
LOCATION:VHS im Stadtfenster;Raum126, Steinsche Gasse 26, 47051 Duisburg
END:VEVENT
BEGIN:VEVENT
DTSTAMP:20260421T131258
DTSTART;TZID=Europe/Berlin:20260302T130000
DTEND;TZID=Europe/Berlin:20260302T143000
UID:261MZ6835-20260302T130000@VHSDUISBURG
SUMMARY:Fitness in der zweiten Lebenshälfte (261MZ6835) 
LOCATION:VHS im Stadtfenster;Raum126, Steinsche Gasse 26, 47051 Duisburg
END:VEVENT
BEGIN:VEVENT
DTSTAMP:20260421T131258
DTSTART;TZID=Europe/Berlin:20260309T130000
DTEND;TZID=Europe/Berlin:20260309T143000
UID:261MZ6835-20260309T130000@VHSDUISBURG
SUMMARY:Fitness in der zweiten Lebenshälfte (261MZ6835) 
LOCATION:VHS im Stadtfenster;Raum126, Steinsche Gasse 26, 47051 Duisburg
END:VEVENT
BEGIN:VEVENT
DTSTAMP:20260421T131258
DTSTART;TZID=Europe/Berlin:20260316T130000
DTEND;TZID=Europe/Berlin:20260316T143000
UID:261MZ6835-20260316T130000@VHSDUISBURG
SUMMARY:Fitness in der zweiten Lebenshälfte (261MZ6835) 
LOCATION:VHS im Stadtfenster;Raum126, Steinsche Gasse 26, 47051 Duisburg
END:VEVENT
BEGIN:VEVENT
DTSTAMP:20260421T131258
DTSTART;TZID=Europe/Berlin:20260323T130000
DTEND;TZID=Europe/Berlin:20260323T143000
UID:261MZ6835-20260323T130000@VHSDUISBURG
SUMMARY:Fitness in der zweiten Lebenshälfte (261MZ6835) 
LOCATION:VHS im Stadtfenster;Raum126, Steinsche Gasse 26, 47051 Duisburg
END:VEVENT
BEGIN:VEVENT
DTSTAMP:20260421T131258
DTSTART;TZID=Europe/Berlin:20260413T130000
DTEND;TZID=Europe/Berlin:20260413T143000
UID:261MZ6835-20260413T130000@VHSDUISBURG
SUMMARY:Fitness in der zweiten Lebenshälfte (261MZ6835) 
LOCATION:VHS im Stadtfenster;Raum126, Steinsche Gasse 26, 47051 Duisburg
END:VEVENT
BEGIN:VEVENT
DTSTAMP:20260421T131258
DTSTART;TZID=Europe/Berlin:20260420T130000
DTEND;TZID=Europe/Berlin:20260420T143000
UID:261MZ6835-20260420T130000@VHSDUISBURG
SUMMARY:Fitness in der zweiten Lebenshälfte (261MZ6835) 
LOCATION:VHS im Stadtfenster;Raum126, Steinsche Gasse 26, 47051 Duisburg
END:VEVENT
BEGIN:VEVENT
DTSTAMP:20260421T131258
DTSTART;TZID=Europe/Berlin:20260427T130000
DTEND;TZID=Europe/Berlin:20260427T143000
UID:261MZ6835-20260427T130000@VHSDUISBURG
SUMMARY:Fitness in der zweiten Lebenshälfte (261MZ6835) 
LOCATION:VHS im Stadtfenster;Raum126, Steinsche Gasse 26, 47051 Duisburg
END:VEVENT
BEGIN:VEVENT
DTSTAMP:20260421T131258
DTSTART;TZID=Europe/Berlin:20260504T130000
DTEND;TZID=Europe/Berlin:20260504T143000
UID:261MZ6835-20260504T130000@VHSDUISBURG
SUMMARY:Fitness in der zweiten Lebenshälfte (261MZ6835) 
LOCATION:VHS im Stadtfenster;Raum126, Steinsche Gasse 26, 47051 Duisburg
END:VEVENT
BEGIN:VEVENT
DTSTAMP:20260421T131258
DTSTART;TZID=Europe/Berlin:20260511T130000
DTEND;TZID=Europe/Berlin:20260511T143000
UID:261MZ6835-20260511T130000@VHSDUISBURG
SUMMARY:Fitness in der zweiten Lebenshälfte (261MZ6835) 
LOCATION:VHS im Stadtfenster;Raum126, Steinsche Gasse 26, 47051 Duisburg
END:VEVENT
BEGIN:VEVENT
DTSTAMP:20260421T131258
DTSTART;TZID=Europe/Berlin:20260518T130000
DTEND;TZID=Europe/Berlin:20260518T143000
UID:261MZ6835-20260518T130000@VHSDUISBURG
SUMMARY:Fitness in der zweiten Lebenshälfte (261MZ6835) 
LOCATION:VHS im Stadtfenster;Raum126, Steinsche Gasse 26, 47051 Duisburg
END:VEVENT
END:VCALENDAR