BEGIN:VCALENDAR
PRODID:http://www.kufer.de/kuferweb / DE
VERSION:2.0
METHOD:PUBLISH
CALSCALE:GREGORIAN
X-WR-TIMEZONE:Europe/Berlin
BEGIN:VTIMEZONE
TZID:Europe/Berlin
X-LIC-LOCATION:Europe/Berlin
BEGIN:DAYLIGHT
TZOFFSETFROM:+0100
TZOFFSETTO:+0200
TZNAME:CEST
DTSTART;TZID=Europe/Berlin:19700329T020000
RRULE:FREQ=YEARLY;INTERVAL=1;BYDAY=-1SU;BYMONTH=3
END:DAYLIGHT
BEGIN:STANDARD
TZOFFSETFROM:+0200
TZOFFSETTO:+0100
TZNAME:CET
DTSTART;TZID=Europe/Berlin:19701025T030000
RRULE:FREQ=YEARLY;INTERVAL=1;BYDAY=-1SU;BYMONTH=10
END:STANDARD
END:VTIMEZONE
BEGIN:VEVENT
DTSTAMP:20260421T202119
DTSTART;TZID=Europe/Berlin:20260203T103000
DTEND;TZID=Europe/Berlin:20260203T120000
UID:261MZ6555-20260203T103000@VHSDUISBURG
SUMMARY:Bewegung, Rhythmus und Tanz (261MZ6555) 
LOCATION:VHS im Stadtfenster;Raum126, Steinsche Gasse 26, 47051 Duisburg
END:VEVENT
BEGIN:VEVENT
DTSTAMP:20260421T202119
DTSTART;TZID=Europe/Berlin:20260210T103000
DTEND;TZID=Europe/Berlin:20260210T120000
UID:261MZ6555-20260210T103000@VHSDUISBURG
SUMMARY:Bewegung, Rhythmus und Tanz (261MZ6555) 
LOCATION:VHS im Stadtfenster;Raum126, Steinsche Gasse 26, 47051 Duisburg
END:VEVENT
BEGIN:VEVENT
DTSTAMP:20260421T202119
DTSTART;TZID=Europe/Berlin:20260217T103000
DTEND;TZID=Europe/Berlin:20260217T120000
UID:261MZ6555-20260217T103000@VHSDUISBURG
SUMMARY:Bewegung, Rhythmus und Tanz (261MZ6555) 
LOCATION:VHS im Stadtfenster;Raum126, Steinsche Gasse 26, 47051 Duisburg
END:VEVENT
BEGIN:VEVENT
DTSTAMP:20260421T202119
DTSTART;TZID=Europe/Berlin:20260224T103000
DTEND;TZID=Europe/Berlin:20260224T120000
UID:261MZ6555-20260224T103000@VHSDUISBURG
SUMMARY:Bewegung, Rhythmus und Tanz (261MZ6555) 
LOCATION:VHS im Stadtfenster;Raum126, Steinsche Gasse 26, 47051 Duisburg
END:VEVENT
BEGIN:VEVENT
DTSTAMP:20260421T202119
DTSTART;TZID=Europe/Berlin:20260303T103000
DTEND;TZID=Europe/Berlin:20260303T120000
UID:261MZ6555-20260303T103000@VHSDUISBURG
SUMMARY:Bewegung, Rhythmus und Tanz (261MZ6555) 
LOCATION:VHS im Stadtfenster;Raum126, Steinsche Gasse 26, 47051 Duisburg
END:VEVENT
BEGIN:VEVENT
DTSTAMP:20260421T202119
DTSTART;TZID=Europe/Berlin:20260310T103000
DTEND;TZID=Europe/Berlin:20260310T120000
UID:261MZ6555-20260310T103000@VHSDUISBURG
SUMMARY:Bewegung, Rhythmus und Tanz (261MZ6555) 
LOCATION:VHS im Stadtfenster;Raum126, Steinsche Gasse 26, 47051 Duisburg
END:VEVENT
BEGIN:VEVENT
DTSTAMP:20260421T202119
DTSTART;TZID=Europe/Berlin:20260324T103000
DTEND;TZID=Europe/Berlin:20260324T120000
UID:261MZ6555-20260324T103000@VHSDUISBURG
SUMMARY:Bewegung, Rhythmus und Tanz (261MZ6555) 
LOCATION:VHS im Stadtfenster;Raum126, Steinsche Gasse 26, 47051 Duisburg
END:VEVENT
BEGIN:VEVENT
DTSTAMP:20260421T202119
DTSTART;TZID=Europe/Berlin:20260414T103000
DTEND;TZID=Europe/Berlin:20260414T120000
UID:261MZ6555-20260414T103000@VHSDUISBURG
SUMMARY:Bewegung, Rhythmus und Tanz (261MZ6555) 
LOCATION:VHS im Stadtfenster;Raum126, Steinsche Gasse 26, 47051 Duisburg
END:VEVENT
BEGIN:VEVENT
DTSTAMP:20260421T202119
DTSTART;TZID=Europe/Berlin:20260421T103000
DTEND;TZID=Europe/Berlin:20260421T120000
UID:261MZ6555-20260421T103000@VHSDUISBURG
SUMMARY:Bewegung, Rhythmus und Tanz (261MZ6555) 
LOCATION:VHS im Stadtfenster;Raum126, Steinsche Gasse 26, 47051 Duisburg
END:VEVENT
BEGIN:VEVENT
DTSTAMP:20260421T202119
DTSTART;TZID=Europe/Berlin:20260428T103000
DTEND;TZID=Europe/Berlin:20260428T120000
UID:261MZ6555-20260428T103000@VHSDUISBURG
SUMMARY:Bewegung, Rhythmus und Tanz (261MZ6555) 
LOCATION:VHS im Stadtfenster;Raum126, Steinsche Gasse 26, 47051 Duisburg
END:VEVENT
BEGIN:VEVENT
DTSTAMP:20260421T202119
DTSTART;TZID=Europe/Berlin:20260505T103000
DTEND;TZID=Europe/Berlin:20260505T120000
UID:261MZ6555-20260505T103000@VHSDUISBURG
SUMMARY:Bewegung, Rhythmus und Tanz (261MZ6555) 
LOCATION:VHS im Stadtfenster;Raum126, Steinsche Gasse 26, 47051 Duisburg
END:VEVENT
BEGIN:VEVENT
DTSTAMP:20260421T202119
DTSTART;TZID=Europe/Berlin:20260512T103000
DTEND;TZID=Europe/Berlin:20260512T120000
UID:261MZ6555-20260512T103000@VHSDUISBURG
SUMMARY:Bewegung, Rhythmus und Tanz (261MZ6555) 
LOCATION:VHS im Stadtfenster;Raum126, Steinsche Gasse 26, 47051 Duisburg
END:VEVENT
BEGIN:VEVENT
DTSTAMP:20260421T202119
DTSTART;TZID=Europe/Berlin:20260519T103000
DTEND;TZID=Europe/Berlin:20260519T120000
UID:261MZ6555-20260519T103000@VHSDUISBURG
SUMMARY:Bewegung, Rhythmus und Tanz (261MZ6555) 
LOCATION:VHS im Stadtfenster;Raum126, Steinsche Gasse 26, 47051 Duisburg
END:VEVENT
BEGIN:VEVENT
DTSTAMP:20260421T202119
DTSTART;TZID=Europe/Berlin:20260602T103000
DTEND;TZID=Europe/Berlin:20260602T120000
UID:261MZ6555-20260602T103000@VHSDUISBURG
SUMMARY:Bewegung, Rhythmus und Tanz (261MZ6555) 
LOCATION:VHS im Stadtfenster;Raum126, Steinsche Gasse 26, 47051 Duisburg
END:VEVENT
BEGIN:VEVENT
DTSTAMP:20260421T202119
DTSTART;TZID=Europe/Berlin:20260609T103000
DTEND;TZID=Europe/Berlin:20260609T120000
UID:261MZ6555-20260609T103000@VHSDUISBURG
DESCRIPTION:NT für 17.03.
SUMMARY:Bewegung, Rhythmus und Tanz (261MZ6555) 
LOCATION:VHS im Stadtfenster;Raum126, Steinsche Gasse 26, 47051 Duisburg
END:VEVENT
END:VCALENDAR