BEGIN:VCALENDAR
PRODID:http://www.kufer.de/kuferweb / DE
VERSION:2.0
METHOD:PUBLISH
CALSCALE:GREGORIAN
X-WR-TIMEZONE:Europe/Berlin
BEGIN:VTIMEZONE
TZID:Europe/Berlin
X-LIC-LOCATION:Europe/Berlin
BEGIN:DAYLIGHT
TZOFFSETFROM:+0100
TZOFFSETTO:+0200
TZNAME:CEST
DTSTART;TZID=Europe/Berlin:19700329T020000
RRULE:FREQ=YEARLY;INTERVAL=1;BYDAY=-1SU;BYMONTH=3
END:DAYLIGHT
BEGIN:STANDARD
TZOFFSETFROM:+0200
TZOFFSETTO:+0100
TZNAME:CET
DTSTART;TZID=Europe/Berlin:19701025T030000
RRULE:FREQ=YEARLY;INTERVAL=1;BYDAY=-1SU;BYMONTH=10
END:STANDARD
END:VTIMEZONE
BEGIN:VEVENT
DTSTAMP:20260421T085201
DTSTART;TZID=Europe/Berlin:20260205T160000
DTEND;TZID=Europe/Berlin:20260205T170000
UID:261MZ6407-20260205T160000@VHSDUISBURG
SUMMARY:Beweglichkeit und Koordination für Seniorinnen und Senioren (261MZ6407) 
LOCATION:VHS im Stadtfenster;Raum126, Steinsche Gasse 26, 47051 Duisburg
END:VEVENT
BEGIN:VEVENT
DTSTAMP:20260421T085201
DTSTART;TZID=Europe/Berlin:20260212T160000
DTEND;TZID=Europe/Berlin:20260212T170000
UID:261MZ6407-20260212T160000@VHSDUISBURG
SUMMARY:Beweglichkeit und Koordination für Seniorinnen und Senioren (261MZ6407) 
LOCATION:VHS im Stadtfenster;Raum126, Steinsche Gasse 26, 47051 Duisburg
END:VEVENT
BEGIN:VEVENT
DTSTAMP:20260421T085201
DTSTART;TZID=Europe/Berlin:20260219T160000
DTEND;TZID=Europe/Berlin:20260219T170000
UID:261MZ6407-20260219T160000@VHSDUISBURG
SUMMARY:Beweglichkeit und Koordination für Seniorinnen und Senioren (261MZ6407) 
LOCATION:VHS im Stadtfenster;Raum126, Steinsche Gasse 26, 47051 Duisburg
END:VEVENT
BEGIN:VEVENT
DTSTAMP:20260421T085201
DTSTART;TZID=Europe/Berlin:20260226T160000
DTEND;TZID=Europe/Berlin:20260226T170000
UID:261MZ6407-20260226T160000@VHSDUISBURG
SUMMARY:Beweglichkeit und Koordination für Seniorinnen und Senioren (261MZ6407) 
LOCATION:VHS im Stadtfenster;Raum126, Steinsche Gasse 26, 47051 Duisburg
END:VEVENT
BEGIN:VEVENT
DTSTAMP:20260421T085201
DTSTART;TZID=Europe/Berlin:20260305T160000
DTEND;TZID=Europe/Berlin:20260305T170000
UID:261MZ6407-20260305T160000@VHSDUISBURG
SUMMARY:Beweglichkeit und Koordination für Seniorinnen und Senioren (261MZ6407) 
LOCATION:VHS im Stadtfenster;Raum126, Steinsche Gasse 26, 47051 Duisburg
END:VEVENT
BEGIN:VEVENT
DTSTAMP:20260421T085201
DTSTART;TZID=Europe/Berlin:20260312T160000
DTEND;TZID=Europe/Berlin:20260312T170000
UID:261MZ6407-20260312T160000@VHSDUISBURG
SUMMARY:Beweglichkeit und Koordination für Seniorinnen und Senioren (261MZ6407) 
LOCATION:VHS im Stadtfenster;Raum126, Steinsche Gasse 26, 47051 Duisburg
END:VEVENT
BEGIN:VEVENT
DTSTAMP:20260421T085201
DTSTART;TZID=Europe/Berlin:20260319T160000
DTEND;TZID=Europe/Berlin:20260319T170000
UID:261MZ6407-20260319T160000@VHSDUISBURG
SUMMARY:Beweglichkeit und Koordination für Seniorinnen und Senioren (261MZ6407) 
LOCATION:VHS im Stadtfenster;Raum126, Steinsche Gasse 26, 47051 Duisburg
END:VEVENT
BEGIN:VEVENT
DTSTAMP:20260421T085201
DTSTART;TZID=Europe/Berlin:20260326T160000
DTEND;TZID=Europe/Berlin:20260326T170000
UID:261MZ6407-20260326T160000@VHSDUISBURG
SUMMARY:Beweglichkeit und Koordination für Seniorinnen und Senioren (261MZ6407) 
LOCATION:VHS im Stadtfenster;Raum126, Steinsche Gasse 26, 47051 Duisburg
END:VEVENT
BEGIN:VEVENT
DTSTAMP:20260421T085201
DTSTART;TZID=Europe/Berlin:20260416T160000
DTEND;TZID=Europe/Berlin:20260416T170000
UID:261MZ6407-20260416T160000@VHSDUISBURG
SUMMARY:Beweglichkeit und Koordination für Seniorinnen und Senioren (261MZ6407) 
LOCATION:VHS im Stadtfenster;Raum126, Steinsche Gasse 26, 47051 Duisburg
END:VEVENT
BEGIN:VEVENT
DTSTAMP:20260421T085201
DTSTART;TZID=Europe/Berlin:20260423T160000
DTEND;TZID=Europe/Berlin:20260423T170000
UID:261MZ6407-20260423T160000@VHSDUISBURG
SUMMARY:Beweglichkeit und Koordination für Seniorinnen und Senioren (261MZ6407) 
LOCATION:VHS im Stadtfenster;Raum126, Steinsche Gasse 26, 47051 Duisburg
END:VEVENT
BEGIN:VEVENT
DTSTAMP:20260421T085201
DTSTART;TZID=Europe/Berlin:20260430T160000
DTEND;TZID=Europe/Berlin:20260430T170000
UID:261MZ6407-20260430T160000@VHSDUISBURG
SUMMARY:Beweglichkeit und Koordination für Seniorinnen und Senioren (261MZ6407) 
LOCATION:VHS im Stadtfenster;Raum126, Steinsche Gasse 26, 47051 Duisburg
END:VEVENT
BEGIN:VEVENT
DTSTAMP:20260421T085201
DTSTART;TZID=Europe/Berlin:20260521T160000
DTEND;TZID=Europe/Berlin:20260521T170000
UID:261MZ6407-20260521T160000@VHSDUISBURG
SUMMARY:Beweglichkeit und Koordination für Seniorinnen und Senioren (261MZ6407) 
LOCATION:VHS im Stadtfenster;Raum126, Steinsche Gasse 26, 47051 Duisburg
END:VEVENT
BEGIN:VEVENT
DTSTAMP:20260421T085201
DTSTART;TZID=Europe/Berlin:20260528T160000
DTEND;TZID=Europe/Berlin:20260528T170000
UID:261MZ6407-20260528T160000@VHSDUISBURG
DESCRIPTION:NT für 07.05.
SUMMARY:Beweglichkeit und Koordination für Seniorinnen und Senioren (261MZ6407) 
LOCATION:VHS im Stadtfenster;Raum126, Steinsche Gasse 26, 47051 Duisburg
END:VEVENT
END:VCALENDAR