BEGIN:VCALENDAR
PRODID:http://www.kufer.de/kuferweb / DE
VERSION:2.0
METHOD:PUBLISH
CALSCALE:GREGORIAN
X-WR-TIMEZONE:Europe/Berlin
BEGIN:VTIMEZONE
TZID:Europe/Berlin
X-LIC-LOCATION:Europe/Berlin
BEGIN:DAYLIGHT
TZOFFSETFROM:+0100
TZOFFSETTO:+0200
TZNAME:CEST
DTSTART;TZID=Europe/Berlin:19700329T020000
RRULE:FREQ=YEARLY;INTERVAL=1;BYDAY=-1SU;BYMONTH=3
END:DAYLIGHT
BEGIN:STANDARD
TZOFFSETFROM:+0200
TZOFFSETTO:+0100
TZNAME:CET
DTSTART;TZID=Europe/Berlin:19701025T030000
RRULE:FREQ=YEARLY;INTERVAL=1;BYDAY=-1SU;BYMONTH=10
END:STANDARD
END:VTIMEZONE
BEGIN:VEVENT
DTSTAMP:20260421T140004
DTSTART;TZID=Europe/Berlin:20260415T120000
DTEND;TZID=Europe/Berlin:20260415T133000
UID:261MZ6220-20260415T120000@VHSDUISBURG
SUMMARY:Feldenkrais® Entspannt und beweglich mit Feldenkrais® (261MZ6220) 
LOCATION:VHS im Stadtfenster;Raum126, Steinsche Gasse 26, 47051 Duisburg
END:VEVENT
BEGIN:VEVENT
DTSTAMP:20260421T140004
DTSTART;TZID=Europe/Berlin:20260422T120000
DTEND;TZID=Europe/Berlin:20260422T133000
UID:261MZ6220-20260422T120000@VHSDUISBURG
SUMMARY:Feldenkrais® Entspannt und beweglich mit Feldenkrais® (261MZ6220) 
LOCATION:VHS im Stadtfenster;Raum126, Steinsche Gasse 26, 47051 Duisburg
END:VEVENT
BEGIN:VEVENT
DTSTAMP:20260421T140004
DTSTART;TZID=Europe/Berlin:20260429T120000
DTEND;TZID=Europe/Berlin:20260429T133000
UID:261MZ6220-20260429T120000@VHSDUISBURG
SUMMARY:Feldenkrais® Entspannt und beweglich mit Feldenkrais® (261MZ6220) 
LOCATION:VHS im Stadtfenster;Raum126, Steinsche Gasse 26, 47051 Duisburg
END:VEVENT
BEGIN:VEVENT
DTSTAMP:20260421T140004
DTSTART;TZID=Europe/Berlin:20260506T120000
DTEND;TZID=Europe/Berlin:20260506T133000
UID:261MZ6220-20260506T120000@VHSDUISBURG
SUMMARY:Feldenkrais® Entspannt und beweglich mit Feldenkrais® (261MZ6220) 
LOCATION:VHS im Stadtfenster;Raum126, Steinsche Gasse 26, 47051 Duisburg
END:VEVENT
BEGIN:VEVENT
DTSTAMP:20260421T140004
DTSTART;TZID=Europe/Berlin:20260513T120000
DTEND;TZID=Europe/Berlin:20260513T133000
UID:261MZ6220-20260513T120000@VHSDUISBURG
SUMMARY:Feldenkrais® Entspannt und beweglich mit Feldenkrais® (261MZ6220) 
LOCATION:VHS im Stadtfenster;Raum126, Steinsche Gasse 26, 47051 Duisburg
END:VEVENT
BEGIN:VEVENT
DTSTAMP:20260421T140004
DTSTART;TZID=Europe/Berlin:20260520T120000
DTEND;TZID=Europe/Berlin:20260520T133000
UID:261MZ6220-20260520T120000@VHSDUISBURG
SUMMARY:Feldenkrais® Entspannt und beweglich mit Feldenkrais® (261MZ6220) 
LOCATION:VHS im Stadtfenster;Raum126, Steinsche Gasse 26, 47051 Duisburg
END:VEVENT
BEGIN:VEVENT
DTSTAMP:20260421T140004
DTSTART;TZID=Europe/Berlin:20260527T120000
DTEND;TZID=Europe/Berlin:20260527T133000
UID:261MZ6220-20260527T120000@VHSDUISBURG
SUMMARY:Feldenkrais® Entspannt und beweglich mit Feldenkrais® (261MZ6220) 
LOCATION:VHS im Stadtfenster;Raum126, Steinsche Gasse 26, 47051 Duisburg
END:VEVENT
END:VCALENDAR