BEGIN:VCALENDAR
PRODID:http://www.kufer.de/kuferweb / DE
VERSION:2.0
METHOD:PUBLISH
CALSCALE:GREGORIAN
X-WR-TIMEZONE:Europe/Berlin
BEGIN:VTIMEZONE
TZID:Europe/Berlin
X-LIC-LOCATION:Europe/Berlin
BEGIN:DAYLIGHT
TZOFFSETFROM:+0100
TZOFFSETTO:+0200
TZNAME:CEST
DTSTART;TZID=Europe/Berlin:19700329T020000
RRULE:FREQ=YEARLY;INTERVAL=1;BYDAY=-1SU;BYMONTH=3
END:DAYLIGHT
BEGIN:STANDARD
TZOFFSETFROM:+0200
TZOFFSETTO:+0100
TZNAME:CET
DTSTART;TZID=Europe/Berlin:19701025T030000
RRULE:FREQ=YEARLY;INTERVAL=1;BYDAY=-1SU;BYMONTH=10
END:STANDARD
END:VTIMEZONE
BEGIN:VEVENT
DTSTAMP:20260421T140001
DTSTART;TZID=Europe/Berlin:20260204T120000
DTEND;TZID=Europe/Berlin:20260204T133000
UID:261MZ6218-20260204T120000@VHSDUISBURG
SUMMARY:Feldenkrais® Entspannt und beweglich mit Feldenkrais® (261MZ6218) 
LOCATION:VHS im Stadtfenster;Raum126, Steinsche Gasse 26, 47051 Duisburg
END:VEVENT
BEGIN:VEVENT
DTSTAMP:20260421T140001
DTSTART;TZID=Europe/Berlin:20260211T120000
DTEND;TZID=Europe/Berlin:20260211T133000
UID:261MZ6218-20260211T120000@VHSDUISBURG
SUMMARY:Feldenkrais® Entspannt und beweglich mit Feldenkrais® (261MZ6218) 
LOCATION:VHS im Stadtfenster;Raum126, Steinsche Gasse 26, 47051 Duisburg
END:VEVENT
BEGIN:VEVENT
DTSTAMP:20260421T140001
DTSTART;TZID=Europe/Berlin:20260218T120000
DTEND;TZID=Europe/Berlin:20260218T133000
UID:261MZ6218-20260218T120000@VHSDUISBURG
SUMMARY:Feldenkrais® Entspannt und beweglich mit Feldenkrais® (261MZ6218) 
LOCATION:VHS im Stadtfenster;Raum126, Steinsche Gasse 26, 47051 Duisburg
END:VEVENT
BEGIN:VEVENT
DTSTAMP:20260421T140001
DTSTART;TZID=Europe/Berlin:20260225T120000
DTEND;TZID=Europe/Berlin:20260225T133000
UID:261MZ6218-20260225T120000@VHSDUISBURG
SUMMARY:Feldenkrais® Entspannt und beweglich mit Feldenkrais® (261MZ6218) 
LOCATION:VHS im Stadtfenster;Raum126, Steinsche Gasse 26, 47051 Duisburg
END:VEVENT
BEGIN:VEVENT
DTSTAMP:20260421T140001
DTSTART;TZID=Europe/Berlin:20260304T120000
DTEND;TZID=Europe/Berlin:20260304T133000
UID:261MZ6218-20260304T120000@VHSDUISBURG
SUMMARY:Feldenkrais® Entspannt und beweglich mit Feldenkrais® (261MZ6218) 
LOCATION:VHS im Stadtfenster;Raum126, Steinsche Gasse 26, 47051 Duisburg
END:VEVENT
BEGIN:VEVENT
DTSTAMP:20260421T140001
DTSTART;TZID=Europe/Berlin:20260311T120000
DTEND;TZID=Europe/Berlin:20260311T133000
UID:261MZ6218-20260311T120000@VHSDUISBURG
SUMMARY:Feldenkrais® Entspannt und beweglich mit Feldenkrais® (261MZ6218) 
LOCATION:VHS im Stadtfenster;Raum126, Steinsche Gasse 26, 47051 Duisburg
END:VEVENT
BEGIN:VEVENT
DTSTAMP:20260421T140001
DTSTART;TZID=Europe/Berlin:20260318T120000
DTEND;TZID=Europe/Berlin:20260318T133000
UID:261MZ6218-20260318T120000@VHSDUISBURG
SUMMARY:Feldenkrais® Entspannt und beweglich mit Feldenkrais® (261MZ6218) 
LOCATION:VHS im Stadtfenster;Raum126, Steinsche Gasse 26, 47051 Duisburg
END:VEVENT
BEGIN:VEVENT
DTSTAMP:20260421T140001
DTSTART;TZID=Europe/Berlin:20260325T120000
DTEND;TZID=Europe/Berlin:20260325T133000
UID:261MZ6218-20260325T120000@VHSDUISBURG
SUMMARY:Feldenkrais® Entspannt und beweglich mit Feldenkrais® (261MZ6218) 
LOCATION:VHS im Stadtfenster;Raum126, Steinsche Gasse 26, 47051 Duisburg
END:VEVENT
END:VCALENDAR