BEGIN:VCALENDAR
PRODID:http://www.kufer.de/kuferweb / DE
VERSION:2.0
METHOD:PUBLISH
CALSCALE:GREGORIAN
X-WR-TIMEZONE:Europe/Berlin
BEGIN:VTIMEZONE
TZID:Europe/Berlin
X-LIC-LOCATION:Europe/Berlin
BEGIN:DAYLIGHT
TZOFFSETFROM:+0100
TZOFFSETTO:+0200
TZNAME:CEST
DTSTART;TZID=Europe/Berlin:19700329T020000
RRULE:FREQ=YEARLY;INTERVAL=1;BYDAY=-1SU;BYMONTH=3
END:DAYLIGHT
BEGIN:STANDARD
TZOFFSETFROM:+0200
TZOFFSETTO:+0100
TZNAME:CET
DTSTART;TZID=Europe/Berlin:19701025T030000
RRULE:FREQ=YEARLY;INTERVAL=1;BYDAY=-1SU;BYMONTH=10
END:STANDARD
END:VTIMEZONE
BEGIN:VEVENT
DTSTAMP:20260421T145339
DTSTART;TZID=Europe/Berlin:20260205T180000
DTEND;TZID=Europe/Berlin:20260205T210000
UID:261MZ5811-20260205T180000@VHSDUISBURG
SUMMARY:Der Duisentrieb-Makerspace und Repaircafé - Die digitale Kreativwerkstatt (261MZ5811) 
LOCATION:VHS FABRIK;Raum007, Steinsche Gasse 32a, 47051 Duisburg
END:VEVENT
BEGIN:VEVENT
DTSTAMP:20260421T145339
DTSTART;TZID=Europe/Berlin:20260212T180000
DTEND;TZID=Europe/Berlin:20260212T210000
UID:261MZ5811-20260212T180000@VHSDUISBURG
SUMMARY:Der Duisentrieb-Makerspace und Repaircafé - Die digitale Kreativwerkstatt (261MZ5811) 
LOCATION:VHS FABRIK;Raum007, Steinsche Gasse 32a, 47051 Duisburg
END:VEVENT
BEGIN:VEVENT
DTSTAMP:20260421T145339
DTSTART;TZID=Europe/Berlin:20260219T180000
DTEND;TZID=Europe/Berlin:20260219T210000
UID:261MZ5811-20260219T180000@VHSDUISBURG
SUMMARY:Der Duisentrieb-Makerspace und Repaircafé - Die digitale Kreativwerkstatt (261MZ5811) 
LOCATION:VHS FABRIK;Raum007, Steinsche Gasse 32a, 47051 Duisburg
END:VEVENT
BEGIN:VEVENT
DTSTAMP:20260421T145339
DTSTART;TZID=Europe/Berlin:20260226T180000
DTEND;TZID=Europe/Berlin:20260226T210000
UID:261MZ5811-20260226T180000@VHSDUISBURG
SUMMARY:Der Duisentrieb-Makerspace und Repaircafé - Die digitale Kreativwerkstatt (261MZ5811) 
LOCATION:VHS FABRIK;Raum007, Steinsche Gasse 32a, 47051 Duisburg
END:VEVENT
BEGIN:VEVENT
DTSTAMP:20260421T145339
DTSTART;TZID=Europe/Berlin:20260305T180000
DTEND;TZID=Europe/Berlin:20260305T210000
UID:261MZ5811-20260305T180000@VHSDUISBURG
SUMMARY:Der Duisentrieb-Makerspace und Repaircafé - Die digitale Kreativwerkstatt (261MZ5811) 
LOCATION:VHS FABRIK;Raum007, Steinsche Gasse 32a, 47051 Duisburg
END:VEVENT
BEGIN:VEVENT
DTSTAMP:20260421T145339
DTSTART;TZID=Europe/Berlin:20260312T180000
DTEND;TZID=Europe/Berlin:20260312T210000
UID:261MZ5811-20260312T180000@VHSDUISBURG
SUMMARY:Der Duisentrieb-Makerspace und Repaircafé - Die digitale Kreativwerkstatt (261MZ5811) 
LOCATION:VHS FABRIK;Raum007, Steinsche Gasse 32a, 47051 Duisburg
END:VEVENT
BEGIN:VEVENT
DTSTAMP:20260421T145339
DTSTART;TZID=Europe/Berlin:20260319T180000
DTEND;TZID=Europe/Berlin:20260319T210000
UID:261MZ5811-20260319T180000@VHSDUISBURG
SUMMARY:Der Duisentrieb-Makerspace und Repaircafé - Die digitale Kreativwerkstatt (261MZ5811) 
LOCATION:VHS FABRIK;Raum007, Steinsche Gasse 32a, 47051 Duisburg
END:VEVENT
BEGIN:VEVENT
DTSTAMP:20260421T145339
DTSTART;TZID=Europe/Berlin:20260326T180000
DTEND;TZID=Europe/Berlin:20260326T210000
UID:261MZ5811-20260326T180000@VHSDUISBURG
SUMMARY:Der Duisentrieb-Makerspace und Repaircafé - Die digitale Kreativwerkstatt (261MZ5811) 
LOCATION:VHS FABRIK;Raum007, Steinsche Gasse 32a, 47051 Duisburg
END:VEVENT
BEGIN:VEVENT
DTSTAMP:20260421T145339
DTSTART;TZID=Europe/Berlin:20260402T180000
DTEND;TZID=Europe/Berlin:20260402T210000
UID:261MZ5811-20260402T180000@VHSDUISBURG
SUMMARY:Der Duisentrieb-Makerspace und Repaircafé - Die digitale Kreativwerkstatt (261MZ5811) 
LOCATION:VHS FABRIK;Raum007, Steinsche Gasse 32a, 47051 Duisburg
END:VEVENT
BEGIN:VEVENT
DTSTAMP:20260421T145339
DTSTART;TZID=Europe/Berlin:20260409T180000
DTEND;TZID=Europe/Berlin:20260409T210000
UID:261MZ5811-20260409T180000@VHSDUISBURG
SUMMARY:Der Duisentrieb-Makerspace und Repaircafé - Die digitale Kreativwerkstatt (261MZ5811) 
LOCATION:VHS FABRIK;Raum007, Steinsche Gasse 32a, 47051 Duisburg
END:VEVENT
BEGIN:VEVENT
DTSTAMP:20260421T145339
DTSTART;TZID=Europe/Berlin:20260416T180000
DTEND;TZID=Europe/Berlin:20260416T210000
UID:261MZ5811-20260416T180000@VHSDUISBURG
SUMMARY:Der Duisentrieb-Makerspace und Repaircafé - Die digitale Kreativwerkstatt (261MZ5811) 
LOCATION:VHS FABRIK;Raum007, Steinsche Gasse 32a, 47051 Duisburg
END:VEVENT
BEGIN:VEVENT
DTSTAMP:20260421T145339
DTSTART;TZID=Europe/Berlin:20260423T180000
DTEND;TZID=Europe/Berlin:20260423T210000
UID:261MZ5811-20260423T180000@VHSDUISBURG
SUMMARY:Der Duisentrieb-Makerspace und Repaircafé - Die digitale Kreativwerkstatt (261MZ5811) 
LOCATION:VHS FABRIK;Raum007, Steinsche Gasse 32a, 47051 Duisburg
END:VEVENT
BEGIN:VEVENT
DTSTAMP:20260421T145339
DTSTART;TZID=Europe/Berlin:20260430T180000
DTEND;TZID=Europe/Berlin:20260430T210000
UID:261MZ5811-20260430T180000@VHSDUISBURG
SUMMARY:Der Duisentrieb-Makerspace und Repaircafé - Die digitale Kreativwerkstatt (261MZ5811) 
LOCATION:VHS FABRIK;Raum007, Steinsche Gasse 32a, 47051 Duisburg
END:VEVENT
BEGIN:VEVENT
DTSTAMP:20260421T145339
DTSTART;TZID=Europe/Berlin:20260507T180000
DTEND;TZID=Europe/Berlin:20260507T210000
UID:261MZ5811-20260507T180000@VHSDUISBURG
SUMMARY:Der Duisentrieb-Makerspace und Repaircafé - Die digitale Kreativwerkstatt (261MZ5811) 
LOCATION:VHS FABRIK;Raum007, Steinsche Gasse 32a, 47051 Duisburg
END:VEVENT
BEGIN:VEVENT
DTSTAMP:20260421T145339
DTSTART;TZID=Europe/Berlin:20260521T180000
DTEND;TZID=Europe/Berlin:20260521T210000
UID:261MZ5811-20260521T180000@VHSDUISBURG
SUMMARY:Der Duisentrieb-Makerspace und Repaircafé - Die digitale Kreativwerkstatt (261MZ5811) 
LOCATION:VHS FABRIK;Raum007, Steinsche Gasse 32a, 47051 Duisburg
END:VEVENT
END:VCALENDAR