BEGIN:VCALENDAR
PRODID:http://www.kufer.de/kuferweb / DE
VERSION:2.0
METHOD:PUBLISH
CALSCALE:GREGORIAN
X-WR-TIMEZONE:Europe/Berlin
BEGIN:VTIMEZONE
TZID:Europe/Berlin
X-LIC-LOCATION:Europe/Berlin
BEGIN:DAYLIGHT
TZOFFSETFROM:+0100
TZOFFSETTO:+0200
TZNAME:CEST
DTSTART;TZID=Europe/Berlin:19700329T020000
RRULE:FREQ=YEARLY;INTERVAL=1;BYDAY=-1SU;BYMONTH=3
END:DAYLIGHT
BEGIN:STANDARD
TZOFFSETFROM:+0200
TZOFFSETTO:+0100
TZNAME:CET
DTSTART;TZID=Europe/Berlin:19701025T030000
RRULE:FREQ=YEARLY;INTERVAL=1;BYDAY=-1SU;BYMONTH=10
END:STANDARD
END:VTIMEZONE
BEGIN:VEVENT
DTSTAMP:20260420T181737
DTSTART;TZID=Europe/Berlin:20260720T090000
DTEND;TZID=Europe/Berlin:20260720T163000
UID:261MZ5547-20260720T090000@VHSDUISBURG
SUMMARY:Future Ready – Zukunftsweisende KI-Integration - Bildungsurlaub In Zusammenarbeit mit der vhs DigitalKooperation (261MZ5547) 
LOCATION:Online-Seminar;Onlineraum, , 
END:VEVENT
BEGIN:VEVENT
DTSTAMP:20260420T181737
DTSTART;TZID=Europe/Berlin:20260721T090000
DTEND;TZID=Europe/Berlin:20260721T163000
UID:261MZ5547-20260721T090000@VHSDUISBURG
SUMMARY:Future Ready – Zukunftsweisende KI-Integration - Bildungsurlaub In Zusammenarbeit mit der vhs DigitalKooperation (261MZ5547) 
LOCATION:Online-Seminar;Onlineraum, , 
END:VEVENT
BEGIN:VEVENT
DTSTAMP:20260420T181737
DTSTART;TZID=Europe/Berlin:20260722T090000
DTEND;TZID=Europe/Berlin:20260722T163000
UID:261MZ5547-20260722T090000@VHSDUISBURG
SUMMARY:Future Ready – Zukunftsweisende KI-Integration - Bildungsurlaub In Zusammenarbeit mit der vhs DigitalKooperation (261MZ5547) 
LOCATION:Online-Seminar;Onlineraum, , 
END:VEVENT
END:VCALENDAR