BEGIN:VCALENDAR
PRODID:http://www.kufer.de/kuferweb / DE
VERSION:2.0
METHOD:PUBLISH
CALSCALE:GREGORIAN
X-WR-TIMEZONE:Europe/Berlin
BEGIN:VTIMEZONE
TZID:Europe/Berlin
X-LIC-LOCATION:Europe/Berlin
BEGIN:DAYLIGHT
TZOFFSETFROM:+0100
TZOFFSETTO:+0200
TZNAME:CEST
DTSTART;TZID=Europe/Berlin:19700329T020000
RRULE:FREQ=YEARLY;INTERVAL=1;BYDAY=-1SU;BYMONTH=3
END:DAYLIGHT
BEGIN:STANDARD
TZOFFSETFROM:+0200
TZOFFSETTO:+0100
TZNAME:CET
DTSTART;TZID=Europe/Berlin:19701025T030000
RRULE:FREQ=YEARLY;INTERVAL=1;BYDAY=-1SU;BYMONTH=10
END:STANDARD
END:VTIMEZONE
BEGIN:VEVENT
DTSTAMP:20260423T160644
DTSTART;TZID=Europe/Berlin:20260206T090000
DTEND;TZID=Europe/Berlin:20260206T160000
UID:261MZ5305-20260206T090000@VHSDUISBURG
SUMMARY:Durchstarten mit Word, Excel und Outlook - Bildungsurlaub (261MZ5305) 
LOCATION:VHS im Stadtfenster;Raum317, Steinsche Gasse 26, 47051 Duisburg
END:VEVENT
BEGIN:VEVENT
DTSTAMP:20260423T160644
DTSTART;TZID=Europe/Berlin:20260213T090000
DTEND;TZID=Europe/Berlin:20260213T160000
UID:261MZ5305-20260213T090000@VHSDUISBURG
SUMMARY:Durchstarten mit Word, Excel und Outlook - Bildungsurlaub (261MZ5305) 
LOCATION:VHS im Stadtfenster;Raum317, Steinsche Gasse 26, 47051 Duisburg
END:VEVENT
BEGIN:VEVENT
DTSTAMP:20260423T160644
DTSTART;TZID=Europe/Berlin:20260220T090000
DTEND;TZID=Europe/Berlin:20260220T160000
UID:261MZ5305-20260220T090000@VHSDUISBURG
SUMMARY:Durchstarten mit Word, Excel und Outlook - Bildungsurlaub (261MZ5305) 
LOCATION:VHS im Stadtfenster;Raum317, Steinsche Gasse 26, 47051 Duisburg
END:VEVENT
BEGIN:VEVENT
DTSTAMP:20260423T160644
DTSTART;TZID=Europe/Berlin:20260227T090000
DTEND;TZID=Europe/Berlin:20260227T160000
UID:261MZ5305-20260227T090000@VHSDUISBURG
SUMMARY:Durchstarten mit Word, Excel und Outlook - Bildungsurlaub (261MZ5305) 
LOCATION:VHS im Stadtfenster;Raum317, Steinsche Gasse 26, 47051 Duisburg
END:VEVENT
END:VCALENDAR