BEGIN:VCALENDAR
PRODID:http://www.kufer.de/kuferweb / DE
VERSION:2.0
METHOD:PUBLISH
CALSCALE:GREGORIAN
X-WR-TIMEZONE:Europe/Berlin
BEGIN:VTIMEZONE
TZID:Europe/Berlin
X-LIC-LOCATION:Europe/Berlin
BEGIN:DAYLIGHT
TZOFFSETFROM:+0100
TZOFFSETTO:+0200
TZNAME:CEST
DTSTART;TZID=Europe/Berlin:19700329T020000
RRULE:FREQ=YEARLY;INTERVAL=1;BYDAY=-1SU;BYMONTH=3
END:DAYLIGHT
BEGIN:STANDARD
TZOFFSETFROM:+0200
TZOFFSETTO:+0100
TZNAME:CET
DTSTART;TZID=Europe/Berlin:19701025T030000
RRULE:FREQ=YEARLY;INTERVAL=1;BYDAY=-1SU;BYMONTH=10
END:STANDARD
END:VTIMEZONE
BEGIN:VEVENT
DTSTAMP:20260423T195733
DTSTART;TZID=Europe/Berlin:20260407T090000
DTEND;TZID=Europe/Berlin:20260407T180000
UID:261MZ4828-20260407T090000@VHSDUISBURG
SUMMARY:Wirtschafts- und Betriebsmediation  Bildungsurlaub (261MZ4828) 
LOCATION:Online-Seminar;Onlineraum, , 
END:VEVENT
BEGIN:VEVENT
DTSTAMP:20260423T195733
DTSTART;TZID=Europe/Berlin:20260408T090000
DTEND;TZID=Europe/Berlin:20260408T180000
UID:261MZ4828-20260408T090000@VHSDUISBURG
SUMMARY:Wirtschafts- und Betriebsmediation  Bildungsurlaub (261MZ4828) 
LOCATION:Online-Seminar;Onlineraum, , 
END:VEVENT
BEGIN:VEVENT
DTSTAMP:20260423T195733
DTSTART;TZID=Europe/Berlin:20260409T090000
DTEND;TZID=Europe/Berlin:20260409T180000
UID:261MZ4828-20260409T090000@VHSDUISBURG
SUMMARY:Wirtschafts- und Betriebsmediation  Bildungsurlaub (261MZ4828) 
LOCATION:Geldern, , 
END:VEVENT
BEGIN:VEVENT
DTSTAMP:20260423T195733
DTSTART;TZID=Europe/Berlin:20260410T090000
DTEND;TZID=Europe/Berlin:20260410T180000
UID:261MZ4828-20260410T090000@VHSDUISBURG
SUMMARY:Wirtschafts- und Betriebsmediation  Bildungsurlaub (261MZ4828) 
LOCATION:Geldern, , 
END:VEVENT
BEGIN:VEVENT
DTSTAMP:20260423T195733
DTSTART;TZID=Europe/Berlin:20260411T090000
DTEND;TZID=Europe/Berlin:20260411T180000
UID:261MZ4828-20260411T090000@VHSDUISBURG
SUMMARY:Wirtschafts- und Betriebsmediation  Bildungsurlaub (261MZ4828) 
LOCATION:Geldern, , 
END:VEVENT
END:VCALENDAR