BEGIN:VCALENDAR
PRODID:http://www.kufer.de/kuferweb / DE
VERSION:2.0
METHOD:PUBLISH
CALSCALE:GREGORIAN
X-WR-TIMEZONE:Europe/Berlin
BEGIN:VTIMEZONE
TZID:Europe/Berlin
X-LIC-LOCATION:Europe/Berlin
BEGIN:DAYLIGHT
TZOFFSETFROM:+0100
TZOFFSETTO:+0200
TZNAME:CEST
DTSTART;TZID=Europe/Berlin:19700329T020000
RRULE:FREQ=YEARLY;INTERVAL=1;BYDAY=-1SU;BYMONTH=3
END:DAYLIGHT
BEGIN:STANDARD
TZOFFSETFROM:+0200
TZOFFSETTO:+0100
TZNAME:CET
DTSTART;TZID=Europe/Berlin:19701025T030000
RRULE:FREQ=YEARLY;INTERVAL=1;BYDAY=-1SU;BYMONTH=10
END:STANDARD
END:VTIMEZONE
BEGIN:VEVENT
DTSTAMP:20260420T131408
DTSTART;TZID=Europe/Berlin:20260713T090000
DTEND;TZID=Europe/Berlin:20260713T163000
UID:261MZ4824-20260713T090000@VHSDUISBURG
SUMMARY:Aufbaukurs: Gewaltfreie Kommunikation nach Marschall B. Rosenberg - Bildungsurlaub (261MZ4824) 
LOCATION:VHS im Stadtfenster;Raum117, Steinsche Gasse 26, 47051 Duisburg
END:VEVENT
BEGIN:VEVENT
DTSTAMP:20260420T131408
DTSTART;TZID=Europe/Berlin:20260714T090000
DTEND;TZID=Europe/Berlin:20260714T163000
UID:261MZ4824-20260714T090000@VHSDUISBURG
SUMMARY:Aufbaukurs: Gewaltfreie Kommunikation nach Marschall B. Rosenberg - Bildungsurlaub (261MZ4824) 
LOCATION:VHS im Stadtfenster;Raum117, Steinsche Gasse 26, 47051 Duisburg
END:VEVENT
BEGIN:VEVENT
DTSTAMP:20260420T131408
DTSTART;TZID=Europe/Berlin:20260715T090000
DTEND;TZID=Europe/Berlin:20260715T163000
UID:261MZ4824-20260715T090000@VHSDUISBURG
SUMMARY:Aufbaukurs: Gewaltfreie Kommunikation nach Marschall B. Rosenberg - Bildungsurlaub (261MZ4824) 
LOCATION:VHS im Stadtfenster;Raum117, Steinsche Gasse 26, 47051 Duisburg
END:VEVENT
BEGIN:VEVENT
DTSTAMP:20260420T131408
DTSTART;TZID=Europe/Berlin:20260716T090000
DTEND;TZID=Europe/Berlin:20260716T163000
UID:261MZ4824-20260716T090000@VHSDUISBURG
SUMMARY:Aufbaukurs: Gewaltfreie Kommunikation nach Marschall B. Rosenberg - Bildungsurlaub (261MZ4824) 
LOCATION:VHS im Stadtfenster;Raum117, Steinsche Gasse 26, 47051 Duisburg
END:VEVENT
BEGIN:VEVENT
DTSTAMP:20260420T131408
DTSTART;TZID=Europe/Berlin:20260717T090000
DTEND;TZID=Europe/Berlin:20260717T163000
UID:261MZ4824-20260717T090000@VHSDUISBURG
SUMMARY:Aufbaukurs: Gewaltfreie Kommunikation nach Marschall B. Rosenberg - Bildungsurlaub (261MZ4824) 
LOCATION:VHS im Stadtfenster;Raum117, Steinsche Gasse 26, 47051 Duisburg
END:VEVENT
END:VCALENDAR