BEGIN:VCALENDAR
PRODID:http://www.kufer.de/kuferweb / DE
VERSION:2.0
METHOD:PUBLISH
CALSCALE:GREGORIAN
X-WR-TIMEZONE:Europe/Berlin
BEGIN:VTIMEZONE
TZID:Europe/Berlin
X-LIC-LOCATION:Europe/Berlin
BEGIN:DAYLIGHT
TZOFFSETFROM:+0100
TZOFFSETTO:+0200
TZNAME:CEST
DTSTART;TZID=Europe/Berlin:19700329T020000
RRULE:FREQ=YEARLY;INTERVAL=1;BYDAY=-1SU;BYMONTH=3
END:DAYLIGHT
BEGIN:STANDARD
TZOFFSETFROM:+0200
TZOFFSETTO:+0100
TZNAME:CET
DTSTART;TZID=Europe/Berlin:19701025T030000
RRULE:FREQ=YEARLY;INTERVAL=1;BYDAY=-1SU;BYMONTH=10
END:STANDARD
END:VTIMEZONE
BEGIN:VEVENT
DTSTAMP:20260421T144506
DTSTART;TZID=Europe/Berlin:20260206T170000
DTEND;TZID=Europe/Berlin:20260206T201500
UID:261MZ4804-20260206T170000@VHSDUISBURG
SUMMARY:Qualifizierung für Betreuungskräfte an Offenen Ganztagsschulen (261MZ4804) 
LOCATION:VHS im Stadtfenster;Raum320, Steinsche Gasse 26, 47051 Duisburg
END:VEVENT
BEGIN:VEVENT
DTSTAMP:20260421T144506
DTSTART;TZID=Europe/Berlin:20260207T100000
DTEND;TZID=Europe/Berlin:20260207T170000
UID:261MZ4804-20260207T100000@VHSDUISBURG
SUMMARY:Qualifizierung für Betreuungskräfte an Offenen Ganztagsschulen (261MZ4804) 
LOCATION:VHS im Stadtfenster;Raum320, Steinsche Gasse 26, 47051 Duisburg
END:VEVENT
BEGIN:VEVENT
DTSTAMP:20260421T144506
DTSTART;TZID=Europe/Berlin:20260227T170000
DTEND;TZID=Europe/Berlin:20260227T201500
UID:261MZ4804-20260227T170000@VHSDUISBURG
SUMMARY:Qualifizierung für Betreuungskräfte an Offenen Ganztagsschulen (261MZ4804) 
LOCATION:VHS im Stadtfenster;Raum320, Steinsche Gasse 26, 47051 Duisburg
END:VEVENT
BEGIN:VEVENT
DTSTAMP:20260421T144506
DTSTART;TZID=Europe/Berlin:20260228T100000
DTEND;TZID=Europe/Berlin:20260228T170000
UID:261MZ4804-20260228T100000@VHSDUISBURG
SUMMARY:Qualifizierung für Betreuungskräfte an Offenen Ganztagsschulen (261MZ4804) 
LOCATION:VHS im Stadtfenster;Raum320, Steinsche Gasse 26, 47051 Duisburg
END:VEVENT
BEGIN:VEVENT
DTSTAMP:20260421T144506
DTSTART;TZID=Europe/Berlin:20260306T180000
DTEND;TZID=Europe/Berlin:20260306T211500
UID:261MZ4804-20260306T180000@VHSDUISBURG
SUMMARY:Qualifizierung für Betreuungskräfte an Offenen Ganztagsschulen (261MZ4804) 
LOCATION:VHS im Stadtfenster;Raum320, Steinsche Gasse 26, 47051 Duisburg
END:VEVENT
BEGIN:VEVENT
DTSTAMP:20260421T144506
DTSTART;TZID=Europe/Berlin:20260307T100000
DTEND;TZID=Europe/Berlin:20260307T170000
UID:261MZ4804-20260307T100000@VHSDUISBURG
SUMMARY:Qualifizierung für Betreuungskräfte an Offenen Ganztagsschulen (261MZ4804) 
LOCATION:VHS im Stadtfenster;Raum320, Steinsche Gasse 26, 47051 Duisburg
END:VEVENT
BEGIN:VEVENT
DTSTAMP:20260421T144506
DTSTART;TZID=Europe/Berlin:20260320T170000
DTEND;TZID=Europe/Berlin:20260320T201500
UID:261MZ4804-20260320T170000@VHSDUISBURG
SUMMARY:Qualifizierung für Betreuungskräfte an Offenen Ganztagsschulen (261MZ4804) 
LOCATION:VHS im Stadtfenster;Raum319, Steinsche Gasse 26, 47051 Duisburg
END:VEVENT
BEGIN:VEVENT
DTSTAMP:20260421T144506
DTSTART;TZID=Europe/Berlin:20260321T100000
DTEND;TZID=Europe/Berlin:20260321T170000
UID:261MZ4804-20260321T100000@VHSDUISBURG
SUMMARY:Qualifizierung für Betreuungskräfte an Offenen Ganztagsschulen (261MZ4804) 
LOCATION:VHS im Stadtfenster;Raum319, Steinsche Gasse 26, 47051 Duisburg
END:VEVENT
BEGIN:VEVENT
DTSTAMP:20260421T144506
DTSTART;TZID=Europe/Berlin:20260424T170000
DTEND;TZID=Europe/Berlin:20260424T201500
UID:261MZ4804-20260424T170000@VHSDUISBURG
SUMMARY:Qualifizierung für Betreuungskräfte an Offenen Ganztagsschulen (261MZ4804) 
LOCATION:VHS im Stadtfenster;Raum319, Steinsche Gasse 26, 47051 Duisburg
END:VEVENT
BEGIN:VEVENT
DTSTAMP:20260421T144506
DTSTART;TZID=Europe/Berlin:20260425T100000
DTEND;TZID=Europe/Berlin:20260425T170000
UID:261MZ4804-20260425T100000@VHSDUISBURG
SUMMARY:Qualifizierung für Betreuungskräfte an Offenen Ganztagsschulen (261MZ4804) 
LOCATION:VHS im Stadtfenster;Raum319, Steinsche Gasse 26, 47051 Duisburg
END:VEVENT
BEGIN:VEVENT
DTSTAMP:20260421T144506
DTSTART;TZID=Europe/Berlin:20260508T170000
DTEND;TZID=Europe/Berlin:20260508T201500
UID:261MZ4804-20260508T170000@VHSDUISBURG
SUMMARY:Qualifizierung für Betreuungskräfte an Offenen Ganztagsschulen (261MZ4804) 
LOCATION:OGS Wunderschule;OGS Wunderschule, Wunderstr. 26, 46049 Oberhausen
END:VEVENT
BEGIN:VEVENT
DTSTAMP:20260421T144506
DTSTART;TZID=Europe/Berlin:20260509T100000
DTEND;TZID=Europe/Berlin:20260509T170000
UID:261MZ4804-20260509T100000@VHSDUISBURG
SUMMARY:Qualifizierung für Betreuungskräfte an Offenen Ganztagsschulen (261MZ4804) 
LOCATION:OGS Wunderschule;OGS Wunderschule, Wunderstr. 26, 46049 Oberhausen
END:VEVENT
BEGIN:VEVENT
DTSTAMP:20260421T144506
DTSTART;TZID=Europe/Berlin:20260529T170000
DTEND;TZID=Europe/Berlin:20260529T201500
UID:261MZ4804-20260529T170000@VHSDUISBURG
SUMMARY:Qualifizierung für Betreuungskräfte an Offenen Ganztagsschulen (261MZ4804) 
LOCATION:VHS im Stadtfenster;Raum319, Steinsche Gasse 26, 47051 Duisburg
END:VEVENT
BEGIN:VEVENT
DTSTAMP:20260421T144506
DTSTART;TZID=Europe/Berlin:20260530T100000
DTEND;TZID=Europe/Berlin:20260530T170000
UID:261MZ4804-20260530T100000@VHSDUISBURG
SUMMARY:Qualifizierung für Betreuungskräfte an Offenen Ganztagsschulen (261MZ4804) 
LOCATION:VHS im Stadtfenster;Raum319, Steinsche Gasse 26, 47051 Duisburg
END:VEVENT
BEGIN:VEVENT
DTSTAMP:20260421T144506
DTSTART;TZID=Europe/Berlin:20260606T100000
DTEND;TZID=Europe/Berlin:20260606T170000
UID:261MZ4804-20260606T100000@VHSDUISBURG
SUMMARY:Qualifizierung für Betreuungskräfte an Offenen Ganztagsschulen (261MZ4804) 
LOCATION:VHS im Stadtfenster;Raum319, Steinsche Gasse 26, 47051 Duisburg
END:VEVENT
BEGIN:VEVENT
DTSTAMP:20260421T144506
DTSTART;TZID=Europe/Berlin:20260613T100000
DTEND;TZID=Europe/Berlin:20260613T170000
UID:261MZ4804-20260613T100000@VHSDUISBURG
SUMMARY:Qualifizierung für Betreuungskräfte an Offenen Ganztagsschulen (261MZ4804) 
LOCATION:OGS Wunderschule;OGS Wunderschule, Wunderstr. 26, 46049 Oberhausen
END:VEVENT
BEGIN:VEVENT
DTSTAMP:20260421T144506
DTSTART;TZID=Europe/Berlin:20260620T100000
DTEND;TZID=Europe/Berlin:20260620T170000
UID:261MZ4804-20260620T100000@VHSDUISBURG
SUMMARY:Qualifizierung für Betreuungskräfte an Offenen Ganztagsschulen (261MZ4804) 
LOCATION:VHS im Stadtfenster;Raum319, Steinsche Gasse 26, 47051 Duisburg
END:VEVENT
BEGIN:VEVENT
DTSTAMP:20260421T144506
DTSTART;TZID=Europe/Berlin:20260703T170000
DTEND;TZID=Europe/Berlin:20260703T201500
UID:261MZ4804-20260703T170000@VHSDUISBURG
SUMMARY:Qualifizierung für Betreuungskräfte an Offenen Ganztagsschulen (261MZ4804) 
LOCATION:VHS im Stadtfenster;Raum320, Steinsche Gasse 26, 47051 Duisburg
END:VEVENT
BEGIN:VEVENT
DTSTAMP:20260421T144506
DTSTART;TZID=Europe/Berlin:20260704T100000
DTEND;TZID=Europe/Berlin:20260704T170000
UID:261MZ4804-20260704T100000@VHSDUISBURG
SUMMARY:Qualifizierung für Betreuungskräfte an Offenen Ganztagsschulen (261MZ4804) 
LOCATION:VHS im Stadtfenster;Raum320, Steinsche Gasse 26, 47051 Duisburg
END:VEVENT
BEGIN:VEVENT
DTSTAMP:20260421T144506
DTSTART;TZID=Europe/Berlin:20260717T170000
DTEND;TZID=Europe/Berlin:20260717T201500
UID:261MZ4804-20260717T170000@VHSDUISBURG
SUMMARY:Qualifizierung für Betreuungskräfte an Offenen Ganztagsschulen (261MZ4804) 
LOCATION:VHS im Stadtfenster;Raum319, Steinsche Gasse 26, 47051 Duisburg
END:VEVENT
BEGIN:VEVENT
DTSTAMP:20260421T144506
DTSTART;TZID=Europe/Berlin:20260718T100000
DTEND;TZID=Europe/Berlin:20260718T170000
UID:261MZ4804-20260718T100000@VHSDUISBURG
SUMMARY:Qualifizierung für Betreuungskräfte an Offenen Ganztagsschulen (261MZ4804) 
LOCATION:VHS im Stadtfenster;Raum319, Steinsche Gasse 26, 47051 Duisburg
END:VEVENT
END:VCALENDAR