BEGIN:VCALENDAR
PRODID:http://www.kufer.de/kuferweb / DE
VERSION:2.0
METHOD:PUBLISH
CALSCALE:GREGORIAN
X-WR-TIMEZONE:Europe/Berlin
BEGIN:VTIMEZONE
TZID:Europe/Berlin
X-LIC-LOCATION:Europe/Berlin
BEGIN:DAYLIGHT
TZOFFSETFROM:+0100
TZOFFSETTO:+0200
TZNAME:CEST
DTSTART;TZID=Europe/Berlin:19700329T020000
RRULE:FREQ=YEARLY;INTERVAL=1;BYDAY=-1SU;BYMONTH=3
END:DAYLIGHT
BEGIN:STANDARD
TZOFFSETFROM:+0200
TZOFFSETTO:+0100
TZNAME:CET
DTSTART;TZID=Europe/Berlin:19701025T030000
RRULE:FREQ=YEARLY;INTERVAL=1;BYDAY=-1SU;BYMONTH=10
END:STANDARD
END:VTIMEZONE
BEGIN:VEVENT
DTSTAMP:20260420T152109
DTSTART;TZID=Europe/Berlin:20260911T153000
DTEND;TZID=Europe/Berlin:20260911T210000
UID:261MZ4720-20260911T153000@VHSDUISBURG
DESCRIPTION:Modul 1
SUMMARY:Ausbildung zur Mediatorin/zum Mediator gemäß Mediationsgesetz (261MZ4720) 
LOCATION:VHS im Stadtfenster;Raum319, Steinsche Gasse 26, 47051 Duisburg
END:VEVENT
BEGIN:VEVENT
DTSTAMP:20260420T152109
DTSTART;TZID=Europe/Berlin:20260912T093000
DTEND;TZID=Europe/Berlin:20260912T180000
UID:261MZ4720-20260912T093000@VHSDUISBURG
DESCRIPTION:Modul 1
SUMMARY:Ausbildung zur Mediatorin/zum Mediator gemäß Mediationsgesetz (261MZ4720) 
LOCATION:VHS im Stadtfenster;Raum319, Steinsche Gasse 26, 47051 Duisburg
END:VEVENT
BEGIN:VEVENT
DTSTAMP:20260420T152109
DTSTART;TZID=Europe/Berlin:20260913T100000
DTEND;TZID=Europe/Berlin:20260913T163000
UID:261MZ4720-20260913T100000@VHSDUISBURG
DESCRIPTION:Modul 1
SUMMARY:Ausbildung zur Mediatorin/zum Mediator gemäß Mediationsgesetz (261MZ4720) 
LOCATION:VHS im Stadtfenster;Raum319, Steinsche Gasse 26, 47051 Duisburg
END:VEVENT
BEGIN:VEVENT
DTSTAMP:20260420T152109
DTSTART;TZID=Europe/Berlin:20261009T153000
DTEND;TZID=Europe/Berlin:20261009T210000
UID:261MZ4720-20261009T153000@VHSDUISBURG
DESCRIPTION:Modul 2
SUMMARY:Ausbildung zur Mediatorin/zum Mediator gemäß Mediationsgesetz (261MZ4720) 
LOCATION:VHS im Stadtfenster;Raum319, Steinsche Gasse 26, 47051 Duisburg
END:VEVENT
BEGIN:VEVENT
DTSTAMP:20260420T152109
DTSTART;TZID=Europe/Berlin:20261010T093000
DTEND;TZID=Europe/Berlin:20261010T180000
UID:261MZ4720-20261010T093000@VHSDUISBURG
DESCRIPTION:Modul 2
SUMMARY:Ausbildung zur Mediatorin/zum Mediator gemäß Mediationsgesetz (261MZ4720) 
LOCATION:VHS im Stadtfenster;Raum319, Steinsche Gasse 26, 47051 Duisburg
END:VEVENT
BEGIN:VEVENT
DTSTAMP:20260420T152109
DTSTART;TZID=Europe/Berlin:20261011T100000
DTEND;TZID=Europe/Berlin:20261011T163000
UID:261MZ4720-20261011T100000@VHSDUISBURG
DESCRIPTION:Modul 2
SUMMARY:Ausbildung zur Mediatorin/zum Mediator gemäß Mediationsgesetz (261MZ4720) 
LOCATION:VHS im Stadtfenster;Raum319, Steinsche Gasse 26, 47051 Duisburg
END:VEVENT
BEGIN:VEVENT
DTSTAMP:20260420T152109
DTSTART;TZID=Europe/Berlin:20261106T153000
DTEND;TZID=Europe/Berlin:20261106T210000
UID:261MZ4720-20261106T153000@VHSDUISBURG
DESCRIPTION:Modul 3
SUMMARY:Ausbildung zur Mediatorin/zum Mediator gemäß Mediationsgesetz (261MZ4720) 
LOCATION:VHS im Stadtfenster;Raum319, Steinsche Gasse 26, 47051 Duisburg
END:VEVENT
BEGIN:VEVENT
DTSTAMP:20260420T152109
DTSTART;TZID=Europe/Berlin:20261107T093000
DTEND;TZID=Europe/Berlin:20261107T180000
UID:261MZ4720-20261107T093000@VHSDUISBURG
DESCRIPTION:Modul 3
SUMMARY:Ausbildung zur Mediatorin/zum Mediator gemäß Mediationsgesetz (261MZ4720) 
LOCATION:VHS im Stadtfenster;Raum319, Steinsche Gasse 26, 47051 Duisburg
END:VEVENT
BEGIN:VEVENT
DTSTAMP:20260420T152109
DTSTART;TZID=Europe/Berlin:20261108T100000
DTEND;TZID=Europe/Berlin:20261108T163000
UID:261MZ4720-20261108T100000@VHSDUISBURG
DESCRIPTION:Modul 3
SUMMARY:Ausbildung zur Mediatorin/zum Mediator gemäß Mediationsgesetz (261MZ4720) 
LOCATION:VHS im Stadtfenster;Raum319, Steinsche Gasse 26, 47051 Duisburg
END:VEVENT
BEGIN:VEVENT
DTSTAMP:20260420T152109
DTSTART;TZID=Europe/Berlin:20261207T090000
DTEND;TZID=Europe/Berlin:20261207T180000
UID:261MZ4720-20261207T090000@VHSDUISBURG
DESCRIPTION:Modul 4
SUMMARY:Ausbildung zur Mediatorin/zum Mediator gemäß Mediationsgesetz (261MZ4720) 
LOCATION:VHS im Stadtfenster;Raum319, Steinsche Gasse 26, 47051 Duisburg
END:VEVENT
BEGIN:VEVENT
DTSTAMP:20260420T152109
DTSTART;TZID=Europe/Berlin:20261208T090000
DTEND;TZID=Europe/Berlin:20261208T180000
UID:261MZ4720-20261208T090000@VHSDUISBURG
DESCRIPTION:Modul 4
SUMMARY:Ausbildung zur Mediatorin/zum Mediator gemäß Mediationsgesetz (261MZ4720) 
LOCATION:VHS im Stadtfenster;Raum319, Steinsche Gasse 26, 47051 Duisburg
END:VEVENT
BEGIN:VEVENT
DTSTAMP:20260420T152109
DTSTART;TZID=Europe/Berlin:20261209T090000
DTEND;TZID=Europe/Berlin:20261209T180000
UID:261MZ4720-20261209T090000@VHSDUISBURG
DESCRIPTION:Modul 4
SUMMARY:Ausbildung zur Mediatorin/zum Mediator gemäß Mediationsgesetz (261MZ4720) 
LOCATION:VHS im Stadtfenster;Raum319, Steinsche Gasse 26, 47051 Duisburg
END:VEVENT
BEGIN:VEVENT
DTSTAMP:20260420T152109
DTSTART;TZID=Europe/Berlin:20261210T090000
DTEND;TZID=Europe/Berlin:20261210T180000
UID:261MZ4720-20261210T090000@VHSDUISBURG
DESCRIPTION:Modul 4
SUMMARY:Ausbildung zur Mediatorin/zum Mediator gemäß Mediationsgesetz (261MZ4720) 
LOCATION:VHS im Stadtfenster;Raum319, Steinsche Gasse 26, 47051 Duisburg
END:VEVENT
BEGIN:VEVENT
DTSTAMP:20260420T152109
DTSTART;TZID=Europe/Berlin:20261211T090000
DTEND;TZID=Europe/Berlin:20261211T180000
UID:261MZ4720-20261211T090000@VHSDUISBURG
DESCRIPTION:Modul 4
SUMMARY:Ausbildung zur Mediatorin/zum Mediator gemäß Mediationsgesetz (261MZ4720) 
LOCATION:VHS im Stadtfenster;Raum319, Steinsche Gasse 26, 47051 Duisburg
END:VEVENT
BEGIN:VEVENT
DTSTAMP:20260420T152109
DTSTART;TZID=Europe/Berlin:20270205T153000
DTEND;TZID=Europe/Berlin:20270205T210000
UID:261MZ4720-20270205T153000@VHSDUISBURG
DESCRIPTION:Modul 5
SUMMARY:Ausbildung zur Mediatorin/zum Mediator gemäß Mediationsgesetz (261MZ4720) 
LOCATION:VHS im Stadtfenster;Raum319, Steinsche Gasse 26, 47051 Duisburg
END:VEVENT
BEGIN:VEVENT
DTSTAMP:20260420T152109
DTSTART;TZID=Europe/Berlin:20270206T093000
DTEND;TZID=Europe/Berlin:20270206T180000
UID:261MZ4720-20270206T093000@VHSDUISBURG
DESCRIPTION:Modul 5
SUMMARY:Ausbildung zur Mediatorin/zum Mediator gemäß Mediationsgesetz (261MZ4720) 
LOCATION:VHS im Stadtfenster;Raum319, Steinsche Gasse 26, 47051 Duisburg
END:VEVENT
BEGIN:VEVENT
DTSTAMP:20260420T152109
DTSTART;TZID=Europe/Berlin:20270207T100000
DTEND;TZID=Europe/Berlin:20270207T163000
UID:261MZ4720-20270207T100000@VHSDUISBURG
DESCRIPTION:Modul 5
SUMMARY:Ausbildung zur Mediatorin/zum Mediator gemäß Mediationsgesetz (261MZ4720) 
LOCATION:VHS im Stadtfenster;Raum319, Steinsche Gasse 26, 47051 Duisburg
END:VEVENT
BEGIN:VEVENT
DTSTAMP:20260420T152109
DTSTART;TZID=Europe/Berlin:20270312T153000
DTEND;TZID=Europe/Berlin:20270312T210000
UID:261MZ4720-20270312T153000@VHSDUISBURG
DESCRIPTION:Modul 6
SUMMARY:Ausbildung zur Mediatorin/zum Mediator gemäß Mediationsgesetz (261MZ4720) 
LOCATION:VHS im Stadtfenster;Raum319, Steinsche Gasse 26, 47051 Duisburg
END:VEVENT
BEGIN:VEVENT
DTSTAMP:20260420T152109
DTSTART;TZID=Europe/Berlin:20270313T093000
DTEND;TZID=Europe/Berlin:20270313T180000
UID:261MZ4720-20270313T093000@VHSDUISBURG
DESCRIPTION:Modul 6
SUMMARY:Ausbildung zur Mediatorin/zum Mediator gemäß Mediationsgesetz (261MZ4720) 
LOCATION:VHS im Stadtfenster;Raum319, Steinsche Gasse 26, 47051 Duisburg
END:VEVENT
BEGIN:VEVENT
DTSTAMP:20260420T152109
DTSTART;TZID=Europe/Berlin:20270314T100000
DTEND;TZID=Europe/Berlin:20270314T163000
UID:261MZ4720-20270314T100000@VHSDUISBURG
DESCRIPTION:Modul 6
SUMMARY:Ausbildung zur Mediatorin/zum Mediator gemäß Mediationsgesetz (261MZ4720) 
LOCATION:VHS im Stadtfenster;Raum319, Steinsche Gasse 26, 47051 Duisburg
END:VEVENT
BEGIN:VEVENT
DTSTAMP:20260420T152109
DTSTART;TZID=Europe/Berlin:20270419T090000
DTEND;TZID=Europe/Berlin:20270419T180000
UID:261MZ4720-20270419T090000@VHSDUISBURG
DESCRIPTION:Modul 7
SUMMARY:Ausbildung zur Mediatorin/zum Mediator gemäß Mediationsgesetz (261MZ4720) 
LOCATION:VHS im Stadtfenster;Raum319, Steinsche Gasse 26, 47051 Duisburg
END:VEVENT
BEGIN:VEVENT
DTSTAMP:20260420T152109
DTSTART;TZID=Europe/Berlin:20270420T090000
DTEND;TZID=Europe/Berlin:20270420T180000
UID:261MZ4720-20270420T090000@VHSDUISBURG
DESCRIPTION:Modul 7
SUMMARY:Ausbildung zur Mediatorin/zum Mediator gemäß Mediationsgesetz (261MZ4720) 
LOCATION:VHS im Stadtfenster;Raum319, Steinsche Gasse 26, 47051 Duisburg
END:VEVENT
BEGIN:VEVENT
DTSTAMP:20260420T152109
DTSTART;TZID=Europe/Berlin:20270421T090000
DTEND;TZID=Europe/Berlin:20270421T180000
UID:261MZ4720-20270421T090000@VHSDUISBURG
DESCRIPTION:Modul 7
SUMMARY:Ausbildung zur Mediatorin/zum Mediator gemäß Mediationsgesetz (261MZ4720) 
LOCATION:VHS im Stadtfenster;Raum319, Steinsche Gasse 26, 47051 Duisburg
END:VEVENT
BEGIN:VEVENT
DTSTAMP:20260420T152109
DTSTART;TZID=Europe/Berlin:20270422T090000
DTEND;TZID=Europe/Berlin:20270422T180000
UID:261MZ4720-20270422T090000@VHSDUISBURG
DESCRIPTION:Modul 7
SUMMARY:Ausbildung zur Mediatorin/zum Mediator gemäß Mediationsgesetz (261MZ4720) 
LOCATION:VHS im Stadtfenster;Raum319, Steinsche Gasse 26, 47051 Duisburg
END:VEVENT
BEGIN:VEVENT
DTSTAMP:20260420T152109
DTSTART;TZID=Europe/Berlin:20270423T090000
DTEND;TZID=Europe/Berlin:20270423T180000
UID:261MZ4720-20270423T090000@VHSDUISBURG
DESCRIPTION:Modul 7
SUMMARY:Ausbildung zur Mediatorin/zum Mediator gemäß Mediationsgesetz (261MZ4720) 
LOCATION:VHS im Stadtfenster;Raum319, Steinsche Gasse 26, 47051 Duisburg
END:VEVENT
BEGIN:VEVENT
DTSTAMP:20260420T152109
DTSTART;TZID=Europe/Berlin:20270618T153000
DTEND;TZID=Europe/Berlin:20270618T210000
UID:261MZ4720-20270618T153000@VHSDUISBURG
DESCRIPTION:Modul 8
SUMMARY:Ausbildung zur Mediatorin/zum Mediator gemäß Mediationsgesetz (261MZ4720) 
LOCATION:VHS im Stadtfenster;Raum319, Steinsche Gasse 26, 47051 Duisburg
END:VEVENT
BEGIN:VEVENT
DTSTAMP:20260420T152109
DTSTART;TZID=Europe/Berlin:20270619T093000
DTEND;TZID=Europe/Berlin:20270619T180000
UID:261MZ4720-20270619T093000@VHSDUISBURG
DESCRIPTION:Modul 8
SUMMARY:Ausbildung zur Mediatorin/zum Mediator gemäß Mediationsgesetz (261MZ4720) 
LOCATION:VHS im Stadtfenster;Raum319, Steinsche Gasse 26, 47051 Duisburg
END:VEVENT
BEGIN:VEVENT
DTSTAMP:20260420T152109
DTSTART;TZID=Europe/Berlin:20270620T100000
DTEND;TZID=Europe/Berlin:20270620T163000
UID:261MZ4720-20270620T100000@VHSDUISBURG
DESCRIPTION:Modul 8
SUMMARY:Ausbildung zur Mediatorin/zum Mediator gemäß Mediationsgesetz (261MZ4720) 
LOCATION:VHS im Stadtfenster;Raum319, Steinsche Gasse 26, 47051 Duisburg
END:VEVENT
END:VCALENDAR