BEGIN:VCALENDAR
PRODID:http://www.kufer.de/kuferweb / DE
VERSION:2.0
METHOD:PUBLISH
CALSCALE:GREGORIAN
X-WR-TIMEZONE:Europe/Berlin
BEGIN:VTIMEZONE
TZID:Europe/Berlin
X-LIC-LOCATION:Europe/Berlin
BEGIN:DAYLIGHT
TZOFFSETFROM:+0100
TZOFFSETTO:+0200
TZNAME:CEST
DTSTART;TZID=Europe/Berlin:19700329T020000
RRULE:FREQ=YEARLY;INTERVAL=1;BYDAY=-1SU;BYMONTH=3
END:DAYLIGHT
BEGIN:STANDARD
TZOFFSETFROM:+0200
TZOFFSETTO:+0100
TZNAME:CET
DTSTART;TZID=Europe/Berlin:19701025T030000
RRULE:FREQ=YEARLY;INTERVAL=1;BYDAY=-1SU;BYMONTH=10
END:STANDARD
END:VTIMEZONE
BEGIN:VEVENT
DTSTAMP:20260421T072801
DTSTART;TZID=Europe/Berlin:20260505T170000
DTEND;TZID=Europe/Berlin:20260505T200000
UID:261MZ4537-20260505T170000@VHSDUISBURG
SUMMARY:Fokus – Erreichen Sie Ihre Ziele und werden Sie die Person, die Sie sein wollen (261MZ4537) 
LOCATION:VHS FABRIK;Raum205, Steinsche Gasse 32a, 47051 Duisburg
END:VEVENT
BEGIN:VEVENT
DTSTAMP:20260421T072801
DTSTART;TZID=Europe/Berlin:20260508T170000
DTEND;TZID=Europe/Berlin:20260508T200000
UID:261MZ4537-20260508T170000@VHSDUISBURG
SUMMARY:Fokus – Erreichen Sie Ihre Ziele und werden Sie die Person, die Sie sein wollen (261MZ4537) 
LOCATION:VHS FABRIK;Raum205, Steinsche Gasse 32a, 47051 Duisburg
END:VEVENT
END:VCALENDAR