BEGIN:VCALENDAR
PRODID:http://www.kufer.de/kuferweb / DE
VERSION:2.0
METHOD:PUBLISH
CALSCALE:GREGORIAN
X-WR-TIMEZONE:Europe/Berlin
BEGIN:VTIMEZONE
TZID:Europe/Berlin
X-LIC-LOCATION:Europe/Berlin
BEGIN:DAYLIGHT
TZOFFSETFROM:+0100
TZOFFSETTO:+0200
TZNAME:CEST
DTSTART;TZID=Europe/Berlin:19700329T020000
RRULE:FREQ=YEARLY;INTERVAL=1;BYDAY=-1SU;BYMONTH=3
END:DAYLIGHT
BEGIN:STANDARD
TZOFFSETFROM:+0200
TZOFFSETTO:+0100
TZNAME:CET
DTSTART;TZID=Europe/Berlin:19701025T030000
RRULE:FREQ=YEARLY;INTERVAL=1;BYDAY=-1SU;BYMONTH=10
END:STANDARD
END:VTIMEZONE
BEGIN:VEVENT
DTSTAMP:20260420T192211
DTSTART;TZID=Europe/Berlin:20260505T180000
DTEND;TZID=Europe/Berlin:20260505T203000
UID:261MZ4422-20260505T180000@VHSDUISBURG
SUMMARY:Controlling Xpert Business-Zertifikatskurs (261MZ4422) 
LOCATION:VHS im Stadtfenster;Raum316, Steinsche Gasse 26, 47051 Duisburg
END:VEVENT
BEGIN:VEVENT
DTSTAMP:20260420T192211
DTSTART;TZID=Europe/Berlin:20260507T180000
DTEND;TZID=Europe/Berlin:20260507T203000
UID:261MZ4422-20260507T180000@VHSDUISBURG
SUMMARY:Controlling Xpert Business-Zertifikatskurs (261MZ4422) 
LOCATION:VHS im Stadtfenster;Raum316, Steinsche Gasse 26, 47051 Duisburg
END:VEVENT
BEGIN:VEVENT
DTSTAMP:20260420T192211
DTSTART;TZID=Europe/Berlin:20260512T180000
DTEND;TZID=Europe/Berlin:20260512T203000
UID:261MZ4422-20260512T180000@VHSDUISBURG
SUMMARY:Controlling Xpert Business-Zertifikatskurs (261MZ4422) 
LOCATION:VHS im Stadtfenster;Raum316, Steinsche Gasse 26, 47051 Duisburg
END:VEVENT
BEGIN:VEVENT
DTSTAMP:20260420T192211
DTSTART;TZID=Europe/Berlin:20260519T180000
DTEND;TZID=Europe/Berlin:20260519T203000
UID:261MZ4422-20260519T180000@VHSDUISBURG
SUMMARY:Controlling Xpert Business-Zertifikatskurs (261MZ4422) 
LOCATION:VHS im Stadtfenster;Raum316, Steinsche Gasse 26, 47051 Duisburg
END:VEVENT
BEGIN:VEVENT
DTSTAMP:20260420T192211
DTSTART;TZID=Europe/Berlin:20260521T180000
DTEND;TZID=Europe/Berlin:20260521T203000
UID:261MZ4422-20260521T180000@VHSDUISBURG
SUMMARY:Controlling Xpert Business-Zertifikatskurs (261MZ4422) 
LOCATION:VHS im Stadtfenster;Raum316, Steinsche Gasse 26, 47051 Duisburg
END:VEVENT
BEGIN:VEVENT
DTSTAMP:20260420T192211
DTSTART;TZID=Europe/Berlin:20260528T180000
DTEND;TZID=Europe/Berlin:20260528T203000
UID:261MZ4422-20260528T180000@VHSDUISBURG
SUMMARY:Controlling Xpert Business-Zertifikatskurs (261MZ4422) 
LOCATION:VHS im Stadtfenster;Raum316, Steinsche Gasse 26, 47051 Duisburg
END:VEVENT
BEGIN:VEVENT
DTSTAMP:20260420T192211
DTSTART;TZID=Europe/Berlin:20260602T180000
DTEND;TZID=Europe/Berlin:20260602T203000
UID:261MZ4422-20260602T180000@VHSDUISBURG
SUMMARY:Controlling Xpert Business-Zertifikatskurs (261MZ4422) 
LOCATION:VHS im Stadtfenster;Raum316, Steinsche Gasse 26, 47051 Duisburg
END:VEVENT
BEGIN:VEVENT
DTSTAMP:20260420T192211
DTSTART;TZID=Europe/Berlin:20260609T180000
DTEND;TZID=Europe/Berlin:20260609T203000
UID:261MZ4422-20260609T180000@VHSDUISBURG
SUMMARY:Controlling Xpert Business-Zertifikatskurs (261MZ4422) 
LOCATION:VHS im Stadtfenster;Raum316, Steinsche Gasse 26, 47051 Duisburg
END:VEVENT
BEGIN:VEVENT
DTSTAMP:20260420T192211
DTSTART;TZID=Europe/Berlin:20260611T180000
DTEND;TZID=Europe/Berlin:20260611T203000
UID:261MZ4422-20260611T180000@VHSDUISBURG
SUMMARY:Controlling Xpert Business-Zertifikatskurs (261MZ4422) 
LOCATION:VHS im Stadtfenster;Raum316, Steinsche Gasse 26, 47051 Duisburg
END:VEVENT
BEGIN:VEVENT
DTSTAMP:20260420T192211
DTSTART;TZID=Europe/Berlin:20260616T180000
DTEND;TZID=Europe/Berlin:20260616T203000
UID:261MZ4422-20260616T180000@VHSDUISBURG
SUMMARY:Controlling Xpert Business-Zertifikatskurs (261MZ4422) 
LOCATION:VHS im Stadtfenster;Raum316, Steinsche Gasse 26, 47051 Duisburg
END:VEVENT
BEGIN:VEVENT
DTSTAMP:20260420T192211
DTSTART;TZID=Europe/Berlin:20260618T180000
DTEND;TZID=Europe/Berlin:20260618T203000
UID:261MZ4422-20260618T180000@VHSDUISBURG
SUMMARY:Controlling Xpert Business-Zertifikatskurs (261MZ4422) 
LOCATION:VHS im Stadtfenster;Raum316, Steinsche Gasse 26, 47051 Duisburg
END:VEVENT
BEGIN:VEVENT
DTSTAMP:20260420T192211
DTSTART;TZID=Europe/Berlin:20260623T180000
DTEND;TZID=Europe/Berlin:20260623T203000
UID:261MZ4422-20260623T180000@VHSDUISBURG
SUMMARY:Controlling Xpert Business-Zertifikatskurs (261MZ4422) 
LOCATION:VHS im Stadtfenster;Raum316, Steinsche Gasse 26, 47051 Duisburg
END:VEVENT
BEGIN:VEVENT
DTSTAMP:20260420T192211
DTSTART;TZID=Europe/Berlin:20260625T180000
DTEND;TZID=Europe/Berlin:20260625T203000
UID:261MZ4422-20260625T180000@VHSDUISBURG
SUMMARY:Controlling Xpert Business-Zertifikatskurs (261MZ4422) 
LOCATION:VHS im Stadtfenster;Raum316, Steinsche Gasse 26, 47051 Duisburg
END:VEVENT
BEGIN:VEVENT
DTSTAMP:20260420T192211
DTSTART;TZID=Europe/Berlin:20260630T180000
DTEND;TZID=Europe/Berlin:20260630T203000
UID:261MZ4422-20260630T180000@VHSDUISBURG
SUMMARY:Controlling Xpert Business-Zertifikatskurs (261MZ4422) 
LOCATION:VHS im Stadtfenster;Raum316, Steinsche Gasse 26, 47051 Duisburg
END:VEVENT
END:VCALENDAR