BEGIN:VCALENDAR
PRODID:http://www.kufer.de/kuferweb / DE
VERSION:2.0
METHOD:PUBLISH
CALSCALE:GREGORIAN
X-WR-TIMEZONE:Europe/Berlin
BEGIN:VTIMEZONE
TZID:Europe/Berlin
X-LIC-LOCATION:Europe/Berlin
BEGIN:DAYLIGHT
TZOFFSETFROM:+0100
TZOFFSETTO:+0200
TZNAME:CEST
DTSTART;TZID=Europe/Berlin:19700329T020000
RRULE:FREQ=YEARLY;INTERVAL=1;BYDAY=-1SU;BYMONTH=3
END:DAYLIGHT
BEGIN:STANDARD
TZOFFSETFROM:+0200
TZOFFSETTO:+0100
TZNAME:CET
DTSTART;TZID=Europe/Berlin:19701025T030000
RRULE:FREQ=YEARLY;INTERVAL=1;BYDAY=-1SU;BYMONTH=10
END:STANDARD
END:VTIMEZONE
BEGIN:VEVENT
DTSTAMP:20260421T153229
DTSTART;TZID=Europe/Berlin:20260206T163000
DTEND;TZID=Europe/Berlin:20260206T190000
UID:261MZ2961-20260206T163000@VHSDUISBURG
SUMMARY:Jugendredaktion (261MZ2961) 
LOCATION:VHS im Stadtfenster;Raum411, Steinsche Gasse 26, 47051 Duisburg
END:VEVENT
BEGIN:VEVENT
DTSTAMP:20260421T153229
DTSTART;TZID=Europe/Berlin:20260213T163000
DTEND;TZID=Europe/Berlin:20260213T190000
UID:261MZ2961-20260213T163000@VHSDUISBURG
SUMMARY:Jugendredaktion (261MZ2961) 
LOCATION:VHS im Stadtfenster;Raum411, Steinsche Gasse 26, 47051 Duisburg
END:VEVENT
BEGIN:VEVENT
DTSTAMP:20260421T153229
DTSTART;TZID=Europe/Berlin:20260220T163000
DTEND;TZID=Europe/Berlin:20260220T190000
UID:261MZ2961-20260220T163000@VHSDUISBURG
SUMMARY:Jugendredaktion (261MZ2961) 
LOCATION:VHS im Stadtfenster;Raum411, Steinsche Gasse 26, 47051 Duisburg
END:VEVENT
BEGIN:VEVENT
DTSTAMP:20260421T153229
DTSTART;TZID=Europe/Berlin:20260227T163000
DTEND;TZID=Europe/Berlin:20260227T190000
UID:261MZ2961-20260227T163000@VHSDUISBURG
SUMMARY:Jugendredaktion (261MZ2961) 
LOCATION:VHS im Stadtfenster;Raum411, Steinsche Gasse 26, 47051 Duisburg
END:VEVENT
BEGIN:VEVENT
DTSTAMP:20260421T153229
DTSTART;TZID=Europe/Berlin:20260306T163000
DTEND;TZID=Europe/Berlin:20260306T190000
UID:261MZ2961-20260306T163000@VHSDUISBURG
SUMMARY:Jugendredaktion (261MZ2961) 
LOCATION:VHS im Stadtfenster;Raum413, Steinsche Gasse 26, 47051 Duisburg
END:VEVENT
BEGIN:VEVENT
DTSTAMP:20260421T153229
DTSTART;TZID=Europe/Berlin:20260313T163000
DTEND;TZID=Europe/Berlin:20260313T190000
UID:261MZ2961-20260313T163000@VHSDUISBURG
SUMMARY:Jugendredaktion (261MZ2961) 
LOCATION:VHS im Stadtfenster;Raum413, Steinsche Gasse 26, 47051 Duisburg
END:VEVENT
BEGIN:VEVENT
DTSTAMP:20260421T153229
DTSTART;TZID=Europe/Berlin:20260320T163000
DTEND;TZID=Europe/Berlin:20260320T190000
UID:261MZ2961-20260320T163000@VHSDUISBURG
SUMMARY:Jugendredaktion (261MZ2961) 
LOCATION:VHS im Stadtfenster;Raum413, Steinsche Gasse 26, 47051 Duisburg
END:VEVENT
BEGIN:VEVENT
DTSTAMP:20260421T153229
DTSTART;TZID=Europe/Berlin:20260327T163000
DTEND;TZID=Europe/Berlin:20260327T190000
UID:261MZ2961-20260327T163000@VHSDUISBURG
SUMMARY:Jugendredaktion (261MZ2961) 
LOCATION:VHS im Stadtfenster;Raum413, Steinsche Gasse 26, 47051 Duisburg
END:VEVENT
BEGIN:VEVENT
DTSTAMP:20260421T153229
DTSTART;TZID=Europe/Berlin:20260417T163000
DTEND;TZID=Europe/Berlin:20260417T190000
UID:261MZ2961-20260417T163000@VHSDUISBURG
SUMMARY:Jugendredaktion (261MZ2961) 
LOCATION:VHS im Stadtfenster;Raum411, Steinsche Gasse 26, 47051 Duisburg
END:VEVENT
BEGIN:VEVENT
DTSTAMP:20260421T153229
DTSTART;TZID=Europe/Berlin:20260424T163000
DTEND;TZID=Europe/Berlin:20260424T190000
UID:261MZ2961-20260424T163000@VHSDUISBURG
SUMMARY:Jugendredaktion (261MZ2961) 
LOCATION:VHS im Stadtfenster;Raum411, Steinsche Gasse 26, 47051 Duisburg
END:VEVENT
BEGIN:VEVENT
DTSTAMP:20260421T153229
DTSTART;TZID=Europe/Berlin:20260508T163000
DTEND;TZID=Europe/Berlin:20260508T190000
UID:261MZ2961-20260508T163000@VHSDUISBURG
SUMMARY:Jugendredaktion (261MZ2961) 
LOCATION:VHS im Stadtfenster;Raum411, Steinsche Gasse 26, 47051 Duisburg
END:VEVENT
BEGIN:VEVENT
DTSTAMP:20260421T153229
DTSTART;TZID=Europe/Berlin:20260515T163000
DTEND;TZID=Europe/Berlin:20260515T190000
UID:261MZ2961-20260515T163000@VHSDUISBURG
SUMMARY:Jugendredaktion (261MZ2961) 
LOCATION:VHS im Stadtfenster;Raum411, Steinsche Gasse 26, 47051 Duisburg
END:VEVENT
END:VCALENDAR