BEGIN:VCALENDAR
PRODID:http://www.kufer.de/kuferweb / DE
VERSION:2.0
METHOD:PUBLISH
CALSCALE:GREGORIAN
X-WR-TIMEZONE:Europe/Berlin
BEGIN:VTIMEZONE
TZID:Europe/Berlin
X-LIC-LOCATION:Europe/Berlin
BEGIN:DAYLIGHT
TZOFFSETFROM:+0100
TZOFFSETTO:+0200
TZNAME:CEST
DTSTART;TZID=Europe/Berlin:19700329T020000
RRULE:FREQ=YEARLY;INTERVAL=1;BYDAY=-1SU;BYMONTH=3
END:DAYLIGHT
BEGIN:STANDARD
TZOFFSETFROM:+0200
TZOFFSETTO:+0100
TZNAME:CET
DTSTART;TZID=Europe/Berlin:19701025T030000
RRULE:FREQ=YEARLY;INTERVAL=1;BYDAY=-1SU;BYMONTH=10
END:STANDARD
END:VTIMEZONE
BEGIN:VEVENT
DTSTAMP:20260421T143639
DTSTART;TZID=Europe/Berlin:20260513T170000
DTEND;TZID=Europe/Berlin:20260513T183000
UID:261MZ2958-20260513T170000@VHSDUISBURG
SUMMARY:Künstliche Intelligenz – Segen oder Fluch? (261MZ2958) 
LOCATION:VHS im Stadtfenster;Raum319, Steinsche Gasse 26, 47051 Duisburg
END:VEVENT
BEGIN:VEVENT
DTSTAMP:20260421T143639
DTSTART;TZID=Europe/Berlin:20260520T170000
DTEND;TZID=Europe/Berlin:20260520T183000
UID:261MZ2958-20260520T170000@VHSDUISBURG
SUMMARY:Künstliche Intelligenz – Segen oder Fluch? (261MZ2958) 
LOCATION:VHS im Stadtfenster;Raum319, Steinsche Gasse 26, 47051 Duisburg
END:VEVENT
BEGIN:VEVENT
DTSTAMP:20260421T143639
DTSTART;TZID=Europe/Berlin:20260527T170000
DTEND;TZID=Europe/Berlin:20260527T183000
UID:261MZ2958-20260527T170000@VHSDUISBURG
SUMMARY:Künstliche Intelligenz – Segen oder Fluch? (261MZ2958) 
LOCATION:VHS im Stadtfenster;Raum319, Steinsche Gasse 26, 47051 Duisburg
END:VEVENT
BEGIN:VEVENT
DTSTAMP:20260421T143639
DTSTART;TZID=Europe/Berlin:20260603T170000
DTEND;TZID=Europe/Berlin:20260603T183000
UID:261MZ2958-20260603T170000@VHSDUISBURG
SUMMARY:Künstliche Intelligenz – Segen oder Fluch? (261MZ2958) 
LOCATION:VHS im Stadtfenster;Raum319, Steinsche Gasse 26, 47051 Duisburg
END:VEVENT
END:VCALENDAR