BEGIN:VCALENDAR
PRODID:http://www.kufer.de/kuferweb / DE
VERSION:2.0
METHOD:PUBLISH
CALSCALE:GREGORIAN
X-WR-TIMEZONE:Europe/Berlin
BEGIN:VTIMEZONE
TZID:Europe/Berlin
X-LIC-LOCATION:Europe/Berlin
BEGIN:DAYLIGHT
TZOFFSETFROM:+0100
TZOFFSETTO:+0200
TZNAME:CEST
DTSTART;TZID=Europe/Berlin:19700329T020000
RRULE:FREQ=YEARLY;INTERVAL=1;BYDAY=-1SU;BYMONTH=3
END:DAYLIGHT
BEGIN:STANDARD
TZOFFSETFROM:+0200
TZOFFSETTO:+0100
TZNAME:CET
DTSTART;TZID=Europe/Berlin:19701025T030000
RRULE:FREQ=YEARLY;INTERVAL=1;BYDAY=-1SU;BYMONTH=10
END:STANDARD
END:VTIMEZONE
BEGIN:VEVENT
DTSTAMP:20260423T223801
DTSTART;TZID=Europe/Berlin:20260204T153000
DTEND;TZID=Europe/Berlin:20260204T163000
UID:261MZ2892-20260204T153000@VHSDUISBURG
SUMMARY:Spielend Schach lernen für Senioren I Für Personen ohne Vorkenntnisse (261MZ2892) 
LOCATION:VHS im Stadtfenster;Raum218, Steinsche Gasse 26, 47051 Duisburg
END:VEVENT
BEGIN:VEVENT
DTSTAMP:20260423T223801
DTSTART;TZID=Europe/Berlin:20260211T153000
DTEND;TZID=Europe/Berlin:20260211T163000
UID:261MZ2892-20260211T153000@VHSDUISBURG
SUMMARY:Spielend Schach lernen für Senioren I Für Personen ohne Vorkenntnisse (261MZ2892) 
LOCATION:VHS im Stadtfenster;Raum218, Steinsche Gasse 26, 47051 Duisburg
END:VEVENT
BEGIN:VEVENT
DTSTAMP:20260423T223801
DTSTART;TZID=Europe/Berlin:20260218T153000
DTEND;TZID=Europe/Berlin:20260218T163000
UID:261MZ2892-20260218T153000@VHSDUISBURG
SUMMARY:Spielend Schach lernen für Senioren I Für Personen ohne Vorkenntnisse (261MZ2892) 
LOCATION:VHS im Stadtfenster;Raum218, Steinsche Gasse 26, 47051 Duisburg
END:VEVENT
BEGIN:VEVENT
DTSTAMP:20260423T223801
DTSTART;TZID=Europe/Berlin:20260225T153000
DTEND;TZID=Europe/Berlin:20260225T163000
UID:261MZ2892-20260225T153000@VHSDUISBURG
SUMMARY:Spielend Schach lernen für Senioren I Für Personen ohne Vorkenntnisse (261MZ2892) 
LOCATION:VHS im Stadtfenster;Raum218, Steinsche Gasse 26, 47051 Duisburg
END:VEVENT
BEGIN:VEVENT
DTSTAMP:20260423T223801
DTSTART;TZID=Europe/Berlin:20260304T153000
DTEND;TZID=Europe/Berlin:20260304T163000
UID:261MZ2892-20260304T153000@VHSDUISBURG
SUMMARY:Spielend Schach lernen für Senioren I Für Personen ohne Vorkenntnisse (261MZ2892) 
LOCATION:VHS im Stadtfenster;Raum218, Steinsche Gasse 26, 47051 Duisburg
END:VEVENT
BEGIN:VEVENT
DTSTAMP:20260423T223801
DTSTART;TZID=Europe/Berlin:20260311T153000
DTEND;TZID=Europe/Berlin:20260311T163000
UID:261MZ2892-20260311T153000@VHSDUISBURG
SUMMARY:Spielend Schach lernen für Senioren I Für Personen ohne Vorkenntnisse (261MZ2892) 
LOCATION:VHS im Stadtfenster;Raum218, Steinsche Gasse 26, 47051 Duisburg
END:VEVENT
END:VCALENDAR