BEGIN:VCALENDAR
PRODID:http://www.kufer.de/kuferweb / DE
VERSION:2.0
METHOD:PUBLISH
CALSCALE:GREGORIAN
X-WR-TIMEZONE:Europe/Berlin
BEGIN:VTIMEZONE
TZID:Europe/Berlin
X-LIC-LOCATION:Europe/Berlin
BEGIN:DAYLIGHT
TZOFFSETFROM:+0100
TZOFFSETTO:+0200
TZNAME:CEST
DTSTART;TZID=Europe/Berlin:19700329T020000
RRULE:FREQ=YEARLY;INTERVAL=1;BYDAY=-1SU;BYMONTH=3
END:DAYLIGHT
BEGIN:STANDARD
TZOFFSETFROM:+0200
TZOFFSETTO:+0100
TZNAME:CET
DTSTART;TZID=Europe/Berlin:19701025T030000
RRULE:FREQ=YEARLY;INTERVAL=1;BYDAY=-1SU;BYMONTH=10
END:STANDARD
END:VTIMEZONE
BEGIN:VEVENT
DTSTAMP:20260423T195305
DTSTART;TZID=Europe/Berlin:20260207T100000
DTEND;TZID=Europe/Berlin:20260207T130000
UID:261MZ2812-20260207T100000@VHSDUISBURG
SUMMARY:Akt- und Porträtzeichnen nach Modell (261MZ2812) 
LOCATION:VHS FABRIK;Raum107, Steinsche Gasse 32a, 47051 Duisburg
END:VEVENT
BEGIN:VEVENT
DTSTAMP:20260423T195305
DTSTART;TZID=Europe/Berlin:20260207T100000
DTEND;TZID=Europe/Berlin:20260207T130000
UID:261MZ2812-20260207T100000@VHSDUISBURG
SUMMARY:Akt- und Porträtzeichnen nach Modell (261MZ2812) 
LOCATION:VHS FABRIK;Raum107, Steinsche Gasse 32a, 47051 Duisburg
END:VEVENT
BEGIN:VEVENT
DTSTAMP:20260423T195305
DTSTART;TZID=Europe/Berlin:20260214T100000
DTEND;TZID=Europe/Berlin:20260214T130000
UID:261MZ2812-20260214T100000@VHSDUISBURG
SUMMARY:Akt- und Porträtzeichnen nach Modell (261MZ2812) 
LOCATION:VHS FABRIK;Raum107, Steinsche Gasse 32a, 47051 Duisburg
END:VEVENT
BEGIN:VEVENT
DTSTAMP:20260423T195305
DTSTART;TZID=Europe/Berlin:20260214T100000
DTEND;TZID=Europe/Berlin:20260214T130000
UID:261MZ2812-20260214T100000@VHSDUISBURG
SUMMARY:Akt- und Porträtzeichnen nach Modell (261MZ2812) 
LOCATION:VHS FABRIK;Raum107, Steinsche Gasse 32a, 47051 Duisburg
END:VEVENT
BEGIN:VEVENT
DTSTAMP:20260423T195305
DTSTART;TZID=Europe/Berlin:20260221T100000
DTEND;TZID=Europe/Berlin:20260221T130000
UID:261MZ2812-20260221T100000@VHSDUISBURG
SUMMARY:Akt- und Porträtzeichnen nach Modell (261MZ2812) 
LOCATION:VHS FABRIK;Raum107, Steinsche Gasse 32a, 47051 Duisburg
END:VEVENT
BEGIN:VEVENT
DTSTAMP:20260423T195305
DTSTART;TZID=Europe/Berlin:20260221T100000
DTEND;TZID=Europe/Berlin:20260221T130000
UID:261MZ2812-20260221T100000@VHSDUISBURG
SUMMARY:Akt- und Porträtzeichnen nach Modell (261MZ2812) 
LOCATION:VHS FABRIK;Raum107, Steinsche Gasse 32a, 47051 Duisburg
END:VEVENT
BEGIN:VEVENT
DTSTAMP:20260423T195305
DTSTART;TZID=Europe/Berlin:20260228T100000
DTEND;TZID=Europe/Berlin:20260228T130000
UID:261MZ2812-20260228T100000@VHSDUISBURG
SUMMARY:Akt- und Porträtzeichnen nach Modell (261MZ2812) 
LOCATION:VHS FABRIK;Raum107, Steinsche Gasse 32a, 47051 Duisburg
END:VEVENT
BEGIN:VEVENT
DTSTAMP:20260423T195305
DTSTART;TZID=Europe/Berlin:20260307T100000
DTEND;TZID=Europe/Berlin:20260307T130000
UID:261MZ2812-20260307T100000@VHSDUISBURG
SUMMARY:Akt- und Porträtzeichnen nach Modell (261MZ2812) 
LOCATION:VHS FABRIK;Raum107, Steinsche Gasse 32a, 47051 Duisburg
END:VEVENT
BEGIN:VEVENT
DTSTAMP:20260423T195305
DTSTART;TZID=Europe/Berlin:20260307T100000
DTEND;TZID=Europe/Berlin:20260307T130000
UID:261MZ2812-20260307T100000@VHSDUISBURG
SUMMARY:Akt- und Porträtzeichnen nach Modell (261MZ2812) 
LOCATION:VHS FABRIK;Raum107, Steinsche Gasse 32a, 47051 Duisburg
END:VEVENT
BEGIN:VEVENT
DTSTAMP:20260423T195305
DTSTART;TZID=Europe/Berlin:20260314T100000
DTEND;TZID=Europe/Berlin:20260314T130000
UID:261MZ2812-20260314T100000@VHSDUISBURG
SUMMARY:Akt- und Porträtzeichnen nach Modell (261MZ2812) 
LOCATION:VHS FABRIK;Raum107, Steinsche Gasse 32a, 47051 Duisburg
END:VEVENT
BEGIN:VEVENT
DTSTAMP:20260423T195305
DTSTART;TZID=Europe/Berlin:20260314T100000
DTEND;TZID=Europe/Berlin:20260314T130000
UID:261MZ2812-20260314T100000@VHSDUISBURG
SUMMARY:Akt- und Porträtzeichnen nach Modell (261MZ2812) 
LOCATION:VHS FABRIK;Raum107, Steinsche Gasse 32a, 47051 Duisburg
END:VEVENT
BEGIN:VEVENT
DTSTAMP:20260423T195305
DTSTART;TZID=Europe/Berlin:20260321T100000
DTEND;TZID=Europe/Berlin:20260321T130000
UID:261MZ2812-20260321T100000@VHSDUISBURG
SUMMARY:Akt- und Porträtzeichnen nach Modell (261MZ2812) 
LOCATION:VHS FABRIK;Raum107, Steinsche Gasse 32a, 47051 Duisburg
END:VEVENT
BEGIN:VEVENT
DTSTAMP:20260423T195305
DTSTART;TZID=Europe/Berlin:20260321T100000
DTEND;TZID=Europe/Berlin:20260321T130000
UID:261MZ2812-20260321T100000@VHSDUISBURG
SUMMARY:Akt- und Porträtzeichnen nach Modell (261MZ2812) 
LOCATION:VHS FABRIK;Raum107, Steinsche Gasse 32a, 47051 Duisburg
END:VEVENT
BEGIN:VEVENT
DTSTAMP:20260423T195305
DTSTART;TZID=Europe/Berlin:20260328T100000
DTEND;TZID=Europe/Berlin:20260328T130000
UID:261MZ2812-20260328T100000@VHSDUISBURG
SUMMARY:Akt- und Porträtzeichnen nach Modell (261MZ2812) 
LOCATION:VHS FABRIK;Raum107, Steinsche Gasse 32a, 47051 Duisburg
END:VEVENT
BEGIN:VEVENT
DTSTAMP:20260423T195305
DTSTART;TZID=Europe/Berlin:20260328T100000
DTEND;TZID=Europe/Berlin:20260328T130000
UID:261MZ2812-20260328T100000@VHSDUISBURG
SUMMARY:Akt- und Porträtzeichnen nach Modell (261MZ2812) 
LOCATION:VHS FABRIK;Raum107, Steinsche Gasse 32a, 47051 Duisburg
END:VEVENT
BEGIN:VEVENT
DTSTAMP:20260423T195305
DTSTART;TZID=Europe/Berlin:20260418T100000
DTEND;TZID=Europe/Berlin:20260418T130000
UID:261MZ2812-20260418T100000@VHSDUISBURG
SUMMARY:Akt- und Porträtzeichnen nach Modell (261MZ2812) 
LOCATION:VHS FABRIK;Raum107, Steinsche Gasse 32a, 47051 Duisburg
END:VEVENT
BEGIN:VEVENT
DTSTAMP:20260423T195305
DTSTART;TZID=Europe/Berlin:20260425T100000
DTEND;TZID=Europe/Berlin:20260425T130000
UID:261MZ2812-20260425T100000@VHSDUISBURG
SUMMARY:Akt- und Porträtzeichnen nach Modell (261MZ2812) 
LOCATION:VHS FABRIK;Raum107, Steinsche Gasse 32a, 47051 Duisburg
END:VEVENT
BEGIN:VEVENT
DTSTAMP:20260423T195305
DTSTART;TZID=Europe/Berlin:20260502T100000
DTEND;TZID=Europe/Berlin:20260502T130000
UID:261MZ2812-20260502T100000@VHSDUISBURG
SUMMARY:Akt- und Porträtzeichnen nach Modell (261MZ2812) 
LOCATION:VHS FABRIK;Raum107, Steinsche Gasse 32a, 47051 Duisburg
END:VEVENT
BEGIN:VEVENT
DTSTAMP:20260423T195305
DTSTART;TZID=Europe/Berlin:20260509T100000
DTEND;TZID=Europe/Berlin:20260509T130000
UID:261MZ2812-20260509T100000@VHSDUISBURG
SUMMARY:Akt- und Porträtzeichnen nach Modell (261MZ2812) 
LOCATION:VHS FABRIK;Raum107, Steinsche Gasse 32a, 47051 Duisburg
END:VEVENT
BEGIN:VEVENT
DTSTAMP:20260423T195305
DTSTART;TZID=Europe/Berlin:20260516T100000
DTEND;TZID=Europe/Berlin:20260516T130000
UID:261MZ2812-20260516T100000@VHSDUISBURG
SUMMARY:Akt- und Porträtzeichnen nach Modell (261MZ2812) 
LOCATION:VHS FABRIK;Raum107, Steinsche Gasse 32a, 47051 Duisburg
END:VEVENT
END:VCALENDAR