BEGIN:VCALENDAR
PRODID:http://www.kufer.de/kuferweb / DE
VERSION:2.0
METHOD:PUBLISH
CALSCALE:GREGORIAN
X-WR-TIMEZONE:Europe/Berlin
BEGIN:VTIMEZONE
TZID:Europe/Berlin
X-LIC-LOCATION:Europe/Berlin
BEGIN:DAYLIGHT
TZOFFSETFROM:+0100
TZOFFSETTO:+0200
TZNAME:CEST
DTSTART;TZID=Europe/Berlin:19700329T020000
RRULE:FREQ=YEARLY;INTERVAL=1;BYDAY=-1SU;BYMONTH=3
END:DAYLIGHT
BEGIN:STANDARD
TZOFFSETFROM:+0200
TZOFFSETTO:+0100
TZNAME:CET
DTSTART;TZID=Europe/Berlin:19701025T030000
RRULE:FREQ=YEARLY;INTERVAL=1;BYDAY=-1SU;BYMONTH=10
END:STANDARD
END:VTIMEZONE
BEGIN:VEVENT
DTSTAMP:20260421T162605
DTSTART;TZID=Europe/Berlin:20260206T194500
DTEND;TZID=Europe/Berlin:20260206T211500
UID:261MZ2737-20260206T194500@VHSDUISBURG
SUMMARY:Klassisches Ballett - Fortgeschrittene (261MZ2737) 
LOCATION:VHS im Stadtfenster;Raum126, Steinsche Gasse 26, 47051 Duisburg
END:VEVENT
BEGIN:VEVENT
DTSTAMP:20260421T162605
DTSTART;TZID=Europe/Berlin:20260213T194500
DTEND;TZID=Europe/Berlin:20260213T211500
UID:261MZ2737-20260213T194500@VHSDUISBURG
SUMMARY:Klassisches Ballett - Fortgeschrittene (261MZ2737) 
LOCATION:VHS im Stadtfenster;Raum126, Steinsche Gasse 26, 47051 Duisburg
END:VEVENT
BEGIN:VEVENT
DTSTAMP:20260421T162605
DTSTART;TZID=Europe/Berlin:20260220T194500
DTEND;TZID=Europe/Berlin:20260220T211500
UID:261MZ2737-20260220T194500@VHSDUISBURG
SUMMARY:Klassisches Ballett - Fortgeschrittene (261MZ2737) 
LOCATION:VHS im Stadtfenster;Raum126, Steinsche Gasse 26, 47051 Duisburg
END:VEVENT
BEGIN:VEVENT
DTSTAMP:20260421T162605
DTSTART;TZID=Europe/Berlin:20260227T194500
DTEND;TZID=Europe/Berlin:20260227T211500
UID:261MZ2737-20260227T194500@VHSDUISBURG
SUMMARY:Klassisches Ballett - Fortgeschrittene (261MZ2737) 
LOCATION:VHS im Stadtfenster;Raum126, Steinsche Gasse 26, 47051 Duisburg
END:VEVENT
BEGIN:VEVENT
DTSTAMP:20260421T162605
DTSTART;TZID=Europe/Berlin:20260313T194500
DTEND;TZID=Europe/Berlin:20260313T211500
UID:261MZ2737-20260313T194500@VHSDUISBURG
SUMMARY:Klassisches Ballett - Fortgeschrittene (261MZ2737) 
LOCATION:VHS im Stadtfenster;Raum126, Steinsche Gasse 26, 47051 Duisburg
END:VEVENT
BEGIN:VEVENT
DTSTAMP:20260421T162605
DTSTART;TZID=Europe/Berlin:20260320T194500
DTEND;TZID=Europe/Berlin:20260320T211500
UID:261MZ2737-20260320T194500@VHSDUISBURG
SUMMARY:Klassisches Ballett - Fortgeschrittene (261MZ2737) 
LOCATION:VHS im Stadtfenster;Raum126, Steinsche Gasse 26, 47051 Duisburg
END:VEVENT
BEGIN:VEVENT
DTSTAMP:20260421T162605
DTSTART;TZID=Europe/Berlin:20260327T194500
DTEND;TZID=Europe/Berlin:20260327T211500
UID:261MZ2737-20260327T194500@VHSDUISBURG
SUMMARY:Klassisches Ballett - Fortgeschrittene (261MZ2737) 
LOCATION:VHS im Stadtfenster;Raum126, Steinsche Gasse 26, 47051 Duisburg
END:VEVENT
BEGIN:VEVENT
DTSTAMP:20260421T162605
DTSTART;TZID=Europe/Berlin:20260417T194500
DTEND;TZID=Europe/Berlin:20260417T211500
UID:261MZ2737-20260417T194500@VHSDUISBURG
SUMMARY:Klassisches Ballett - Fortgeschrittene (261MZ2737) 
LOCATION:VHS im Stadtfenster;Raum126, Steinsche Gasse 26, 47051 Duisburg
END:VEVENT
BEGIN:VEVENT
DTSTAMP:20260421T162605
DTSTART;TZID=Europe/Berlin:20260424T194500
DTEND;TZID=Europe/Berlin:20260424T211500
UID:261MZ2737-20260424T194500@VHSDUISBURG
SUMMARY:Klassisches Ballett - Fortgeschrittene (261MZ2737) 
LOCATION:VHS im Stadtfenster;Raum126, Steinsche Gasse 26, 47051 Duisburg
END:VEVENT
BEGIN:VEVENT
DTSTAMP:20260421T162605
DTSTART;TZID=Europe/Berlin:20260508T194500
DTEND;TZID=Europe/Berlin:20260508T211500
UID:261MZ2737-20260508T194500@VHSDUISBURG
SUMMARY:Klassisches Ballett - Fortgeschrittene (261MZ2737) 
LOCATION:VHS im Stadtfenster;Raum126, Steinsche Gasse 26, 47051 Duisburg
END:VEVENT
BEGIN:VEVENT
DTSTAMP:20260421T162605
DTSTART;TZID=Europe/Berlin:20260515T194500
DTEND;TZID=Europe/Berlin:20260515T211500
UID:261MZ2737-20260515T194500@VHSDUISBURG
SUMMARY:Klassisches Ballett - Fortgeschrittene (261MZ2737) 
LOCATION:VHS im Stadtfenster;Raum126, Steinsche Gasse 26, 47051 Duisburg
END:VEVENT
BEGIN:VEVENT
DTSTAMP:20260421T162605
DTSTART;TZID=Europe/Berlin:20260522T194500
DTEND;TZID=Europe/Berlin:20260522T211500
UID:261MZ2737-20260522T194500@VHSDUISBURG
SUMMARY:Klassisches Ballett - Fortgeschrittene (261MZ2737) 
LOCATION:VHS im Stadtfenster;Raum126, Steinsche Gasse 26, 47051 Duisburg
END:VEVENT
BEGIN:VEVENT
DTSTAMP:20260421T162605
DTSTART;TZID=Europe/Berlin:20260529T194500
DTEND;TZID=Europe/Berlin:20260529T211500
UID:261MZ2737-20260529T194500@VHSDUISBURG
SUMMARY:Klassisches Ballett - Fortgeschrittene (261MZ2737) 
LOCATION:VHS im Stadtfenster;Raum126, Steinsche Gasse 26, 47051 Duisburg
END:VEVENT
END:VCALENDAR