BEGIN:VCALENDAR
PRODID:http://www.kufer.de/kuferweb / DE
VERSION:2.0
METHOD:PUBLISH
CALSCALE:GREGORIAN
X-WR-TIMEZONE:Europe/Berlin
BEGIN:VTIMEZONE
TZID:Europe/Berlin
X-LIC-LOCATION:Europe/Berlin
BEGIN:DAYLIGHT
TZOFFSETFROM:+0100
TZOFFSETTO:+0200
TZNAME:CEST
DTSTART;TZID=Europe/Berlin:19700329T020000
RRULE:FREQ=YEARLY;INTERVAL=1;BYDAY=-1SU;BYMONTH=3
END:DAYLIGHT
BEGIN:STANDARD
TZOFFSETFROM:+0200
TZOFFSETTO:+0100
TZNAME:CET
DTSTART;TZID=Europe/Berlin:19701025T030000
RRULE:FREQ=YEARLY;INTERVAL=1;BYDAY=-1SU;BYMONTH=10
END:STANDARD
END:VTIMEZONE
BEGIN:VEVENT
DTSTAMP:20260421T085306
DTSTART;TZID=Europe/Berlin:20260202T200000
DTEND;TZID=Europe/Berlin:20260202T213000
UID:261MZ2602-20260202T200000@VHSDUISBURG
SUMMARY:Theaterspiel (261MZ2602) 
LOCATION:VHS Königstraße;013 - Vortragssaal, Königstr. 47, 47051 Duisburg
END:VEVENT
BEGIN:VEVENT
DTSTAMP:20260421T085306
DTSTART;TZID=Europe/Berlin:20260209T200000
DTEND;TZID=Europe/Berlin:20260209T213000
UID:261MZ2602-20260209T200000@VHSDUISBURG
SUMMARY:Theaterspiel (261MZ2602) 
LOCATION:VHS Königstraße;013 - Vortragssaal, Königstr. 47, 47051 Duisburg
END:VEVENT
BEGIN:VEVENT
DTSTAMP:20260421T085306
DTSTART;TZID=Europe/Berlin:20260223T200000
DTEND;TZID=Europe/Berlin:20260223T213000
UID:261MZ2602-20260223T200000@VHSDUISBURG
SUMMARY:Theaterspiel (261MZ2602) 
LOCATION:VHS Königstraße;013 - Vortragssaal, Königstr. 47, 47051 Duisburg
END:VEVENT
BEGIN:VEVENT
DTSTAMP:20260421T085306
DTSTART;TZID=Europe/Berlin:20260302T200000
DTEND;TZID=Europe/Berlin:20260302T213000
UID:261MZ2602-20260302T200000@VHSDUISBURG
SUMMARY:Theaterspiel (261MZ2602) 
LOCATION:VHS Königstraße;013 - Vortragssaal, Königstr. 47, 47051 Duisburg
END:VEVENT
BEGIN:VEVENT
DTSTAMP:20260421T085306
DTSTART;TZID=Europe/Berlin:20260309T200000
DTEND;TZID=Europe/Berlin:20260309T213000
UID:261MZ2602-20260309T200000@VHSDUISBURG
SUMMARY:Theaterspiel (261MZ2602) 
LOCATION:VHS Königstraße;013 - Vortragssaal, Königstr. 47, 47051 Duisburg
END:VEVENT
BEGIN:VEVENT
DTSTAMP:20260421T085306
DTSTART;TZID=Europe/Berlin:20260323T200000
DTEND;TZID=Europe/Berlin:20260323T213000
UID:261MZ2602-20260323T200000@VHSDUISBURG
SUMMARY:Theaterspiel (261MZ2602) 
LOCATION:VHS Königstraße;013 - Vortragssaal, Königstr. 47, 47051 Duisburg
END:VEVENT
BEGIN:VEVENT
DTSTAMP:20260421T085306
DTSTART;TZID=Europe/Berlin:20260413T200000
DTEND;TZID=Europe/Berlin:20260413T213000
UID:261MZ2602-20260413T200000@VHSDUISBURG
SUMMARY:Theaterspiel (261MZ2602) 
LOCATION:VHS Königstraße;013 - Vortragssaal, Königstr. 47, 47051 Duisburg
END:VEVENT
BEGIN:VEVENT
DTSTAMP:20260421T085306
DTSTART;TZID=Europe/Berlin:20260420T200000
DTEND;TZID=Europe/Berlin:20260420T213000
UID:261MZ2602-20260420T200000@VHSDUISBURG
SUMMARY:Theaterspiel (261MZ2602) 
LOCATION:VHS Königstraße;013 - Vortragssaal, Königstr. 47, 47051 Duisburg
END:VEVENT
BEGIN:VEVENT
DTSTAMP:20260421T085306
DTSTART;TZID=Europe/Berlin:20260427T200000
DTEND;TZID=Europe/Berlin:20260427T213000
UID:261MZ2602-20260427T200000@VHSDUISBURG
SUMMARY:Theaterspiel (261MZ2602) 
LOCATION:VHS Königstraße;013 - Vortragssaal, Königstr. 47, 47051 Duisburg
END:VEVENT
BEGIN:VEVENT
DTSTAMP:20260421T085306
DTSTART;TZID=Europe/Berlin:20260504T200000
DTEND;TZID=Europe/Berlin:20260504T213000
UID:261MZ2602-20260504T200000@VHSDUISBURG
SUMMARY:Theaterspiel (261MZ2602) 
LOCATION:VHS Königstraße;013 - Vortragssaal, Königstr. 47, 47051 Duisburg
END:VEVENT
BEGIN:VEVENT
DTSTAMP:20260421T085306
DTSTART;TZID=Europe/Berlin:20260511T200000
DTEND;TZID=Europe/Berlin:20260511T213000
UID:261MZ2602-20260511T200000@VHSDUISBURG
SUMMARY:Theaterspiel (261MZ2602) 
LOCATION:VHS Königstraße;013 - Vortragssaal, Königstr. 47, 47051 Duisburg
END:VEVENT
BEGIN:VEVENT
DTSTAMP:20260421T085306
DTSTART;TZID=Europe/Berlin:20260518T200000
DTEND;TZID=Europe/Berlin:20260518T213000
UID:261MZ2602-20260518T200000@VHSDUISBURG
SUMMARY:Theaterspiel (261MZ2602) 
LOCATION:VHS Königstraße;013 - Vortragssaal, Königstr. 47, 47051 Duisburg
END:VEVENT
END:VCALENDAR