BEGIN:VCALENDAR
PRODID:http://www.kufer.de/kuferweb / DE
VERSION:2.0
METHOD:PUBLISH
CALSCALE:GREGORIAN
X-WR-TIMEZONE:Europe/Berlin
BEGIN:VTIMEZONE
TZID:Europe/Berlin
X-LIC-LOCATION:Europe/Berlin
BEGIN:DAYLIGHT
TZOFFSETFROM:+0100
TZOFFSETTO:+0200
TZNAME:CEST
DTSTART;TZID=Europe/Berlin:19700329T020000
RRULE:FREQ=YEARLY;INTERVAL=1;BYDAY=-1SU;BYMONTH=3
END:DAYLIGHT
BEGIN:STANDARD
TZOFFSETFROM:+0200
TZOFFSETTO:+0100
TZNAME:CET
DTSTART;TZID=Europe/Berlin:19701025T030000
RRULE:FREQ=YEARLY;INTERVAL=1;BYDAY=-1SU;BYMONTH=10
END:STANDARD
END:VTIMEZONE
BEGIN:VEVENT
DTSTAMP:20260423T103018
DTSTART;TZID=Europe/Berlin:20260203T100000
DTEND;TZID=Europe/Berlin:20260203T104500
UID:261MZ2575-20260203T100000@VHSDUISBURG
SUMMARY:„Singen ist das Fundament zur Musik in allen Dingen.“ Georg Philipp Telemann Singkreis mit Marliese Reichardt (261MZ2575) 
LOCATION:VHS im Stadtfenster;Raum121, Steinsche Gasse 26, 47051 Duisburg
END:VEVENT
BEGIN:VEVENT
DTSTAMP:20260423T103018
DTSTART;TZID=Europe/Berlin:20260210T100000
DTEND;TZID=Europe/Berlin:20260210T104500
UID:261MZ2575-20260210T100000@VHSDUISBURG
SUMMARY:„Singen ist das Fundament zur Musik in allen Dingen.“ Georg Philipp Telemann Singkreis mit Marliese Reichardt (261MZ2575) 
LOCATION:VHS im Stadtfenster;Raum121, Steinsche Gasse 26, 47051 Duisburg
END:VEVENT
BEGIN:VEVENT
DTSTAMP:20260423T103018
DTSTART;TZID=Europe/Berlin:20260217T100000
DTEND;TZID=Europe/Berlin:20260217T104500
UID:261MZ2575-20260217T100000@VHSDUISBURG
SUMMARY:„Singen ist das Fundament zur Musik in allen Dingen.“ Georg Philipp Telemann Singkreis mit Marliese Reichardt (261MZ2575) 
LOCATION:VHS im Stadtfenster;Raum121, Steinsche Gasse 26, 47051 Duisburg
END:VEVENT
BEGIN:VEVENT
DTSTAMP:20260423T103018
DTSTART;TZID=Europe/Berlin:20260224T100000
DTEND;TZID=Europe/Berlin:20260224T104500
UID:261MZ2575-20260224T100000@VHSDUISBURG
SUMMARY:„Singen ist das Fundament zur Musik in allen Dingen.“ Georg Philipp Telemann Singkreis mit Marliese Reichardt (261MZ2575) 
LOCATION:VHS im Stadtfenster;Raum121, Steinsche Gasse 26, 47051 Duisburg
END:VEVENT
BEGIN:VEVENT
DTSTAMP:20260423T103018
DTSTART;TZID=Europe/Berlin:20260303T100000
DTEND;TZID=Europe/Berlin:20260303T104500
UID:261MZ2575-20260303T100000@VHSDUISBURG
SUMMARY:„Singen ist das Fundament zur Musik in allen Dingen.“ Georg Philipp Telemann Singkreis mit Marliese Reichardt (261MZ2575) 
LOCATION:VHS im Stadtfenster;Raum121, Steinsche Gasse 26, 47051 Duisburg
END:VEVENT
BEGIN:VEVENT
DTSTAMP:20260423T103018
DTSTART;TZID=Europe/Berlin:20260310T100000
DTEND;TZID=Europe/Berlin:20260310T104500
UID:261MZ2575-20260310T100000@VHSDUISBURG
SUMMARY:„Singen ist das Fundament zur Musik in allen Dingen.“ Georg Philipp Telemann Singkreis mit Marliese Reichardt (261MZ2575) 
LOCATION:VHS im Stadtfenster;Raum121, Steinsche Gasse 26, 47051 Duisburg
END:VEVENT
BEGIN:VEVENT
DTSTAMP:20260423T103018
DTSTART;TZID=Europe/Berlin:20260317T100000
DTEND;TZID=Europe/Berlin:20260317T104500
UID:261MZ2575-20260317T100000@VHSDUISBURG
SUMMARY:„Singen ist das Fundament zur Musik in allen Dingen.“ Georg Philipp Telemann Singkreis mit Marliese Reichardt (261MZ2575) 
LOCATION:VHS im Stadtfenster;Raum121, Steinsche Gasse 26, 47051 Duisburg
END:VEVENT
BEGIN:VEVENT
DTSTAMP:20260423T103018
DTSTART;TZID=Europe/Berlin:20260324T100000
DTEND;TZID=Europe/Berlin:20260324T104500
UID:261MZ2575-20260324T100000@VHSDUISBURG
SUMMARY:„Singen ist das Fundament zur Musik in allen Dingen.“ Georg Philipp Telemann Singkreis mit Marliese Reichardt (261MZ2575) 
LOCATION:VHS im Stadtfenster;Raum121, Steinsche Gasse 26, 47051 Duisburg
END:VEVENT
BEGIN:VEVENT
DTSTAMP:20260423T103018
DTSTART;TZID=Europe/Berlin:20260414T100000
DTEND;TZID=Europe/Berlin:20260414T104500
UID:261MZ2575-20260414T100000@VHSDUISBURG
SUMMARY:„Singen ist das Fundament zur Musik in allen Dingen.“ Georg Philipp Telemann Singkreis mit Marliese Reichardt (261MZ2575) 
LOCATION:VHS im Stadtfenster;Raum121, Steinsche Gasse 26, 47051 Duisburg
END:VEVENT
BEGIN:VEVENT
DTSTAMP:20260423T103018
DTSTART;TZID=Europe/Berlin:20260421T100000
DTEND;TZID=Europe/Berlin:20260421T104500
UID:261MZ2575-20260421T100000@VHSDUISBURG
SUMMARY:„Singen ist das Fundament zur Musik in allen Dingen.“ Georg Philipp Telemann Singkreis mit Marliese Reichardt (261MZ2575) 
LOCATION:VHS im Stadtfenster;Raum121, Steinsche Gasse 26, 47051 Duisburg
END:VEVENT
BEGIN:VEVENT
DTSTAMP:20260423T103018
DTSTART;TZID=Europe/Berlin:20260428T100000
DTEND;TZID=Europe/Berlin:20260428T104500
UID:261MZ2575-20260428T100000@VHSDUISBURG
SUMMARY:„Singen ist das Fundament zur Musik in allen Dingen.“ Georg Philipp Telemann Singkreis mit Marliese Reichardt (261MZ2575) 
LOCATION:VHS im Stadtfenster;Raum121, Steinsche Gasse 26, 47051 Duisburg
END:VEVENT
BEGIN:VEVENT
DTSTAMP:20260423T103018
DTSTART;TZID=Europe/Berlin:20260505T100000
DTEND;TZID=Europe/Berlin:20260505T104500
UID:261MZ2575-20260505T100000@VHSDUISBURG
SUMMARY:„Singen ist das Fundament zur Musik in allen Dingen.“ Georg Philipp Telemann Singkreis mit Marliese Reichardt (261MZ2575) 
LOCATION:VHS im Stadtfenster;Raum121, Steinsche Gasse 26, 47051 Duisburg
END:VEVENT
BEGIN:VEVENT
DTSTAMP:20260423T103018
DTSTART;TZID=Europe/Berlin:20260512T100000
DTEND;TZID=Europe/Berlin:20260512T104500
UID:261MZ2575-20260512T100000@VHSDUISBURG
SUMMARY:„Singen ist das Fundament zur Musik in allen Dingen.“ Georg Philipp Telemann Singkreis mit Marliese Reichardt (261MZ2575) 
LOCATION:VHS im Stadtfenster;Raum121, Steinsche Gasse 26, 47051 Duisburg
END:VEVENT
END:VCALENDAR