BEGIN:VCALENDAR
PRODID:http://www.kufer.de/kuferweb / DE
VERSION:2.0
METHOD:PUBLISH
CALSCALE:GREGORIAN
X-WR-TIMEZONE:Europe/Berlin
BEGIN:VTIMEZONE
TZID:Europe/Berlin
X-LIC-LOCATION:Europe/Berlin
BEGIN:DAYLIGHT
TZOFFSETFROM:+0100
TZOFFSETTO:+0200
TZNAME:CEST
DTSTART;TZID=Europe/Berlin:19700329T020000
RRULE:FREQ=YEARLY;INTERVAL=1;BYDAY=-1SU;BYMONTH=3
END:DAYLIGHT
BEGIN:STANDARD
TZOFFSETFROM:+0200
TZOFFSETTO:+0100
TZNAME:CET
DTSTART;TZID=Europe/Berlin:19701025T030000
RRULE:FREQ=YEARLY;INTERVAL=1;BYDAY=-1SU;BYMONTH=10
END:STANDARD
END:VTIMEZONE
BEGIN:VEVENT
DTSTAMP:20260423T200512
DTSTART;TZID=Europe/Berlin:20260204T190000
DTEND;TZID=Europe/Berlin:20260204T203000
UID:261MZ2566-20260204T190000@VHSDUISBURG
SUMMARY:Vom mehrstimmigen Spiel zum "Blockflötenorchester" Ensemblespiel II (261MZ2566) 
LOCATION:VHS Königstraße;013 - Vortragssaal, Königstr. 47, 47051 Duisburg
END:VEVENT
BEGIN:VEVENT
DTSTAMP:20260423T200512
DTSTART;TZID=Europe/Berlin:20260225T190000
DTEND;TZID=Europe/Berlin:20260225T203000
UID:261MZ2566-20260225T190000@VHSDUISBURG
SUMMARY:Vom mehrstimmigen Spiel zum "Blockflötenorchester" Ensemblespiel II (261MZ2566) 
LOCATION:VHS Königstraße;013 - Vortragssaal, Königstr. 47, 47051 Duisburg
END:VEVENT
BEGIN:VEVENT
DTSTAMP:20260423T200512
DTSTART;TZID=Europe/Berlin:20260304T190000
DTEND;TZID=Europe/Berlin:20260304T203000
UID:261MZ2566-20260304T190000@VHSDUISBURG
SUMMARY:Vom mehrstimmigen Spiel zum "Blockflötenorchester" Ensemblespiel II (261MZ2566) 
LOCATION:VHS Königstraße;013 - Vortragssaal, Königstr. 47, 47051 Duisburg
END:VEVENT
BEGIN:VEVENT
DTSTAMP:20260423T200512
DTSTART;TZID=Europe/Berlin:20260318T190000
DTEND;TZID=Europe/Berlin:20260318T203000
UID:261MZ2566-20260318T190000@VHSDUISBURG
SUMMARY:Vom mehrstimmigen Spiel zum "Blockflötenorchester" Ensemblespiel II (261MZ2566) 
LOCATION:VHS Königstraße;013 - Vortragssaal, Königstr. 47, 47051 Duisburg
END:VEVENT
BEGIN:VEVENT
DTSTAMP:20260423T200512
DTSTART;TZID=Europe/Berlin:20260325T190000
DTEND;TZID=Europe/Berlin:20260325T203000
UID:261MZ2566-20260325T190000@VHSDUISBURG
SUMMARY:Vom mehrstimmigen Spiel zum "Blockflötenorchester" Ensemblespiel II (261MZ2566) 
LOCATION:VHS Königstraße;013 - Vortragssaal, Königstr. 47, 47051 Duisburg
END:VEVENT
BEGIN:VEVENT
DTSTAMP:20260423T200512
DTSTART;TZID=Europe/Berlin:20260415T190000
DTEND;TZID=Europe/Berlin:20260415T203000
UID:261MZ2566-20260415T190000@VHSDUISBURG
SUMMARY:Vom mehrstimmigen Spiel zum "Blockflötenorchester" Ensemblespiel II (261MZ2566) 
LOCATION:VHS Königstraße;013 - Vortragssaal, Königstr. 47, 47051 Duisburg
END:VEVENT
BEGIN:VEVENT
DTSTAMP:20260423T200512
DTSTART;TZID=Europe/Berlin:20260422T190000
DTEND;TZID=Europe/Berlin:20260422T203000
UID:261MZ2566-20260422T190000@VHSDUISBURG
SUMMARY:Vom mehrstimmigen Spiel zum "Blockflötenorchester" Ensemblespiel II (261MZ2566) 
LOCATION:VHS Königstraße;013 - Vortragssaal, Königstr. 47, 47051 Duisburg
END:VEVENT
BEGIN:VEVENT
DTSTAMP:20260423T200512
DTSTART;TZID=Europe/Berlin:20260429T190000
DTEND;TZID=Europe/Berlin:20260429T203000
UID:261MZ2566-20260429T190000@VHSDUISBURG
SUMMARY:Vom mehrstimmigen Spiel zum "Blockflötenorchester" Ensemblespiel II (261MZ2566) 
LOCATION:VHS Königstraße;013 - Vortragssaal, Königstr. 47, 47051 Duisburg
END:VEVENT
BEGIN:VEVENT
DTSTAMP:20260423T200512
DTSTART;TZID=Europe/Berlin:20260506T190000
DTEND;TZID=Europe/Berlin:20260506T203000
UID:261MZ2566-20260506T190000@VHSDUISBURG
SUMMARY:Vom mehrstimmigen Spiel zum "Blockflötenorchester" Ensemblespiel II (261MZ2566) 
LOCATION:VHS Königstraße;013 - Vortragssaal, Königstr. 47, 47051 Duisburg
END:VEVENT
BEGIN:VEVENT
DTSTAMP:20260423T200512
DTSTART;TZID=Europe/Berlin:20260513T190000
DTEND;TZID=Europe/Berlin:20260513T203000
UID:261MZ2566-20260513T190000@VHSDUISBURG
SUMMARY:Vom mehrstimmigen Spiel zum "Blockflötenorchester" Ensemblespiel II (261MZ2566) 
LOCATION:VHS Königstraße;013 - Vortragssaal, Königstr. 47, 47051 Duisburg
END:VEVENT
BEGIN:VEVENT
DTSTAMP:20260423T200512
DTSTART;TZID=Europe/Berlin:20260520T190000
DTEND;TZID=Europe/Berlin:20260520T203000
UID:261MZ2566-20260520T190000@VHSDUISBURG
DESCRIPTION:NT für den 11.02.2026 11.02.26 (*CK): 
SUMMARY:Vom mehrstimmigen Spiel zum "Blockflötenorchester" Ensemblespiel II (261MZ2566) 
LOCATION:VHS Königstraße;013 - Vortragssaal, Königstr. 47, 47051 Duisburg
END:VEVENT
BEGIN:VEVENT
DTSTAMP:20260423T200512
DTSTART;TZID=Europe/Berlin:20260527T190000
DTEND;TZID=Europe/Berlin:20260527T203000
UID:261MZ2566-20260527T190000@VHSDUISBURG
DESCRIPTION:NT für 18.02.2026 12.02.26 (*CK): 
SUMMARY:Vom mehrstimmigen Spiel zum "Blockflötenorchester" Ensemblespiel II (261MZ2566) 
LOCATION:VHS Königstraße;013 - Vortragssaal, Königstr. 47, 47051 Duisburg
END:VEVENT
END:VCALENDAR