BEGIN:VCALENDAR
PRODID:http://www.kufer.de/kuferweb / DE
VERSION:2.0
METHOD:PUBLISH
CALSCALE:GREGORIAN
X-WR-TIMEZONE:Europe/Berlin
BEGIN:VTIMEZONE
TZID:Europe/Berlin
X-LIC-LOCATION:Europe/Berlin
BEGIN:DAYLIGHT
TZOFFSETFROM:+0100
TZOFFSETTO:+0200
TZNAME:CEST
DTSTART;TZID=Europe/Berlin:19700329T020000
RRULE:FREQ=YEARLY;INTERVAL=1;BYDAY=-1SU;BYMONTH=3
END:DAYLIGHT
BEGIN:STANDARD
TZOFFSETFROM:+0200
TZOFFSETTO:+0100
TZNAME:CET
DTSTART;TZID=Europe/Berlin:19701025T030000
RRULE:FREQ=YEARLY;INTERVAL=1;BYDAY=-1SU;BYMONTH=10
END:STANDARD
END:VTIMEZONE
BEGIN:VEVENT
DTSTAMP:20260423T195845
DTSTART;TZID=Europe/Berlin:20260204T201500
DTEND;TZID=Europe/Berlin:20260204T214500
UID:261MZ2514-20260204T201500@VHSDUISBURG
SUMMARY:Gitarre - Kursstufe IV (261MZ2514) 
LOCATION:VHS Königstraße;313, Königstr. 47, 47051 Duisburg
END:VEVENT
BEGIN:VEVENT
DTSTAMP:20260423T195845
DTSTART;TZID=Europe/Berlin:20260211T201500
DTEND;TZID=Europe/Berlin:20260211T214500
UID:261MZ2514-20260211T201500@VHSDUISBURG
SUMMARY:Gitarre - Kursstufe IV (261MZ2514) 
LOCATION:VHS Königstraße;313, Königstr. 47, 47051 Duisburg
END:VEVENT
BEGIN:VEVENT
DTSTAMP:20260423T195845
DTSTART;TZID=Europe/Berlin:20260218T201500
DTEND;TZID=Europe/Berlin:20260218T214500
UID:261MZ2514-20260218T201500@VHSDUISBURG
SUMMARY:Gitarre - Kursstufe IV (261MZ2514) 
LOCATION:VHS Königstraße;313, Königstr. 47, 47051 Duisburg
END:VEVENT
BEGIN:VEVENT
DTSTAMP:20260423T195845
DTSTART;TZID=Europe/Berlin:20260225T201500
DTEND;TZID=Europe/Berlin:20260225T214500
UID:261MZ2514-20260225T201500@VHSDUISBURG
SUMMARY:Gitarre - Kursstufe IV (261MZ2514) 
LOCATION:VHS Königstraße;313, Königstr. 47, 47051 Duisburg
END:VEVENT
BEGIN:VEVENT
DTSTAMP:20260423T195845
DTSTART;TZID=Europe/Berlin:20260304T201500
DTEND;TZID=Europe/Berlin:20260304T214500
UID:261MZ2514-20260304T201500@VHSDUISBURG
SUMMARY:Gitarre - Kursstufe IV (261MZ2514) 
LOCATION:VHS Königstraße;313, Königstr. 47, 47051 Duisburg
END:VEVENT
BEGIN:VEVENT
DTSTAMP:20260423T195845
DTSTART;TZID=Europe/Berlin:20260318T201500
DTEND;TZID=Europe/Berlin:20260318T214500
UID:261MZ2514-20260318T201500@VHSDUISBURG
SUMMARY:Gitarre - Kursstufe IV (261MZ2514) 
LOCATION:VHS Königstraße;313, Königstr. 47, 47051 Duisburg
END:VEVENT
BEGIN:VEVENT
DTSTAMP:20260423T195845
DTSTART;TZID=Europe/Berlin:20260325T201500
DTEND;TZID=Europe/Berlin:20260325T214500
UID:261MZ2514-20260325T201500@VHSDUISBURG
SUMMARY:Gitarre - Kursstufe IV (261MZ2514) 
LOCATION:VHS Königstraße;313, Königstr. 47, 47051 Duisburg
END:VEVENT
BEGIN:VEVENT
DTSTAMP:20260423T195845
DTSTART;TZID=Europe/Berlin:20260415T201500
DTEND;TZID=Europe/Berlin:20260415T214500
UID:261MZ2514-20260415T201500@VHSDUISBURG
SUMMARY:Gitarre - Kursstufe IV (261MZ2514) 
LOCATION:VHS Königstraße;313, Königstr. 47, 47051 Duisburg
END:VEVENT
BEGIN:VEVENT
DTSTAMP:20260423T195845
DTSTART;TZID=Europe/Berlin:20260422T201500
DTEND;TZID=Europe/Berlin:20260422T214500
UID:261MZ2514-20260422T201500@VHSDUISBURG
SUMMARY:Gitarre - Kursstufe IV (261MZ2514) 
LOCATION:VHS Königstraße;313, Königstr. 47, 47051 Duisburg
END:VEVENT
BEGIN:VEVENT
DTSTAMP:20260423T195845
DTSTART;TZID=Europe/Berlin:20260527T201500
DTEND;TZID=Europe/Berlin:20260527T214500
UID:261MZ2514-20260527T201500@VHSDUISBURG
DESCRIPTION:NT für wg. Bombenentschärfung ausgefallenen Termin
SUMMARY:Gitarre - Kursstufe IV (261MZ2514) 
LOCATION:VHS Königstraße;313, Königstr. 47, 47051 Duisburg
END:VEVENT
END:VCALENDAR