BEGIN:VCALENDAR
PRODID:http://www.kufer.de/kuferweb / DE
VERSION:2.0
METHOD:PUBLISH
CALSCALE:GREGORIAN
X-WR-TIMEZONE:Europe/Berlin
BEGIN:VTIMEZONE
TZID:Europe/Berlin
X-LIC-LOCATION:Europe/Berlin
BEGIN:DAYLIGHT
TZOFFSETFROM:+0100
TZOFFSETTO:+0200
TZNAME:CEST
DTSTART;TZID=Europe/Berlin:19700329T020000
RRULE:FREQ=YEARLY;INTERVAL=1;BYDAY=-1SU;BYMONTH=3
END:DAYLIGHT
BEGIN:STANDARD
TZOFFSETFROM:+0200
TZOFFSETTO:+0100
TZNAME:CET
DTSTART;TZID=Europe/Berlin:19701025T030000
RRULE:FREQ=YEARLY;INTERVAL=1;BYDAY=-1SU;BYMONTH=10
END:STANDARD
END:VTIMEZONE
BEGIN:VEVENT
DTSTAMP:20260423T132009
DTSTART;TZID=Europe/Berlin:20260202T131500
DTEND;TZID=Europe/Berlin:20260202T144500
UID:261MZ2228-20260202T131500@VHSDUISBURG
SUMMARY:Kanadische Literatur (261MZ2228) 
LOCATION:VHS im Stadtfenster;Raum412, Steinsche Gasse 26, 47051 Duisburg
END:VEVENT
BEGIN:VEVENT
DTSTAMP:20260423T132009
DTSTART;TZID=Europe/Berlin:20260209T131500
DTEND;TZID=Europe/Berlin:20260209T144500
UID:261MZ2228-20260209T131500@VHSDUISBURG
SUMMARY:Kanadische Literatur (261MZ2228) 
LOCATION:VHS im Stadtfenster;Raum412, Steinsche Gasse 26, 47051 Duisburg
END:VEVENT
BEGIN:VEVENT
DTSTAMP:20260423T132009
DTSTART;TZID=Europe/Berlin:20260223T131500
DTEND;TZID=Europe/Berlin:20260223T144500
UID:261MZ2228-20260223T131500@VHSDUISBURG
SUMMARY:Kanadische Literatur (261MZ2228) 
LOCATION:VHS im Stadtfenster;Raum412, Steinsche Gasse 26, 47051 Duisburg
END:VEVENT
BEGIN:VEVENT
DTSTAMP:20260423T132009
DTSTART;TZID=Europe/Berlin:20260302T131500
DTEND;TZID=Europe/Berlin:20260302T144500
UID:261MZ2228-20260302T131500@VHSDUISBURG
SUMMARY:Kanadische Literatur (261MZ2228) 
LOCATION:VHS im Stadtfenster;Raum412, Steinsche Gasse 26, 47051 Duisburg
END:VEVENT
BEGIN:VEVENT
DTSTAMP:20260423T132009
DTSTART;TZID=Europe/Berlin:20260309T131500
DTEND;TZID=Europe/Berlin:20260309T144500
UID:261MZ2228-20260309T131500@VHSDUISBURG
SUMMARY:Kanadische Literatur (261MZ2228) 
LOCATION:VHS im Stadtfenster;Raum412, Steinsche Gasse 26, 47051 Duisburg
END:VEVENT
BEGIN:VEVENT
DTSTAMP:20260423T132009
DTSTART;TZID=Europe/Berlin:20260316T131500
DTEND;TZID=Europe/Berlin:20260316T144500
UID:261MZ2228-20260316T131500@VHSDUISBURG
SUMMARY:Kanadische Literatur (261MZ2228) 
LOCATION:VHS im Stadtfenster;Raum412, Steinsche Gasse 26, 47051 Duisburg
END:VEVENT
BEGIN:VEVENT
DTSTAMP:20260423T132009
DTSTART;TZID=Europe/Berlin:20260323T131500
DTEND;TZID=Europe/Berlin:20260323T144500
UID:261MZ2228-20260323T131500@VHSDUISBURG
SUMMARY:Kanadische Literatur (261MZ2228) 
LOCATION:VHS im Stadtfenster;Raum412, Steinsche Gasse 26, 47051 Duisburg
END:VEVENT
BEGIN:VEVENT
DTSTAMP:20260423T132009
DTSTART;TZID=Europe/Berlin:20260413T131500
DTEND;TZID=Europe/Berlin:20260413T144500
UID:261MZ2228-20260413T131500@VHSDUISBURG
SUMMARY:Kanadische Literatur (261MZ2228) 
LOCATION:VHS im Stadtfenster;Raum412, Steinsche Gasse 26, 47051 Duisburg
END:VEVENT
BEGIN:VEVENT
DTSTAMP:20260423T132009
DTSTART;TZID=Europe/Berlin:20260420T131500
DTEND;TZID=Europe/Berlin:20260420T144500
UID:261MZ2228-20260420T131500@VHSDUISBURG
SUMMARY:Kanadische Literatur (261MZ2228) 
LOCATION:VHS im Stadtfenster;Raum412, Steinsche Gasse 26, 47051 Duisburg
END:VEVENT
BEGIN:VEVENT
DTSTAMP:20260423T132009
DTSTART;TZID=Europe/Berlin:20260427T131500
DTEND;TZID=Europe/Berlin:20260427T144500
UID:261MZ2228-20260427T131500@VHSDUISBURG
SUMMARY:Kanadische Literatur (261MZ2228) 
LOCATION:VHS im Stadtfenster;Raum412, Steinsche Gasse 26, 47051 Duisburg
END:VEVENT
END:VCALENDAR