BEGIN:VCALENDAR
PRODID:http://www.kufer.de/kuferweb / DE
VERSION:2.0
METHOD:PUBLISH
CALSCALE:GREGORIAN
X-WR-TIMEZONE:Europe/Berlin
BEGIN:VTIMEZONE
TZID:Europe/Berlin
X-LIC-LOCATION:Europe/Berlin
BEGIN:DAYLIGHT
TZOFFSETFROM:+0100
TZOFFSETTO:+0200
TZNAME:CEST
DTSTART;TZID=Europe/Berlin:19700329T020000
RRULE:FREQ=YEARLY;INTERVAL=1;BYDAY=-1SU;BYMONTH=3
END:DAYLIGHT
BEGIN:STANDARD
TZOFFSETFROM:+0200
TZOFFSETTO:+0100
TZNAME:CET
DTSTART;TZID=Europe/Berlin:19701025T030000
RRULE:FREQ=YEARLY;INTERVAL=1;BYDAY=-1SU;BYMONTH=10
END:STANDARD
END:VTIMEZONE
BEGIN:VEVENT
DTSTAMP:20260421T202103
DTSTART;TZID=Europe/Berlin:20260113T084500
DTEND;TZID=Europe/Berlin:20260113T114500
UID:261MR9371-20260113T084500@VHSDUISBURG
SUMMARY:Deutsch für Frauen (261MR9371) 
LOCATION:Alte Feuerwache Hochfeld;Alte Feuerwache Hochfeld, Friedenstr. 5, 47053 Duisburg
END:VEVENT
BEGIN:VEVENT
DTSTAMP:20260421T202103
DTSTART;TZID=Europe/Berlin:20260120T084500
DTEND;TZID=Europe/Berlin:20260120T114500
UID:261MR9371-20260120T084500@VHSDUISBURG
SUMMARY:Deutsch für Frauen (261MR9371) 
LOCATION:Alte Feuerwache Hochfeld;Alte Feuerwache Hochfeld, Friedenstr. 5, 47053 Duisburg
END:VEVENT
BEGIN:VEVENT
DTSTAMP:20260421T202103
DTSTART;TZID=Europe/Berlin:20260127T084500
DTEND;TZID=Europe/Berlin:20260127T114500
UID:261MR9371-20260127T084500@VHSDUISBURG
SUMMARY:Deutsch für Frauen (261MR9371) 
LOCATION:Alte Feuerwache Hochfeld;Alte Feuerwache Hochfeld, Friedenstr. 5, 47053 Duisburg
END:VEVENT
BEGIN:VEVENT
DTSTAMP:20260421T202103
DTSTART;TZID=Europe/Berlin:20260203T084500
DTEND;TZID=Europe/Berlin:20260203T114500
UID:261MR9371-20260203T084500@VHSDUISBURG
SUMMARY:Deutsch für Frauen (261MR9371) 
LOCATION:Alte Feuerwache Hochfeld;Alte Feuerwache Hochfeld, Friedenstr. 5, 47053 Duisburg
END:VEVENT
BEGIN:VEVENT
DTSTAMP:20260421T202103
DTSTART;TZID=Europe/Berlin:20260217T084500
DTEND;TZID=Europe/Berlin:20260217T114500
UID:261MR9371-20260217T084500@VHSDUISBURG
SUMMARY:Deutsch für Frauen (261MR9371) 
LOCATION:Alte Feuerwache Hochfeld;Alte Feuerwache Hochfeld, Friedenstr. 5, 47053 Duisburg
END:VEVENT
BEGIN:VEVENT
DTSTAMP:20260421T202103
DTSTART;TZID=Europe/Berlin:20260224T084500
DTEND;TZID=Europe/Berlin:20260224T114500
UID:261MR9371-20260224T084500@VHSDUISBURG
SUMMARY:Deutsch für Frauen (261MR9371) 
LOCATION:Alte Feuerwache Hochfeld;Alte Feuerwache Hochfeld, Friedenstr. 5, 47053 Duisburg
END:VEVENT
BEGIN:VEVENT
DTSTAMP:20260421T202103
DTSTART;TZID=Europe/Berlin:20260303T084500
DTEND;TZID=Europe/Berlin:20260303T114500
UID:261MR9371-20260303T084500@VHSDUISBURG
SUMMARY:Deutsch für Frauen (261MR9371) 
LOCATION:Alte Feuerwache Hochfeld;Alte Feuerwache Hochfeld, Friedenstr. 5, 47053 Duisburg
END:VEVENT
BEGIN:VEVENT
DTSTAMP:20260421T202103
DTSTART;TZID=Europe/Berlin:20260317T084500
DTEND;TZID=Europe/Berlin:20260317T114500
UID:261MR9371-20260317T084500@VHSDUISBURG
SUMMARY:Deutsch für Frauen (261MR9371) 
LOCATION:Alte Feuerwache Hochfeld;Alte Feuerwache Hochfeld, Friedenstr. 5, 47053 Duisburg
END:VEVENT
BEGIN:VEVENT
DTSTAMP:20260421T202103
DTSTART;TZID=Europe/Berlin:20260324T084500
DTEND;TZID=Europe/Berlin:20260324T114500
UID:261MR9371-20260324T084500@VHSDUISBURG
SUMMARY:Deutsch für Frauen (261MR9371) 
LOCATION:Alte Feuerwache Hochfeld;Alte Feuerwache Hochfeld, Friedenstr. 5, 47053 Duisburg
END:VEVENT
BEGIN:VEVENT
DTSTAMP:20260421T202103
DTSTART;TZID=Europe/Berlin:20260414T084500
DTEND;TZID=Europe/Berlin:20260414T114500
UID:261MR9371-20260414T084500@VHSDUISBURG
SUMMARY:Deutsch für Frauen (261MR9371) 
LOCATION:Alte Feuerwache Hochfeld;Alte Feuerwache Hochfeld, Friedenstr. 5, 47053 Duisburg
END:VEVENT
BEGIN:VEVENT
DTSTAMP:20260421T202103
DTSTART;TZID=Europe/Berlin:20260421T084500
DTEND;TZID=Europe/Berlin:20260421T114500
UID:261MR9371-20260421T084500@VHSDUISBURG
SUMMARY:Deutsch für Frauen (261MR9371) 
LOCATION:Alte Feuerwache Hochfeld;Alte Feuerwache Hochfeld, Friedenstr. 5, 47053 Duisburg
END:VEVENT
BEGIN:VEVENT
DTSTAMP:20260421T202103
DTSTART;TZID=Europe/Berlin:20260428T084500
DTEND;TZID=Europe/Berlin:20260428T114500
UID:261MR9371-20260428T084500@VHSDUISBURG
SUMMARY:Deutsch für Frauen (261MR9371) 
LOCATION:Alte Feuerwache Hochfeld;Alte Feuerwache Hochfeld, Friedenstr. 5, 47053 Duisburg
END:VEVENT
BEGIN:VEVENT
DTSTAMP:20260421T202103
DTSTART;TZID=Europe/Berlin:20260505T084500
DTEND;TZID=Europe/Berlin:20260505T114500
UID:261MR9371-20260505T084500@VHSDUISBURG
SUMMARY:Deutsch für Frauen (261MR9371) 
LOCATION:Alte Feuerwache Hochfeld;Alte Feuerwache Hochfeld, Friedenstr. 5, 47053 Duisburg
END:VEVENT
BEGIN:VEVENT
DTSTAMP:20260421T202103
DTSTART;TZID=Europe/Berlin:20260512T084500
DTEND;TZID=Europe/Berlin:20260512T114500
UID:261MR9371-20260512T084500@VHSDUISBURG
SUMMARY:Deutsch für Frauen (261MR9371) 
LOCATION:Alte Feuerwache Hochfeld;Alte Feuerwache Hochfeld, Friedenstr. 5, 47053 Duisburg
END:VEVENT
BEGIN:VEVENT
DTSTAMP:20260421T202103
DTSTART;TZID=Europe/Berlin:20260519T084500
DTEND;TZID=Europe/Berlin:20260519T114500
UID:261MR9371-20260519T084500@VHSDUISBURG
SUMMARY:Deutsch für Frauen (261MR9371) 
LOCATION:Alte Feuerwache Hochfeld;Alte Feuerwache Hochfeld, Friedenstr. 5, 47053 Duisburg
END:VEVENT
BEGIN:VEVENT
DTSTAMP:20260421T202103
DTSTART;TZID=Europe/Berlin:20260609T084500
DTEND;TZID=Europe/Berlin:20260609T114500
UID:261MR9371-20260609T084500@VHSDUISBURG
SUMMARY:Deutsch für Frauen (261MR9371) 
LOCATION:Alte Feuerwache Hochfeld;Alte Feuerwache Hochfeld, Friedenstr. 5, 47053 Duisburg
END:VEVENT
BEGIN:VEVENT
DTSTAMP:20260421T202103
DTSTART;TZID=Europe/Berlin:20260623T084500
DTEND;TZID=Europe/Berlin:20260623T114500
UID:261MR9371-20260623T084500@VHSDUISBURG
SUMMARY:Deutsch für Frauen (261MR9371) 
LOCATION:Alte Feuerwache Hochfeld;Alte Feuerwache Hochfeld, Friedenstr. 5, 47053 Duisburg
END:VEVENT
BEGIN:VEVENT
DTSTAMP:20260421T202103
DTSTART;TZID=Europe/Berlin:20260630T084500
DTEND;TZID=Europe/Berlin:20260630T114500
UID:261MR9371-20260630T084500@VHSDUISBURG
SUMMARY:Deutsch für Frauen (261MR9371) 
LOCATION:Alte Feuerwache Hochfeld;Alte Feuerwache Hochfeld, Friedenstr. 5, 47053 Duisburg
END:VEVENT
BEGIN:VEVENT
DTSTAMP:20260421T202103
DTSTART;TZID=Europe/Berlin:20260707T084500
DTEND;TZID=Europe/Berlin:20260707T114500
UID:261MR9371-20260707T084500@VHSDUISBURG
SUMMARY:Deutsch für Frauen (261MR9371) 
LOCATION:Alte Feuerwache Hochfeld;Alte Feuerwache Hochfeld, Friedenstr. 5, 47053 Duisburg
END:VEVENT
BEGIN:VEVENT
DTSTAMP:20260421T202103
DTSTART;TZID=Europe/Berlin:20260714T084500
DTEND;TZID=Europe/Berlin:20260714T114500
UID:261MR9371-20260714T084500@VHSDUISBURG
SUMMARY:Deutsch für Frauen (261MR9371) 
LOCATION:Alte Feuerwache Hochfeld;Alte Feuerwache Hochfeld, Friedenstr. 5, 47053 Duisburg
END:VEVENT
END:VCALENDAR