BEGIN:VCALENDAR
PRODID:http://www.kufer.de/kuferweb / DE
VERSION:2.0
METHOD:PUBLISH
CALSCALE:GREGORIAN
X-WR-TIMEZONE:Europe/Berlin
BEGIN:VTIMEZONE
TZID:Europe/Berlin
X-LIC-LOCATION:Europe/Berlin
BEGIN:DAYLIGHT
TZOFFSETFROM:+0100
TZOFFSETTO:+0200
TZNAME:CEST
DTSTART;TZID=Europe/Berlin:19700329T020000
RRULE:FREQ=YEARLY;INTERVAL=1;BYDAY=-1SU;BYMONTH=3
END:DAYLIGHT
BEGIN:STANDARD
TZOFFSETFROM:+0200
TZOFFSETTO:+0100
TZNAME:CET
DTSTART;TZID=Europe/Berlin:19701025T030000
RRULE:FREQ=YEARLY;INTERVAL=1;BYDAY=-1SU;BYMONTH=10
END:STANDARD
END:VTIMEZONE
BEGIN:VEVENT
DTSTAMP:20260422T140617
DTSTART;TZID=Europe/Berlin:20260204T183000
DTEND;TZID=Europe/Berlin:20260204T200000
UID:261MR6605-20260204T183000@VHSDUISBURG
SUMMARY:Fit und schlank (261MR6605) 
LOCATION:Gesamtschule DU-Mitte;Turnhalle, Falkstr. 44, 47051 Duisburg
END:VEVENT
BEGIN:VEVENT
DTSTAMP:20260422T140617
DTSTART;TZID=Europe/Berlin:20260211T183000
DTEND;TZID=Europe/Berlin:20260211T200000
UID:261MR6605-20260211T183000@VHSDUISBURG
SUMMARY:Fit und schlank (261MR6605) 
LOCATION:Gesamtschule DU-Mitte;Turnhalle, Falkstr. 44, 47051 Duisburg
END:VEVENT
BEGIN:VEVENT
DTSTAMP:20260422T140617
DTSTART;TZID=Europe/Berlin:20260225T183000
DTEND;TZID=Europe/Berlin:20260225T200000
UID:261MR6605-20260225T183000@VHSDUISBURG
SUMMARY:Fit und schlank (261MR6605) 
LOCATION:Gesamtschule DU-Mitte;Turnhalle, Falkstr. 44, 47051 Duisburg
END:VEVENT
BEGIN:VEVENT
DTSTAMP:20260422T140617
DTSTART;TZID=Europe/Berlin:20260304T183000
DTEND;TZID=Europe/Berlin:20260304T200000
UID:261MR6605-20260304T183000@VHSDUISBURG
SUMMARY:Fit und schlank (261MR6605) 
LOCATION:Gesamtschule DU-Mitte;Turnhalle, Falkstr. 44, 47051 Duisburg
END:VEVENT
BEGIN:VEVENT
DTSTAMP:20260422T140617
DTSTART;TZID=Europe/Berlin:20260311T183000
DTEND;TZID=Europe/Berlin:20260311T200000
UID:261MR6605-20260311T183000@VHSDUISBURG
SUMMARY:Fit und schlank (261MR6605) 
LOCATION:Gesamtschule DU-Mitte;Turnhalle, Falkstr. 44, 47051 Duisburg
END:VEVENT
BEGIN:VEVENT
DTSTAMP:20260422T140617
DTSTART;TZID=Europe/Berlin:20260318T183000
DTEND;TZID=Europe/Berlin:20260318T200000
UID:261MR6605-20260318T183000@VHSDUISBURG
SUMMARY:Fit und schlank (261MR6605) 
LOCATION:Gesamtschule DU-Mitte;Turnhalle, Falkstr. 44, 47051 Duisburg
END:VEVENT
BEGIN:VEVENT
DTSTAMP:20260422T140617
DTSTART;TZID=Europe/Berlin:20260325T183000
DTEND;TZID=Europe/Berlin:20260325T200000
UID:261MR6605-20260325T183000@VHSDUISBURG
SUMMARY:Fit und schlank (261MR6605) 
LOCATION:Gesamtschule DU-Mitte;Turnhalle, Falkstr. 44, 47051 Duisburg
END:VEVENT
BEGIN:VEVENT
DTSTAMP:20260422T140617
DTSTART;TZID=Europe/Berlin:20260415T183000
DTEND;TZID=Europe/Berlin:20260415T200000
UID:261MR6605-20260415T183000@VHSDUISBURG
SUMMARY:Fit und schlank (261MR6605) 
LOCATION:Gesamtschule DU-Mitte;Turnhalle, Falkstr. 44, 47051 Duisburg
END:VEVENT
BEGIN:VEVENT
DTSTAMP:20260422T140617
DTSTART;TZID=Europe/Berlin:20260422T183000
DTEND;TZID=Europe/Berlin:20260422T200000
UID:261MR6605-20260422T183000@VHSDUISBURG
SUMMARY:Fit und schlank (261MR6605) 
LOCATION:Gesamtschule DU-Mitte;Turnhalle, Falkstr. 44, 47051 Duisburg
END:VEVENT
BEGIN:VEVENT
DTSTAMP:20260422T140617
DTSTART;TZID=Europe/Berlin:20260429T183000
DTEND;TZID=Europe/Berlin:20260429T200000
UID:261MR6605-20260429T183000@VHSDUISBURG
SUMMARY:Fit und schlank (261MR6605) 
LOCATION:Gesamtschule DU-Mitte;Turnhalle, Falkstr. 44, 47051 Duisburg
END:VEVENT
BEGIN:VEVENT
DTSTAMP:20260422T140617
DTSTART;TZID=Europe/Berlin:20260506T183000
DTEND;TZID=Europe/Berlin:20260506T200000
UID:261MR6605-20260506T183000@VHSDUISBURG
SUMMARY:Fit und schlank (261MR6605) 
LOCATION:Gesamtschule DU-Mitte;Turnhalle, Falkstr. 44, 47051 Duisburg
END:VEVENT
BEGIN:VEVENT
DTSTAMP:20260422T140617
DTSTART;TZID=Europe/Berlin:20260513T183000
DTEND;TZID=Europe/Berlin:20260513T200000
UID:261MR6605-20260513T183000@VHSDUISBURG
SUMMARY:Fit und schlank (261MR6605) 
LOCATION:Gesamtschule DU-Mitte;Turnhalle, Falkstr. 44, 47051 Duisburg
END:VEVENT
BEGIN:VEVENT
DTSTAMP:20260422T140617
DTSTART;TZID=Europe/Berlin:20260520T183000
DTEND;TZID=Europe/Berlin:20260520T200000
UID:261MR6605-20260520T183000@VHSDUISBURG
DESCRIPTION:Ersatz für Ausfall am 18.02.2026
SUMMARY:Fit und schlank (261MR6605) 
LOCATION:Gesamtschule DU-Mitte;Turnhalle, Falkstr. 44, 47051 Duisburg
END:VEVENT
END:VCALENDAR