BEGIN:VCALENDAR
PRODID:http://www.kufer.de/kuferweb / DE
VERSION:2.0
METHOD:PUBLISH
CALSCALE:GREGORIAN
X-WR-TIMEZONE:Europe/Berlin
BEGIN:VTIMEZONE
TZID:Europe/Berlin
X-LIC-LOCATION:Europe/Berlin
BEGIN:DAYLIGHT
TZOFFSETFROM:+0100
TZOFFSETTO:+0200
TZNAME:CEST
DTSTART;TZID=Europe/Berlin:19700329T020000
RRULE:FREQ=YEARLY;INTERVAL=1;BYDAY=-1SU;BYMONTH=3
END:DAYLIGHT
BEGIN:STANDARD
TZOFFSETFROM:+0200
TZOFFSETTO:+0100
TZNAME:CET
DTSTART;TZID=Europe/Berlin:19701025T030000
RRULE:FREQ=YEARLY;INTERVAL=1;BYDAY=-1SU;BYMONTH=10
END:STANDARD
END:VTIMEZONE
BEGIN:VEVENT
DTSTAMP:20260421T201605
DTSTART;TZID=Europe/Berlin:20260122T170000
DTEND;TZID=Europe/Berlin:20260122T183000
UID:261MR6410-20260122T170000@VHSDUISBURG
SUMMARY:Einführung in die Wirbelsäulengymnastik (261MR6410) 
LOCATION:Bismarckstraße;Turnhalle, Bismarckstraße 69, 47057 Duisburg
END:VEVENT
BEGIN:VEVENT
DTSTAMP:20260421T201605
DTSTART;TZID=Europe/Berlin:20260129T170000
DTEND;TZID=Europe/Berlin:20260129T183000
UID:261MR6410-20260129T170000@VHSDUISBURG
SUMMARY:Einführung in die Wirbelsäulengymnastik (261MR6410) 
LOCATION:Bismarckstraße;Turnhalle, Bismarckstraße 69, 47057 Duisburg
END:VEVENT
BEGIN:VEVENT
DTSTAMP:20260421T201605
DTSTART;TZID=Europe/Berlin:20260205T170000
DTEND;TZID=Europe/Berlin:20260205T183000
UID:261MR6410-20260205T170000@VHSDUISBURG
SUMMARY:Einführung in die Wirbelsäulengymnastik (261MR6410) 
LOCATION:Bismarckstraße;Turnhalle, Bismarckstraße 69, 47057 Duisburg
END:VEVENT
BEGIN:VEVENT
DTSTAMP:20260421T201605
DTSTART;TZID=Europe/Berlin:20260212T170000
DTEND;TZID=Europe/Berlin:20260212T183000
UID:261MR6410-20260212T170000@VHSDUISBURG
SUMMARY:Einführung in die Wirbelsäulengymnastik (261MR6410) 
LOCATION:Bismarckstraße;Turnhalle, Bismarckstraße 69, 47057 Duisburg
END:VEVENT
BEGIN:VEVENT
DTSTAMP:20260421T201605
DTSTART;TZID=Europe/Berlin:20260226T170000
DTEND;TZID=Europe/Berlin:20260226T183000
UID:261MR6410-20260226T170000@VHSDUISBURG
SUMMARY:Einführung in die Wirbelsäulengymnastik (261MR6410) 
LOCATION:Bismarckstraße;Turnhalle, Bismarckstraße 69, 47057 Duisburg
END:VEVENT
BEGIN:VEVENT
DTSTAMP:20260421T201605
DTSTART;TZID=Europe/Berlin:20260305T170000
DTEND;TZID=Europe/Berlin:20260305T183000
UID:261MR6410-20260305T170000@VHSDUISBURG
DESCRIPTION:Ersatz für Ausfall am 19.02.2026; KL gab ursprünglich an, an dem Tag verhindert zu sein; 18.02.26 (*FG)
SUMMARY:Einführung in die Wirbelsäulengymnastik (261MR6410) 
LOCATION:Bismarckstraße;Turnhalle, Bismarckstraße 69, 47057 Duisburg
END:VEVENT
BEGIN:VEVENT
DTSTAMP:20260421T201605
DTSTART;TZID=Europe/Berlin:20260312T170000
DTEND;TZID=Europe/Berlin:20260312T183000
UID:261MR6410-20260312T170000@VHSDUISBURG
SUMMARY:Einführung in die Wirbelsäulengymnastik (261MR6410) 
LOCATION:Bismarckstraße;Turnhalle, Bismarckstraße 69, 47057 Duisburg
END:VEVENT
BEGIN:VEVENT
DTSTAMP:20260421T201605
DTSTART;TZID=Europe/Berlin:20260319T170000
DTEND;TZID=Europe/Berlin:20260319T183000
UID:261MR6410-20260319T170000@VHSDUISBURG
SUMMARY:Einführung in die Wirbelsäulengymnastik (261MR6410) 
LOCATION:Bismarckstraße;Turnhalle, Bismarckstraße 69, 47057 Duisburg
END:VEVENT
BEGIN:VEVENT
DTSTAMP:20260421T201605
DTSTART;TZID=Europe/Berlin:20260326T170000
DTEND;TZID=Europe/Berlin:20260326T183000
UID:261MR6410-20260326T170000@VHSDUISBURG
SUMMARY:Einführung in die Wirbelsäulengymnastik (261MR6410) 
LOCATION:Bismarckstraße;Turnhalle, Bismarckstraße 69, 47057 Duisburg
END:VEVENT
BEGIN:VEVENT
DTSTAMP:20260421T201605
DTSTART;TZID=Europe/Berlin:20260402T170000
DTEND;TZID=Europe/Berlin:20260402T183000
UID:261MR6410-20260402T170000@VHSDUISBURG
DESCRIPTION:Feriennutzung wurde durch DuSport bestätigt/18.03.26 (*M3): 
SUMMARY:Einführung in die Wirbelsäulengymnastik (261MR6410) 
LOCATION:Bismarckstraße;Turnhalle, Bismarckstraße 69, 47057 Duisburg
END:VEVENT
BEGIN:VEVENT
DTSTAMP:20260421T201605
DTSTART;TZID=Europe/Berlin:20260416T170000
DTEND;TZID=Europe/Berlin:20260416T183000
UID:261MR6410-20260416T170000@VHSDUISBURG
SUMMARY:Einführung in die Wirbelsäulengymnastik (261MR6410) 
LOCATION:Bismarckstraße;Turnhalle, Bismarckstraße 69, 47057 Duisburg
END:VEVENT
BEGIN:VEVENT
DTSTAMP:20260421T201605
DTSTART;TZID=Europe/Berlin:20260423T170000
DTEND;TZID=Europe/Berlin:20260423T183000
UID:261MR6410-20260423T170000@VHSDUISBURG
SUMMARY:Einführung in die Wirbelsäulengymnastik (261MR6410) 
LOCATION:Bismarckstraße;Turnhalle, Bismarckstraße 69, 47057 Duisburg
END:VEVENT
BEGIN:VEVENT
DTSTAMP:20260421T201605
DTSTART;TZID=Europe/Berlin:20260430T170000
DTEND;TZID=Europe/Berlin:20260430T183000
UID:261MR6410-20260430T170000@VHSDUISBURG
SUMMARY:Einführung in die Wirbelsäulengymnastik (261MR6410) 
LOCATION:Bismarckstraße;Turnhalle, Bismarckstraße 69, 47057 Duisburg
END:VEVENT
END:VCALENDAR