BEGIN:VCALENDAR
PRODID:http://www.kufer.de/kuferweb / DE
VERSION:2.0
METHOD:PUBLISH
CALSCALE:GREGORIAN
X-WR-TIMEZONE:Europe/Berlin
BEGIN:VTIMEZONE
TZID:Europe/Berlin
X-LIC-LOCATION:Europe/Berlin
BEGIN:DAYLIGHT
TZOFFSETFROM:+0100
TZOFFSETTO:+0200
TZNAME:CEST
DTSTART;TZID=Europe/Berlin:19700329T020000
RRULE:FREQ=YEARLY;INTERVAL=1;BYDAY=-1SU;BYMONTH=3
END:DAYLIGHT
BEGIN:STANDARD
TZOFFSETFROM:+0200
TZOFFSETTO:+0100
TZNAME:CET
DTSTART;TZID=Europe/Berlin:19701025T030000
RRULE:FREQ=YEARLY;INTERVAL=1;BYDAY=-1SU;BYMONTH=10
END:STANDARD
END:VTIMEZONE
BEGIN:VEVENT
DTSTAMP:20260424T015754
DTSTART;TZID=Europe/Berlin:20260608T170000
DTEND;TZID=Europe/Berlin:20260608T191500
UID:261MR5431-20260608T170000@VHSDUISBURG
SUMMARY:Apple-MacBook: Grundlagen (261MR5431) 
LOCATION:VHS im Stadtfenster;Raum416, Steinsche Gasse 26, 47051 Duisburg
END:VEVENT
BEGIN:VEVENT
DTSTAMP:20260424T015754
DTSTART;TZID=Europe/Berlin:20260615T170000
DTEND;TZID=Europe/Berlin:20260615T191500
UID:261MR5431-20260615T170000@VHSDUISBURG
SUMMARY:Apple-MacBook: Grundlagen (261MR5431) 
LOCATION:VHS im Stadtfenster;Raum416, Steinsche Gasse 26, 47051 Duisburg
END:VEVENT
BEGIN:VEVENT
DTSTAMP:20260424T015754
DTSTART;TZID=Europe/Berlin:20260622T170000
DTEND;TZID=Europe/Berlin:20260622T191500
UID:261MR5431-20260622T170000@VHSDUISBURG
SUMMARY:Apple-MacBook: Grundlagen (261MR5431) 
LOCATION:VHS im Stadtfenster;Raum416, Steinsche Gasse 26, 47051 Duisburg
END:VEVENT
BEGIN:VEVENT
DTSTAMP:20260424T015754
DTSTART;TZID=Europe/Berlin:20260629T170000
DTEND;TZID=Europe/Berlin:20260629T191500
UID:261MR5431-20260629T170000@VHSDUISBURG
SUMMARY:Apple-MacBook: Grundlagen (261MR5431) 
LOCATION:VHS im Stadtfenster;Raum416, Steinsche Gasse 26, 47051 Duisburg
END:VEVENT
BEGIN:VEVENT
DTSTAMP:20260424T015754
DTSTART;TZID=Europe/Berlin:20260706T170000
DTEND;TZID=Europe/Berlin:20260706T191500
UID:261MR5431-20260706T170000@VHSDUISBURG
SUMMARY:Apple-MacBook: Grundlagen (261MR5431) 
LOCATION:VHS im Stadtfenster;Raum416, Steinsche Gasse 26, 47051 Duisburg
END:VEVENT
END:VCALENDAR