BEGIN:VCALENDAR
PRODID:http://www.kufer.de/kuferweb / DE
VERSION:2.0
METHOD:PUBLISH
CALSCALE:GREGORIAN
X-WR-TIMEZONE:Europe/Berlin
BEGIN:VTIMEZONE
TZID:Europe/Berlin
X-LIC-LOCATION:Europe/Berlin
BEGIN:DAYLIGHT
TZOFFSETFROM:+0100
TZOFFSETTO:+0200
TZNAME:CEST
DTSTART;TZID=Europe/Berlin:19700329T020000
RRULE:FREQ=YEARLY;INTERVAL=1;BYDAY=-1SU;BYMONTH=3
END:DAYLIGHT
BEGIN:STANDARD
TZOFFSETFROM:+0200
TZOFFSETTO:+0100
TZNAME:CET
DTSTART;TZID=Europe/Berlin:19701025T030000
RRULE:FREQ=YEARLY;INTERVAL=1;BYDAY=-1SU;BYMONTH=10
END:STANDARD
END:VTIMEZONE
BEGIN:VEVENT
DTSTAMP:20260421T185725
DTSTART;TZID=Europe/Berlin:20260413T150000
DTEND;TZID=Europe/Berlin:20260413T171500
UID:261MR5220-20260413T150000@VHSDUISBURG
SUMMARY:Computerkurs für fortgeschrittene Anfängerinnen und Anfänger (261MR5220) 
LOCATION:VHS im Stadtfenster;Raum317, Steinsche Gasse 26, 47051 Duisburg
END:VEVENT
BEGIN:VEVENT
DTSTAMP:20260421T185725
DTSTART;TZID=Europe/Berlin:20260420T150000
DTEND;TZID=Europe/Berlin:20260420T171500
UID:261MR5220-20260420T150000@VHSDUISBURG
SUMMARY:Computerkurs für fortgeschrittene Anfängerinnen und Anfänger (261MR5220) 
LOCATION:VHS im Stadtfenster;Raum317, Steinsche Gasse 26, 47051 Duisburg
END:VEVENT
BEGIN:VEVENT
DTSTAMP:20260421T185725
DTSTART;TZID=Europe/Berlin:20260427T150000
DTEND;TZID=Europe/Berlin:20260427T171500
UID:261MR5220-20260427T150000@VHSDUISBURG
SUMMARY:Computerkurs für fortgeschrittene Anfängerinnen und Anfänger (261MR5220) 
LOCATION:VHS im Stadtfenster;Raum317, Steinsche Gasse 26, 47051 Duisburg
END:VEVENT
BEGIN:VEVENT
DTSTAMP:20260421T185725
DTSTART;TZID=Europe/Berlin:20260504T150000
DTEND;TZID=Europe/Berlin:20260504T171500
UID:261MR5220-20260504T150000@VHSDUISBURG
SUMMARY:Computerkurs für fortgeschrittene Anfängerinnen und Anfänger (261MR5220) 
LOCATION:VHS im Stadtfenster;Raum317, Steinsche Gasse 26, 47051 Duisburg
END:VEVENT
BEGIN:VEVENT
DTSTAMP:20260421T185725
DTSTART;TZID=Europe/Berlin:20260511T150000
DTEND;TZID=Europe/Berlin:20260511T171500
UID:261MR5220-20260511T150000@VHSDUISBURG
SUMMARY:Computerkurs für fortgeschrittene Anfängerinnen und Anfänger (261MR5220) 
LOCATION:VHS im Stadtfenster;Raum317, Steinsche Gasse 26, 47051 Duisburg
END:VEVENT
END:VCALENDAR