BEGIN:VCALENDAR
PRODID:http://www.kufer.de/kuferweb / DE
VERSION:2.0
METHOD:PUBLISH
CALSCALE:GREGORIAN
X-WR-TIMEZONE:Europe/Berlin
BEGIN:VTIMEZONE
TZID:Europe/Berlin
X-LIC-LOCATION:Europe/Berlin
BEGIN:DAYLIGHT
TZOFFSETFROM:+0100
TZOFFSETTO:+0200
TZNAME:CEST
DTSTART;TZID=Europe/Berlin:19700329T020000
RRULE:FREQ=YEARLY;INTERVAL=1;BYDAY=-1SU;BYMONTH=3
END:DAYLIGHT
BEGIN:STANDARD
TZOFFSETFROM:+0200
TZOFFSETTO:+0100
TZNAME:CET
DTSTART;TZID=Europe/Berlin:19701025T030000
RRULE:FREQ=YEARLY;INTERVAL=1;BYDAY=-1SU;BYMONTH=10
END:STANDARD
END:VTIMEZONE
BEGIN:VEVENT
DTSTAMP:20260420T144221
DTSTART;TZID=Europe/Berlin:20260205T190000
DTEND;TZID=Europe/Berlin:20260205T213000
UID:261MR2917-20260205T190000@VHSDUISBURG
SUMMARY:Fotografie als Kunst des Sehens Bildbetrachtung und Fotografiepraxis (261MR2917) 
LOCATION:VHS im Stadtfenster;Raum411, Steinsche Gasse 26, 47051 Duisburg
END:VEVENT
BEGIN:VEVENT
DTSTAMP:20260420T144221
DTSTART;TZID=Europe/Berlin:20260219T190000
DTEND;TZID=Europe/Berlin:20260219T213000
UID:261MR2917-20260219T190000@VHSDUISBURG
SUMMARY:Fotografie als Kunst des Sehens Bildbetrachtung und Fotografiepraxis (261MR2917) 
LOCATION:VHS im Stadtfenster;Raum411, Steinsche Gasse 26, 47051 Duisburg
END:VEVENT
BEGIN:VEVENT
DTSTAMP:20260420T144221
DTSTART;TZID=Europe/Berlin:20260305T190000
DTEND;TZID=Europe/Berlin:20260305T213000
UID:261MR2917-20260305T190000@VHSDUISBURG
SUMMARY:Fotografie als Kunst des Sehens Bildbetrachtung und Fotografiepraxis (261MR2917) 
LOCATION:VHS im Stadtfenster;Raum411, Steinsche Gasse 26, 47051 Duisburg
END:VEVENT
BEGIN:VEVENT
DTSTAMP:20260420T144221
DTSTART;TZID=Europe/Berlin:20260319T190000
DTEND;TZID=Europe/Berlin:20260319T213000
UID:261MR2917-20260319T190000@VHSDUISBURG
SUMMARY:Fotografie als Kunst des Sehens Bildbetrachtung und Fotografiepraxis (261MR2917) 
LOCATION:VHS im Stadtfenster;Raum411, Steinsche Gasse 26, 47051 Duisburg
END:VEVENT
BEGIN:VEVENT
DTSTAMP:20260420T144221
DTSTART;TZID=Europe/Berlin:20260416T190000
DTEND;TZID=Europe/Berlin:20260416T213000
UID:261MR2917-20260416T190000@VHSDUISBURG
SUMMARY:Fotografie als Kunst des Sehens Bildbetrachtung und Fotografiepraxis (261MR2917) 
LOCATION:VHS im Stadtfenster;Raum411, Steinsche Gasse 26, 47051 Duisburg
END:VEVENT
BEGIN:VEVENT
DTSTAMP:20260420T144221
DTSTART;TZID=Europe/Berlin:20260507T190000
DTEND;TZID=Europe/Berlin:20260507T213000
UID:261MR2917-20260507T190000@VHSDUISBURG
SUMMARY:Fotografie als Kunst des Sehens Bildbetrachtung und Fotografiepraxis (261MR2917) 
LOCATION:VHS im Stadtfenster;Raum411, Steinsche Gasse 26, 47051 Duisburg
END:VEVENT
BEGIN:VEVENT
DTSTAMP:20260420T144221
DTSTART;TZID=Europe/Berlin:20260521T190000
DTEND;TZID=Europe/Berlin:20260521T213000
UID:261MR2917-20260521T190000@VHSDUISBURG
SUMMARY:Fotografie als Kunst des Sehens Bildbetrachtung und Fotografiepraxis (261MR2917) 
LOCATION:VHS im Stadtfenster;Raum411, Steinsche Gasse 26, 47051 Duisburg
END:VEVENT
END:VCALENDAR