BEGIN:VCALENDAR
PRODID:http://www.kufer.de/kuferweb / DE
VERSION:2.0
METHOD:PUBLISH
CALSCALE:GREGORIAN
X-WR-TIMEZONE:Europe/Berlin
BEGIN:VTIMEZONE
TZID:Europe/Berlin
X-LIC-LOCATION:Europe/Berlin
BEGIN:DAYLIGHT
TZOFFSETFROM:+0100
TZOFFSETTO:+0200
TZNAME:CEST
DTSTART;TZID=Europe/Berlin:19700329T020000
RRULE:FREQ=YEARLY;INTERVAL=1;BYDAY=-1SU;BYMONTH=3
END:DAYLIGHT
BEGIN:STANDARD
TZOFFSETFROM:+0200
TZOFFSETTO:+0100
TZNAME:CET
DTSTART;TZID=Europe/Berlin:19701025T030000
RRULE:FREQ=YEARLY;INTERVAL=1;BYDAY=-1SU;BYMONTH=10
END:STANDARD
END:VTIMEZONE
BEGIN:VEVENT
DTSTAMP:20260423T195804
DTSTART;TZID=Europe/Berlin:20260203T170000
DTEND;TZID=Europe/Berlin:20260203T200000
UID:261MR2840-20260203T170000@VHSDUISBURG
SUMMARY:Druckgrafik (261MR2840) 
LOCATION:VHS FABRIK;Raum107, Steinsche Gasse 32a, 47051 Duisburg
END:VEVENT
BEGIN:VEVENT
DTSTAMP:20260423T195804
DTSTART;TZID=Europe/Berlin:20260210T170000
DTEND;TZID=Europe/Berlin:20260210T200000
UID:261MR2840-20260210T170000@VHSDUISBURG
SUMMARY:Druckgrafik (261MR2840) 
LOCATION:VHS FABRIK;Raum107, Steinsche Gasse 32a, 47051 Duisburg
END:VEVENT
BEGIN:VEVENT
DTSTAMP:20260423T195804
DTSTART;TZID=Europe/Berlin:20260217T170000
DTEND;TZID=Europe/Berlin:20260217T200000
UID:261MR2840-20260217T170000@VHSDUISBURG
SUMMARY:Druckgrafik (261MR2840) 
LOCATION:VHS FABRIK;Raum107, Steinsche Gasse 32a, 47051 Duisburg
END:VEVENT
BEGIN:VEVENT
DTSTAMP:20260423T195804
DTSTART;TZID=Europe/Berlin:20260224T170000
DTEND;TZID=Europe/Berlin:20260224T200000
UID:261MR2840-20260224T170000@VHSDUISBURG
SUMMARY:Druckgrafik (261MR2840) 
LOCATION:VHS FABRIK;Raum107, Steinsche Gasse 32a, 47051 Duisburg
END:VEVENT
BEGIN:VEVENT
DTSTAMP:20260423T195804
DTSTART;TZID=Europe/Berlin:20260303T170000
DTEND;TZID=Europe/Berlin:20260303T200000
UID:261MR2840-20260303T170000@VHSDUISBURG
SUMMARY:Druckgrafik (261MR2840) 
LOCATION:VHS FABRIK;Raum107, Steinsche Gasse 32a, 47051 Duisburg
END:VEVENT
BEGIN:VEVENT
DTSTAMP:20260423T195804
DTSTART;TZID=Europe/Berlin:20260310T170000
DTEND;TZID=Europe/Berlin:20260310T200000
UID:261MR2840-20260310T170000@VHSDUISBURG
SUMMARY:Druckgrafik (261MR2840) 
LOCATION:VHS FABRIK;Raum107, Steinsche Gasse 32a, 47051 Duisburg
END:VEVENT
BEGIN:VEVENT
DTSTAMP:20260423T195804
DTSTART;TZID=Europe/Berlin:20260317T170000
DTEND;TZID=Europe/Berlin:20260317T200000
UID:261MR2840-20260317T170000@VHSDUISBURG
SUMMARY:Druckgrafik (261MR2840) 
LOCATION:VHS FABRIK;Raum107, Steinsche Gasse 32a, 47051 Duisburg
END:VEVENT
BEGIN:VEVENT
DTSTAMP:20260423T195804
DTSTART;TZID=Europe/Berlin:20260324T170000
DTEND;TZID=Europe/Berlin:20260324T200000
UID:261MR2840-20260324T170000@VHSDUISBURG
SUMMARY:Druckgrafik (261MR2840) 
LOCATION:VHS FABRIK;Raum107, Steinsche Gasse 32a, 47051 Duisburg
END:VEVENT
BEGIN:VEVENT
DTSTAMP:20260423T195804
DTSTART;TZID=Europe/Berlin:20260414T170000
DTEND;TZID=Europe/Berlin:20260414T200000
UID:261MR2840-20260414T170000@VHSDUISBURG
SUMMARY:Druckgrafik (261MR2840) 
LOCATION:VHS FABRIK;Raum107, Steinsche Gasse 32a, 47051 Duisburg
END:VEVENT
BEGIN:VEVENT
DTSTAMP:20260423T195804
DTSTART;TZID=Europe/Berlin:20260421T170000
DTEND;TZID=Europe/Berlin:20260421T200000
UID:261MR2840-20260421T170000@VHSDUISBURG
SUMMARY:Druckgrafik (261MR2840) 
LOCATION:VHS FABRIK;Raum107, Steinsche Gasse 32a, 47051 Duisburg
END:VEVENT
BEGIN:VEVENT
DTSTAMP:20260423T195804
DTSTART;TZID=Europe/Berlin:20260428T170000
DTEND;TZID=Europe/Berlin:20260428T200000
UID:261MR2840-20260428T170000@VHSDUISBURG
SUMMARY:Druckgrafik (261MR2840) 
LOCATION:VHS FABRIK;Raum107, Steinsche Gasse 32a, 47051 Duisburg
END:VEVENT
BEGIN:VEVENT
DTSTAMP:20260423T195804
DTSTART;TZID=Europe/Berlin:20260505T170000
DTEND;TZID=Europe/Berlin:20260505T200000
UID:261MR2840-20260505T170000@VHSDUISBURG
SUMMARY:Druckgrafik (261MR2840) 
LOCATION:VHS FABRIK;Raum107, Steinsche Gasse 32a, 47051 Duisburg
END:VEVENT
BEGIN:VEVENT
DTSTAMP:20260423T195804
DTSTART;TZID=Europe/Berlin:20260512T170000
DTEND;TZID=Europe/Berlin:20260512T200000
UID:261MR2840-20260512T170000@VHSDUISBURG
SUMMARY:Druckgrafik (261MR2840) 
LOCATION:VHS FABRIK;Raum107, Steinsche Gasse 32a, 47051 Duisburg
END:VEVENT
END:VCALENDAR