BEGIN:VCALENDAR
PRODID:http://www.kufer.de/kuferweb / DE
VERSION:2.0
METHOD:PUBLISH
CALSCALE:GREGORIAN
X-WR-TIMEZONE:Europe/Berlin
BEGIN:VTIMEZONE
TZID:Europe/Berlin
X-LIC-LOCATION:Europe/Berlin
BEGIN:DAYLIGHT
TZOFFSETFROM:+0100
TZOFFSETTO:+0200
TZNAME:CEST
DTSTART;TZID=Europe/Berlin:19700329T020000
RRULE:FREQ=YEARLY;INTERVAL=1;BYDAY=-1SU;BYMONTH=3
END:DAYLIGHT
BEGIN:STANDARD
TZOFFSETFROM:+0200
TZOFFSETTO:+0100
TZNAME:CET
DTSTART;TZID=Europe/Berlin:19701025T030000
RRULE:FREQ=YEARLY;INTERVAL=1;BYDAY=-1SU;BYMONTH=10
END:STANDARD
END:VTIMEZONE
BEGIN:VEVENT
DTSTAMP:20260421T230303
DTSTART;TZID=Europe/Berlin:20260206T170000
DTEND;TZID=Europe/Berlin:20260206T191500
UID:261MR2834-20260206T170000@VHSDUISBURG
SUMMARY:Acrylmalerei Kurs (261MR2834) 
LOCATION:VHS FABRIK;Raum107, Steinsche Gasse 32a, 47051 Duisburg
END:VEVENT
BEGIN:VEVENT
DTSTAMP:20260421T230303
DTSTART;TZID=Europe/Berlin:20260213T170000
DTEND;TZID=Europe/Berlin:20260213T191500
UID:261MR2834-20260213T170000@VHSDUISBURG
SUMMARY:Acrylmalerei Kurs (261MR2834) 
LOCATION:VHS FABRIK;Raum107, Steinsche Gasse 32a, 47051 Duisburg
END:VEVENT
BEGIN:VEVENT
DTSTAMP:20260421T230303
DTSTART;TZID=Europe/Berlin:20260220T170000
DTEND;TZID=Europe/Berlin:20260220T191500
UID:261MR2834-20260220T170000@VHSDUISBURG
SUMMARY:Acrylmalerei Kurs (261MR2834) 
LOCATION:VHS FABRIK;Raum107, Steinsche Gasse 32a, 47051 Duisburg
END:VEVENT
BEGIN:VEVENT
DTSTAMP:20260421T230303
DTSTART;TZID=Europe/Berlin:20260227T170000
DTEND;TZID=Europe/Berlin:20260227T191500
UID:261MR2834-20260227T170000@VHSDUISBURG
SUMMARY:Acrylmalerei Kurs (261MR2834) 
LOCATION:VHS FABRIK;Raum107, Steinsche Gasse 32a, 47051 Duisburg
END:VEVENT
BEGIN:VEVENT
DTSTAMP:20260421T230303
DTSTART;TZID=Europe/Berlin:20260306T170000
DTEND;TZID=Europe/Berlin:20260306T191500
UID:261MR2834-20260306T170000@VHSDUISBURG
SUMMARY:Acrylmalerei Kurs (261MR2834) 
LOCATION:VHS FABRIK;Raum107, Steinsche Gasse 32a, 47051 Duisburg
END:VEVENT
BEGIN:VEVENT
DTSTAMP:20260421T230303
DTSTART;TZID=Europe/Berlin:20260313T170000
DTEND;TZID=Europe/Berlin:20260313T191500
UID:261MR2834-20260313T170000@VHSDUISBURG
SUMMARY:Acrylmalerei Kurs (261MR2834) 
LOCATION:VHS FABRIK;Raum107, Steinsche Gasse 32a, 47051 Duisburg
END:VEVENT
BEGIN:VEVENT
DTSTAMP:20260421T230303
DTSTART;TZID=Europe/Berlin:20260320T170000
DTEND;TZID=Europe/Berlin:20260320T191500
UID:261MR2834-20260320T170000@VHSDUISBURG
SUMMARY:Acrylmalerei Kurs (261MR2834) 
LOCATION:VHS FABRIK;Raum107, Steinsche Gasse 32a, 47051 Duisburg
END:VEVENT
BEGIN:VEVENT
DTSTAMP:20260421T230303
DTSTART;TZID=Europe/Berlin:20260327T170000
DTEND;TZID=Europe/Berlin:20260327T191500
UID:261MR2834-20260327T170000@VHSDUISBURG
SUMMARY:Acrylmalerei Kurs (261MR2834) 
LOCATION:VHS FABRIK;Raum107, Steinsche Gasse 32a, 47051 Duisburg
END:VEVENT
BEGIN:VEVENT
DTSTAMP:20260421T230303
DTSTART;TZID=Europe/Berlin:20260417T170000
DTEND;TZID=Europe/Berlin:20260417T191500
UID:261MR2834-20260417T170000@VHSDUISBURG
SUMMARY:Acrylmalerei Kurs (261MR2834) 
LOCATION:VHS FABRIK;Raum107, Steinsche Gasse 32a, 47051 Duisburg
END:VEVENT
BEGIN:VEVENT
DTSTAMP:20260421T230303
DTSTART;TZID=Europe/Berlin:20260424T170000
DTEND;TZID=Europe/Berlin:20260424T191500
UID:261MR2834-20260424T170000@VHSDUISBURG
SUMMARY:Acrylmalerei Kurs (261MR2834) 
LOCATION:VHS FABRIK;Raum107, Steinsche Gasse 32a, 47051 Duisburg
END:VEVENT
BEGIN:VEVENT
DTSTAMP:20260421T230303
DTSTART;TZID=Europe/Berlin:20260508T170000
DTEND;TZID=Europe/Berlin:20260508T191500
UID:261MR2834-20260508T170000@VHSDUISBURG
SUMMARY:Acrylmalerei Kurs (261MR2834) 
LOCATION:VHS FABRIK;Raum107, Steinsche Gasse 32a, 47051 Duisburg
END:VEVENT
END:VCALENDAR