BEGIN:VCALENDAR
PRODID:http://www.kufer.de/kuferweb / DE
VERSION:2.0
METHOD:PUBLISH
CALSCALE:GREGORIAN
X-WR-TIMEZONE:Europe/Berlin
BEGIN:VTIMEZONE
TZID:Europe/Berlin
X-LIC-LOCATION:Europe/Berlin
BEGIN:DAYLIGHT
TZOFFSETFROM:+0100
TZOFFSETTO:+0200
TZNAME:CEST
DTSTART;TZID=Europe/Berlin:19700329T020000
RRULE:FREQ=YEARLY;INTERVAL=1;BYDAY=-1SU;BYMONTH=3
END:DAYLIGHT
BEGIN:STANDARD
TZOFFSETFROM:+0200
TZOFFSETTO:+0100
TZNAME:CET
DTSTART;TZID=Europe/Berlin:19701025T030000
RRULE:FREQ=YEARLY;INTERVAL=1;BYDAY=-1SU;BYMONTH=10
END:STANDARD
END:VTIMEZONE
BEGIN:VEVENT
DTSTAMP:20260421T114315
DTSTART;TZID=Europe/Berlin:20260202T193000
DTEND;TZID=Europe/Berlin:20260202T210000
UID:261MR2548-20260202T193000@VHSDUISBURG
SUMMARY:Afrikanisches Trommeln Für Neulinge und Fortgeschrittene (261MR2548) 
LOCATION:VHS im Stadtfenster;Raum121, Steinsche Gasse 26, 47051 Duisburg
END:VEVENT
BEGIN:VEVENT
DTSTAMP:20260421T114315
DTSTART;TZID=Europe/Berlin:20260209T193000
DTEND;TZID=Europe/Berlin:20260209T210000
UID:261MR2548-20260209T193000@VHSDUISBURG
SUMMARY:Afrikanisches Trommeln Für Neulinge und Fortgeschrittene (261MR2548) 
LOCATION:VHS im Stadtfenster;Raum121, Steinsche Gasse 26, 47051 Duisburg
END:VEVENT
BEGIN:VEVENT
DTSTAMP:20260421T114315
DTSTART;TZID=Europe/Berlin:20260223T193000
DTEND;TZID=Europe/Berlin:20260223T210000
UID:261MR2548-20260223T193000@VHSDUISBURG
SUMMARY:Afrikanisches Trommeln Für Neulinge und Fortgeschrittene (261MR2548) 
LOCATION:VHS im Stadtfenster;Raum121, Steinsche Gasse 26, 47051 Duisburg
END:VEVENT
BEGIN:VEVENT
DTSTAMP:20260421T114315
DTSTART;TZID=Europe/Berlin:20260302T193000
DTEND;TZID=Europe/Berlin:20260302T210000
UID:261MR2548-20260302T193000@VHSDUISBURG
SUMMARY:Afrikanisches Trommeln Für Neulinge und Fortgeschrittene (261MR2548) 
LOCATION:VHS im Stadtfenster;Raum121, Steinsche Gasse 26, 47051 Duisburg
END:VEVENT
BEGIN:VEVENT
DTSTAMP:20260421T114315
DTSTART;TZID=Europe/Berlin:20260309T193000
DTEND;TZID=Europe/Berlin:20260309T210000
UID:261MR2548-20260309T193000@VHSDUISBURG
SUMMARY:Afrikanisches Trommeln Für Neulinge und Fortgeschrittene (261MR2548) 
LOCATION:VHS im Stadtfenster;Raum121, Steinsche Gasse 26, 47051 Duisburg
END:VEVENT
BEGIN:VEVENT
DTSTAMP:20260421T114315
DTSTART;TZID=Europe/Berlin:20260316T193000
DTEND;TZID=Europe/Berlin:20260316T210000
UID:261MR2548-20260316T193000@VHSDUISBURG
SUMMARY:Afrikanisches Trommeln Für Neulinge und Fortgeschrittene (261MR2548) 
LOCATION:VHS im Stadtfenster;Raum121, Steinsche Gasse 26, 47051 Duisburg
END:VEVENT
BEGIN:VEVENT
DTSTAMP:20260421T114315
DTSTART;TZID=Europe/Berlin:20260323T193000
DTEND;TZID=Europe/Berlin:20260323T210000
UID:261MR2548-20260323T193000@VHSDUISBURG
SUMMARY:Afrikanisches Trommeln Für Neulinge und Fortgeschrittene (261MR2548) 
LOCATION:VHS im Stadtfenster;Raum121, Steinsche Gasse 26, 47051 Duisburg
END:VEVENT
BEGIN:VEVENT
DTSTAMP:20260421T114315
DTSTART;TZID=Europe/Berlin:20260413T193000
DTEND;TZID=Europe/Berlin:20260413T210000
UID:261MR2548-20260413T193000@VHSDUISBURG
SUMMARY:Afrikanisches Trommeln Für Neulinge und Fortgeschrittene (261MR2548) 
LOCATION:VHS im Stadtfenster;Raum121, Steinsche Gasse 26, 47051 Duisburg
END:VEVENT
BEGIN:VEVENT
DTSTAMP:20260421T114315
DTSTART;TZID=Europe/Berlin:20260420T193000
DTEND;TZID=Europe/Berlin:20260420T210000
UID:261MR2548-20260420T193000@VHSDUISBURG
SUMMARY:Afrikanisches Trommeln Für Neulinge und Fortgeschrittene (261MR2548) 
LOCATION:VHS im Stadtfenster;Raum121, Steinsche Gasse 26, 47051 Duisburg
END:VEVENT
BEGIN:VEVENT
DTSTAMP:20260421T114315
DTSTART;TZID=Europe/Berlin:20260427T193000
DTEND;TZID=Europe/Berlin:20260427T210000
UID:261MR2548-20260427T193000@VHSDUISBURG
SUMMARY:Afrikanisches Trommeln Für Neulinge und Fortgeschrittene (261MR2548) 
LOCATION:VHS im Stadtfenster;Raum121, Steinsche Gasse 26, 47051 Duisburg
END:VEVENT
BEGIN:VEVENT
DTSTAMP:20260421T114315
DTSTART;TZID=Europe/Berlin:20260504T193000
DTEND;TZID=Europe/Berlin:20260504T210000
UID:261MR2548-20260504T193000@VHSDUISBURG
SUMMARY:Afrikanisches Trommeln Für Neulinge und Fortgeschrittene (261MR2548) 
LOCATION:VHS im Stadtfenster;Raum121, Steinsche Gasse 26, 47051 Duisburg
END:VEVENT
BEGIN:VEVENT
DTSTAMP:20260421T114315
DTSTART;TZID=Europe/Berlin:20260511T193000
DTEND;TZID=Europe/Berlin:20260511T210000
UID:261MR2548-20260511T193000@VHSDUISBURG
SUMMARY:Afrikanisches Trommeln Für Neulinge und Fortgeschrittene (261MR2548) 
LOCATION:VHS im Stadtfenster;Raum121, Steinsche Gasse 26, 47051 Duisburg
END:VEVENT
BEGIN:VEVENT
DTSTAMP:20260421T114315
DTSTART;TZID=Europe/Berlin:20260518T193000
DTEND;TZID=Europe/Berlin:20260518T210000
UID:261MR2548-20260518T193000@VHSDUISBURG
SUMMARY:Afrikanisches Trommeln Für Neulinge und Fortgeschrittene (261MR2548) 
LOCATION:VHS im Stadtfenster;Raum121, Steinsche Gasse 26, 47051 Duisburg
END:VEVENT
END:VCALENDAR