BEGIN:VCALENDAR
PRODID:http://www.kufer.de/kuferweb / DE
VERSION:2.0
METHOD:PUBLISH
CALSCALE:GREGORIAN
X-WR-TIMEZONE:Europe/Berlin
BEGIN:VTIMEZONE
TZID:Europe/Berlin
X-LIC-LOCATION:Europe/Berlin
BEGIN:DAYLIGHT
TZOFFSETFROM:+0100
TZOFFSETTO:+0200
TZNAME:CEST
DTSTART;TZID=Europe/Berlin:19700329T020000
RRULE:FREQ=YEARLY;INTERVAL=1;BYDAY=-1SU;BYMONTH=3
END:DAYLIGHT
BEGIN:STANDARD
TZOFFSETFROM:+0200
TZOFFSETTO:+0100
TZNAME:CET
DTSTART;TZID=Europe/Berlin:19701025T030000
RRULE:FREQ=YEARLY;INTERVAL=1;BYDAY=-1SU;BYMONTH=10
END:STANDARD
END:VTIMEZONE
BEGIN:VEVENT
DTSTAMP:20260421T170010
DTSTART;TZID=Europe/Berlin:20260206T163000
DTEND;TZID=Europe/Berlin:20260206T180000
UID:261MR2506-20260206T163000@VHSDUISBURG
SUMMARY:Gitarre - Kursstufe II (Fingerstyle) (261MR2506) 
LOCATION:VHS im Stadtfenster;Raum121, Steinsche Gasse 26, 47051 Duisburg
END:VEVENT
BEGIN:VEVENT
DTSTAMP:20260421T170010
DTSTART;TZID=Europe/Berlin:20260213T163000
DTEND;TZID=Europe/Berlin:20260213T180000
UID:261MR2506-20260213T163000@VHSDUISBURG
SUMMARY:Gitarre - Kursstufe II (Fingerstyle) (261MR2506) 
LOCATION:VHS im Stadtfenster;Raum121, Steinsche Gasse 26, 47051 Duisburg
END:VEVENT
BEGIN:VEVENT
DTSTAMP:20260421T170010
DTSTART;TZID=Europe/Berlin:20260220T163000
DTEND;TZID=Europe/Berlin:20260220T180000
UID:261MR2506-20260220T163000@VHSDUISBURG
SUMMARY:Gitarre - Kursstufe II (Fingerstyle) (261MR2506) 
LOCATION:VHS im Stadtfenster;Raum121, Steinsche Gasse 26, 47051 Duisburg
END:VEVENT
BEGIN:VEVENT
DTSTAMP:20260421T170010
DTSTART;TZID=Europe/Berlin:20260227T163000
DTEND;TZID=Europe/Berlin:20260227T180000
UID:261MR2506-20260227T163000@VHSDUISBURG
SUMMARY:Gitarre - Kursstufe II (Fingerstyle) (261MR2506) 
LOCATION:VHS im Stadtfenster;Raum121, Steinsche Gasse 26, 47051 Duisburg
END:VEVENT
BEGIN:VEVENT
DTSTAMP:20260421T170010
DTSTART;TZID=Europe/Berlin:20260306T163000
DTEND;TZID=Europe/Berlin:20260306T180000
UID:261MR2506-20260306T163000@VHSDUISBURG
SUMMARY:Gitarre - Kursstufe II (Fingerstyle) (261MR2506) 
LOCATION:VHS im Stadtfenster;Raum121, Steinsche Gasse 26, 47051 Duisburg
END:VEVENT
BEGIN:VEVENT
DTSTAMP:20260421T170010
DTSTART;TZID=Europe/Berlin:20260313T163000
DTEND;TZID=Europe/Berlin:20260313T180000
UID:261MR2506-20260313T163000@VHSDUISBURG
SUMMARY:Gitarre - Kursstufe II (Fingerstyle) (261MR2506) 
LOCATION:VHS im Stadtfenster;Raum121, Steinsche Gasse 26, 47051 Duisburg
END:VEVENT
BEGIN:VEVENT
DTSTAMP:20260421T170010
DTSTART;TZID=Europe/Berlin:20260320T163000
DTEND;TZID=Europe/Berlin:20260320T180000
UID:261MR2506-20260320T163000@VHSDUISBURG
SUMMARY:Gitarre - Kursstufe II (Fingerstyle) (261MR2506) 
LOCATION:VHS im Stadtfenster;Raum121, Steinsche Gasse 26, 47051 Duisburg
END:VEVENT
BEGIN:VEVENT
DTSTAMP:20260421T170010
DTSTART;TZID=Europe/Berlin:20260327T163000
DTEND;TZID=Europe/Berlin:20260327T180000
UID:261MR2506-20260327T163000@VHSDUISBURG
SUMMARY:Gitarre - Kursstufe II (Fingerstyle) (261MR2506) 
LOCATION:VHS im Stadtfenster;Raum121, Steinsche Gasse 26, 47051 Duisburg
END:VEVENT
BEGIN:VEVENT
DTSTAMP:20260421T170010
DTSTART;TZID=Europe/Berlin:20260417T163000
DTEND;TZID=Europe/Berlin:20260417T180000
UID:261MR2506-20260417T163000@VHSDUISBURG
SUMMARY:Gitarre - Kursstufe II (Fingerstyle) (261MR2506) 
LOCATION:VHS im Stadtfenster;Raum121, Steinsche Gasse 26, 47051 Duisburg
END:VEVENT
BEGIN:VEVENT
DTSTAMP:20260421T170010
DTSTART;TZID=Europe/Berlin:20260424T163000
DTEND;TZID=Europe/Berlin:20260424T180000
UID:261MR2506-20260424T163000@VHSDUISBURG
SUMMARY:Gitarre - Kursstufe II (Fingerstyle) (261MR2506) 
LOCATION:VHS im Stadtfenster;Raum121, Steinsche Gasse 26, 47051 Duisburg
END:VEVENT
END:VCALENDAR