BEGIN:VCALENDAR
PRODID:http://www.kufer.de/kuferweb / DE
VERSION:2.0
METHOD:PUBLISH
CALSCALE:GREGORIAN
X-WR-TIMEZONE:Europe/Berlin
BEGIN:VTIMEZONE
TZID:Europe/Berlin
X-LIC-LOCATION:Europe/Berlin
BEGIN:DAYLIGHT
TZOFFSETFROM:+0100
TZOFFSETTO:+0200
TZNAME:CEST
DTSTART;TZID=Europe/Berlin:19700329T020000
RRULE:FREQ=YEARLY;INTERVAL=1;BYDAY=-1SU;BYMONTH=3
END:DAYLIGHT
BEGIN:STANDARD
TZOFFSETFROM:+0200
TZOFFSETTO:+0100
TZNAME:CET
DTSTART;TZID=Europe/Berlin:19701025T030000
RRULE:FREQ=YEARLY;INTERVAL=1;BYDAY=-1SU;BYMONTH=10
END:STANDARD
END:VTIMEZONE
BEGIN:VEVENT
DTSTAMP:20260421T214431
DTSTART;TZID=Europe/Berlin:20260206T181500
DTEND;TZID=Europe/Berlin:20260206T194500
UID:261MR2502-20260206T181500@VHSDUISBURG
SUMMARY:Gitarre - Kursstufe I (Fingerstyle) Für Anfängerinnen und Anfänger (261MR2502) 
LOCATION:VHS im Stadtfenster;Raum121, Steinsche Gasse 26, 47051 Duisburg
END:VEVENT
BEGIN:VEVENT
DTSTAMP:20260421T214431
DTSTART;TZID=Europe/Berlin:20260213T181500
DTEND;TZID=Europe/Berlin:20260213T194500
UID:261MR2502-20260213T181500@VHSDUISBURG
SUMMARY:Gitarre - Kursstufe I (Fingerstyle) Für Anfängerinnen und Anfänger (261MR2502) 
LOCATION:VHS im Stadtfenster;Raum121, Steinsche Gasse 26, 47051 Duisburg
END:VEVENT
BEGIN:VEVENT
DTSTAMP:20260421T214431
DTSTART;TZID=Europe/Berlin:20260220T181500
DTEND;TZID=Europe/Berlin:20260220T194500
UID:261MR2502-20260220T181500@VHSDUISBURG
SUMMARY:Gitarre - Kursstufe I (Fingerstyle) Für Anfängerinnen und Anfänger (261MR2502) 
LOCATION:VHS im Stadtfenster;Raum121, Steinsche Gasse 26, 47051 Duisburg
END:VEVENT
BEGIN:VEVENT
DTSTAMP:20260421T214431
DTSTART;TZID=Europe/Berlin:20260227T181500
DTEND;TZID=Europe/Berlin:20260227T194500
UID:261MR2502-20260227T181500@VHSDUISBURG
SUMMARY:Gitarre - Kursstufe I (Fingerstyle) Für Anfängerinnen und Anfänger (261MR2502) 
LOCATION:VHS im Stadtfenster;Raum121, Steinsche Gasse 26, 47051 Duisburg
END:VEVENT
BEGIN:VEVENT
DTSTAMP:20260421T214431
DTSTART;TZID=Europe/Berlin:20260306T181500
DTEND;TZID=Europe/Berlin:20260306T194500
UID:261MR2502-20260306T181500@VHSDUISBURG
SUMMARY:Gitarre - Kursstufe I (Fingerstyle) Für Anfängerinnen und Anfänger (261MR2502) 
LOCATION:VHS im Stadtfenster;Raum121, Steinsche Gasse 26, 47051 Duisburg
END:VEVENT
BEGIN:VEVENT
DTSTAMP:20260421T214431
DTSTART;TZID=Europe/Berlin:20260313T181500
DTEND;TZID=Europe/Berlin:20260313T194500
UID:261MR2502-20260313T181500@VHSDUISBURG
SUMMARY:Gitarre - Kursstufe I (Fingerstyle) Für Anfängerinnen und Anfänger (261MR2502) 
LOCATION:VHS im Stadtfenster;Raum121, Steinsche Gasse 26, 47051 Duisburg
END:VEVENT
BEGIN:VEVENT
DTSTAMP:20260421T214431
DTSTART;TZID=Europe/Berlin:20260320T181500
DTEND;TZID=Europe/Berlin:20260320T194500
UID:261MR2502-20260320T181500@VHSDUISBURG
SUMMARY:Gitarre - Kursstufe I (Fingerstyle) Für Anfängerinnen und Anfänger (261MR2502) 
LOCATION:VHS im Stadtfenster;Raum121, Steinsche Gasse 26, 47051 Duisburg
END:VEVENT
BEGIN:VEVENT
DTSTAMP:20260421T214431
DTSTART;TZID=Europe/Berlin:20260327T181500
DTEND;TZID=Europe/Berlin:20260327T194500
UID:261MR2502-20260327T181500@VHSDUISBURG
SUMMARY:Gitarre - Kursstufe I (Fingerstyle) Für Anfängerinnen und Anfänger (261MR2502) 
LOCATION:VHS im Stadtfenster;Raum121, Steinsche Gasse 26, 47051 Duisburg
END:VEVENT
BEGIN:VEVENT
DTSTAMP:20260421T214431
DTSTART;TZID=Europe/Berlin:20260417T181500
DTEND;TZID=Europe/Berlin:20260417T194500
UID:261MR2502-20260417T181500@VHSDUISBURG
SUMMARY:Gitarre - Kursstufe I (Fingerstyle) Für Anfängerinnen und Anfänger (261MR2502) 
LOCATION:VHS im Stadtfenster;Raum121, Steinsche Gasse 26, 47051 Duisburg
END:VEVENT
BEGIN:VEVENT
DTSTAMP:20260421T214431
DTSTART;TZID=Europe/Berlin:20260424T181500
DTEND;TZID=Europe/Berlin:20260424T194500
UID:261MR2502-20260424T181500@VHSDUISBURG
SUMMARY:Gitarre - Kursstufe I (Fingerstyle) Für Anfängerinnen und Anfänger (261MR2502) 
LOCATION:VHS im Stadtfenster;Raum121, Steinsche Gasse 26, 47051 Duisburg
END:VEVENT
BEGIN:VEVENT
DTSTAMP:20260421T214431
DTSTART;TZID=Europe/Berlin:20260508T181500
DTEND;TZID=Europe/Berlin:20260508T194500
UID:261MR2502-20260508T181500@VHSDUISBURG
SUMMARY:Gitarre - Kursstufe I (Fingerstyle) Für Anfängerinnen und Anfänger (261MR2502) 
LOCATION:VHS im Stadtfenster;Raum121, Steinsche Gasse 26, 47051 Duisburg
END:VEVENT
BEGIN:VEVENT
DTSTAMP:20260421T214431
DTSTART;TZID=Europe/Berlin:20260515T181500
DTEND;TZID=Europe/Berlin:20260515T194500
UID:261MR2502-20260515T181500@VHSDUISBURG
SUMMARY:Gitarre - Kursstufe I (Fingerstyle) Für Anfängerinnen und Anfänger (261MR2502) 
LOCATION:VHS im Stadtfenster;Raum121, Steinsche Gasse 26, 47051 Duisburg
END:VEVENT
BEGIN:VEVENT
DTSTAMP:20260421T214431
DTSTART;TZID=Europe/Berlin:20260522T181500
DTEND;TZID=Europe/Berlin:20260522T194500
UID:261MR2502-20260522T181500@VHSDUISBURG
SUMMARY:Gitarre - Kursstufe I (Fingerstyle) Für Anfängerinnen und Anfänger (261MR2502) 
LOCATION:VHS im Stadtfenster;Raum121, Steinsche Gasse 26, 47051 Duisburg
END:VEVENT
END:VCALENDAR